Workbook

Sheet Календарь
A1: Дата отчетов | B1: =IF(WEEKDAY(B2,2)=1,B2-3,B2-1) -> 39888
A2: Текущая дата | B2: =TODAY() -> 39889
A3: Дата расчета | B3: =IF(B4=0,B1,B5) -> 39888
A4: Расчет в ручную
A5: Дата отчетов вручную | B5: =IF(WEEKDAY(B4,2)=1,B4-3,B4-1) -> -1
A6: день | B6: =DAY(B3) -> 16
A7: месяц | B7: =MONTH(B3) -> 3
A8: год | B8: =YEAR(B3) -> 2009
A9: год сокращенный | B9: =RIGHT(B8,2) -> 09
A10: день недели | B10: =WEEKDAY(B3,2) -> 1
A11: номер недели | B11: =WEEKNUM(B3) -> 12 | C11: =WEEKNUM(B3,1) -> 12
A13: индекс | B13: =B7&B9 -> 309
B14: =MONTH(B3)&RIGHT(YEAR(B3),2) -> 309
A16: предыдущая рабочая дата | B16: =IF(B10=6,B3-2,IF(B10=7,B3-3,B3-1)) -> 39887
A17: начало месяца текущего | B17: =DATE(B8,B7,1) -> 39873
A18: Конец месяца предыдущего | B18: =$B$1-DAY($B$1) -> 39872
A19: Отработано рабочих дней | B19: =NETWORKDAYS(B17,B3) -> 11
H21: 39778

Sheet Кадры_производство (2)
B2: Факт
C3: Смена №1 | D3: Смена №1 | E3: Смена №1 | F3: Смена №1 | G3: Смена №1 | H3: Смена №1 | I3: Смена №1 | J3: Смена №1 | K3: Смена №1 | L3: Смена №1 | M3: Смена №1 | N3: Смена №1 | O3: Смена №1 | P3: Смена №1 | Q3: Смена №1 | R3: Смена №1 | S3: Смена №1 | T3: Смена №1
C4: Прошло по посту №1 | D4: Прошло по посту №2 | E4: Прошло по посту №3 | F4: Прошло по посту №4 | G4: Прошло по посту №5 | H4: Прошло по посту № Т1 | I4: Прошло по посту №6 | J4: Прошло по посту №7 | K4: Прошло по посту №8 | L4: Прошло по посту №9 | M4: Прошло по посту № Т2 | N4: Прошло по посту №10 | O4: Прошло по посту №11 | P4: Прошло по посту №12 | Q4: Прошло по посту №14 | R4: Консервация | S4: Сборка кабин | T4: Сборка капотов
A6: =MONTH(B6)&RIGHT(YEAR(B6),2) -> 1108 | B6: 39753
A7: =MONTH(B7)&RIGHT(YEAR(B7),2) -> 1108 | B7: 39754
A8: =MONTH(B8)&RIGHT(YEAR(B8),2) -> 1108 | B8: 39755
A9: =MONTH(B9)&RIGHT(YEAR(B9),2) -> 1108 | B9: 39756
A10: =MONTH(B10)&RIGHT(YEAR(B10),2) -> 1108 | B10: 39757
A11: =MONTH(B11)&RIGHT(YEAR(B11),2) -> 1108 | B11: 39758
A12: =MONTH(B12)&RIGHT(YEAR(B12),2) -> 1108 | B12: 39759
A13: =MONTH(B13)&RIGHT(YEAR(B13),2) -> 1108 | B13: 39760
A14: =MONTH(B14)&RIGHT(YEAR(B14),2) -> 1108 | B14: 39761
A15: =MONTH(B15)&RIGHT(YEAR(B15),2) -> 1108 | B15: 39762 | C15: 3 | D15: 4 | E15: 5 | F15: 5 | G15: 1 | H15: 2 | I15: 2 | J15: 5 | K15: 4 | L15: 2 | Q15: 1 | R15: 6
A16: =MONTH(B16)&RIGHT(YEAR(B16),2) -> 1108 | B16: 39763 | C16: 3 | D16: 2 | E16: 5 | F16: 5 | G16: 1 | H16: 2 | I16: 3 | J16: 5 | K16: 4 | L16: 2
A17: =MONTH(B17)&RIGHT(YEAR(B17),2) -> 1108 | B17: 39764 | C17: 3 | D17: 4 | E17: 5 | F17: 5 | G17: 2 | H17: 2 | I17: 3 | J17: 5 | K17: 4 | L17: 2
A18: =MONTH(B18)&RIGHT(YEAR(B18),2) -> 1108 | B18: 39765
A19: =MONTH(B19)&RIGHT(YEAR(B19),2) -> 1108 | B19: 39766 | C19: 3 | D19: 4 | E19: 5 | F19: 5 | G19: 2 | H19: 2 | I19: 3 | J19: 5 | K19: 4 | L19: 2
A20: =MONTH(B20)&RIGHT(YEAR(B20),2) -> 1108 | B20: 39767
A21: =MONTH(B21)&RIGHT(YEAR(B21),2) -> 1108 | B21: 39768
A22: =MONTH(B22)&RIGHT(YEAR(B22),2) -> 1108 | B22: 39769 | C22: 3 | D22: 4 | E22: 5 | F22: 5 | G22: 2 | H22: 2 | I22: 3 | J22: 5 | K22: 4 | L22: 2 | N22: 2 | O22: 2 | P22: 1 | Q22: 1 | R22: 6
A23: =MONTH(B23)&RIGHT(YEAR(B23),2) -> 1108 | B23: 39770 | C23: 3 | D23: 4 | E23: 5 | F23: 5 | G23: 2 | H23: 2 | I23: 3 | J23: 5 | K23: 4 | L23: 2 | N23: 2 | O23: 2 | P23: 1 | Q23: 1 | R23: 6
A24: =MONTH(B24)&RIGHT(YEAR(B24),2) -> 1108 | B24: 39771 | C24: 3 | D24: 4 | E24: 5 | F24: 5 | G24: 2 | H24: 2 | I24: 3 | J24: 5 | K24: 4 | L24: 2 | N24: 2 | O24: 1 | P24: 1 | Q24: 2 | R24: 6
A25: =MONTH(B25)&RIGHT(YEAR(B25),2) -> 1108 | B25: 39772 | C25: 3 | D25: 4 | E25: 5 | F25: 5 | G25: 2 | H25: 2 | I25: 3 | J25: 5 | K25: 4 | L25: 2 | N25: 2 | O25: 1 | P25: 1 | Q25: 2 | R25: 6
A26: =MONTH(B26)&RIGHT(YEAR(B26),2) -> 1108 | B26: 39773 | C26: 3 | D26: 4 | E26: 5 | F26: 5 | G26: 2 | H26: 2 | I26: 3 | J26: 5 | K26: 5 | L26: 2 | N26: 2 | O26: 1 | P26: 1 | Q26: 2 | R26: 5
A27: =MONTH(B27)&RIGHT(YEAR(B27),2) -> 1108 | B27: 39774
A28: =MONTH(B28)&RIGHT(YEAR(B28),2) -> 1108 | B28: 39775
A29: =MONTH(B29)&RIGHT(YEAR(B29),2) -> 1108 | B29: 39776 | C29: 3 | D29: 4 | E29: 5 | F29: 5 | G29: 1 | H29: 2 | I29: 3 | J29: 5 | K29: 5 | L29: 2 | N29: 2 | O29: 1 | P29: 2 | Q29: 3 | R29: 6
A30: =MONTH(B30)&RIGHT(YEAR(B30),2) -> 1108 | B30: 39777 | C30: 3 | D30: 4 | E30: 5 | F30: 5 | G30: 2 | H30: 2 | I30: 4 | J30: 6 | K30: 4 | L30: 2 | N30: 2 | O30: 1 | P30: 2 | Q30: 3 | R30: 6
A31: =MONTH(B31)&RIGHT(YEAR(B31),2) -> 1108 | B31: 39778 | C31: 3 | D31: 4 | E31: 5 | F31: 5 | G31: 2 | H31: 2 | I31: 3 | J31: 6 | K31: 4 | L31: 2 | N31: 2 | O31: 1 | P31: 2 | Q31: 3 | R31: 6
A32: =MONTH(B32)&RIGHT(YEAR(B32),2) -> 1108 | B32: 39779 | C32: 3 | D32: 4 | E32: 5 | F32: 5 | G32: 2 | H32: 2 | I32: 4 | J32: 6 | K32: 4 | L32: 2 | N32: 2 | O32: 1 | P32: 2 | Q32: 3 | R32: 6
A33: =MONTH(B33)&RIGHT(YEAR(B33),2) -> 1108 | B33: 39780 | C33: 3 | D33: 4 | E33: 5 | F33: 5 | G33: 2 | H33: 2 | I33: 4 | J33: 6 | K33: 4 | L33: 2 | N33: 2 | O33: 1 | P33: 2 | Q33: 3 | R33: 6
A34: =MONTH(B34)&RIGHT(YEAR(B34),2) -> 1108 | B34: 39781
A35: =MONTH(B35)&RIGHT(YEAR(B35),2) -> 1108 | B35: 39782
A36: =MONTH(B36)&RIGHT(YEAR(B36),2) -> 1208 | B36: 39783 | C36: 3 | D36: 4 | E36: 5 | F36: 5 | G36: 2 | H36: 2 | I36: 3 | J36: 6 | K36: 4 | L36: 2 | N36: 2 | O36: 1 | P36: 1 | Q36: 3
A37: =MONTH(B37)&RIGHT(YEAR(B37),2) -> 1208 | B37: 39784 | C37: 3 | D37: 4 | E37: 5 | F37: 5 | G37: 2 | H37: 2 | I37: 3 | J37: 6 | K37: 4 | L37: 3 | N37: 2 | O37: 1 | P37: 2 | Q37: 3
A38: =MONTH(B38)&RIGHT(YEAR(B38),2) -> 1208 | B38: 39785 | C38: 3 | D38: 4 | E38: 5 | F38: 5 | G38: 2 | H38: 2 | I38: 3 | J38: 6 | K38: 4 | L38: 3 | N38: 2 | O38: 1 | P38: 2 | Q38: 1 | R38: 6
A39: =MONTH(B39)&RIGHT(YEAR(B39),2) -> 1208 | B39: 39786 | C39: 3 | D39: 4 | E39: 5 | F39: 5 | G39: 2 | H39: 2 | I39: 3 | J39: 6 | K39: 4 | L39: 2 | N39: 1 | O39: 1 | P39: 2 | Q39: 3
A40: =MONTH(B40)&RIGHT(YEAR(B40),2) -> 1208 | B40: 39787 | C40: 3 | D40: 4 | E40: 5 | F40: 5 | G40: 2 | H40: 2 | I40: 3 | J40: 5 | K40: 4 | L40: 2 | N40: 1 | O40: 1 | P40: 2 | Q40: 3 | R40: 1 | S40: 5
A41: =MONTH(B41)&RIGHT(YEAR(B41),2) -> 1208 | B41: 39788
A42: =MONTH(B42)&RIGHT(YEAR(B42),2) -> 1208 | B42: 39789
A43: =MONTH(B43)&RIGHT(YEAR(B43),2) -> 1208 | B43: 39790 | C43: 3 | D43: 4 | E43: 5 | F43: 5 | G43: 2 | H43: 2 | I43: 3 | J43: 5 | K43: 4 | L43: 2 | N43: 1 | O43: 1 | P43: 2 | Q43: 3 | R43: 1 | S43: 3 | T43: 2
A44: =MONTH(B44)&RIGHT(YEAR(B44),2) -> 1208 | B44: 39791 | C44: 3 | D44: 4 | E44: 5 | F44: 5 | G44: 2 | H44: 2 | I44: 3 | J44: 6 | K44: 4 | L44: 2
A45: =MONTH(B45)&RIGHT(YEAR(B45),2) -> 1208 | B45: 39792 | C45: 3 | D45: 4 | E45: 5 | F45: 5 | G45: 2 | H45: 2 | I45: 3 | J45: 6 | K45: 4 | L45: 2 | N45: 1 | O45: 1 | P45: 2 | Q45: 1 | R45: 1
A46: =MONTH(B46)&RIGHT(YEAR(B46),2) -> 1208 | B46: 39793 | C46: 3 | D46: 4 | E46: 5 | F46: 5 | G46: 2 | H46: 2 | I46: 3 | J46: 6 | K46: 4 | L46: 2 | N46: 1 | O46: 1 | P46: 2 | Q46: 3 | R46: 1
A47: =MONTH(B47)&RIGHT(YEAR(B47),2) -> 1208 | B47: 39794 | C47: 3 | D47: 4 | E47: 5 | F47: 5 | G47: 2 | H47: 2 | I47: 3 | J47: 6 | K47: 4 | L47: 3 | N47: 1 | O47: 1 | P47: 2 | Q47: 1 | R47: 4 | S47: 3 | T47: 2
A48: =MONTH(B48)&RIGHT(YEAR(B48),2) -> 1208 | B48: 39795
A49: =MONTH(B49)&RIGHT(YEAR(B49),2) -> 1208 | B49: 39796
A50: =MONTH(B50)&RIGHT(YEAR(B50),2) -> 1208 | B50: 39797 | C50: 3 | D50: 4 | E50: 5 | F50: 5 | G50: 2 | H50: 2 | I50: 3 | J50: 6 | K50: 4 | L50: 3 | N50: 1 | O50: 1 | P50: 2 | Q50: 3 | R50: 1 | S50: 5
A51: =MONTH(B51)&RIGHT(YEAR(B51),2) -> 1208 | B51: 39798 | C51: 3 | D51: 4 | E51: 5 | F51: 5 | G51: 2 | H51: 2 | I51: 3 | J51: 6 | K51: 4 | L51: 2 | N51: 1 | O51: 2 | P51: 2 | Q51: 3 | R51: 1 | S51: 4 | T51: 1
A52: =MONTH(B52)&RIGHT(YEAR(B52),2) -> 1208 | B52: 39799 | C52: 3 | D52: 4 | E52: 5 | F52: 5 | G52: 2 | H52: 2 | I52: 3 | J52: 6 | K52: 4 | L52: 2 | N52: 2 | O52: 1 | P52: 2 | R52: 1 | S52: 4 | T52: 1
A53: =MONTH(B53)&RIGHT(YEAR(B53),2) -> 1208 | B53: 39800 | C53: 3 | D53: 4 | E53: 5 | F53: 5 | G53: 2 | H53: 2 | I53: 3 | J53: 6 | K53: 4 | L53: 2 | N53: 1 | O53: 1 | P53: 2 | Q53: 2 | S53: 4 | T53: 1
A54: =MONTH(B54)&RIGHT(YEAR(B54),2) -> 1208 | B54: 39801
A55: =MONTH(B55)&RIGHT(YEAR(B55),2) -> 1208 | B55: 39802
A56: =MONTH(B56)&RIGHT(YEAR(B56),2) -> 1208 | B56: 39803
A57: =MONTH(B57)&RIGHT(YEAR(B57),2) -> 1208 | B57: 39804
A58: =MONTH(B58)&RIGHT(YEAR(B58),2) -> 1208 | B58: 39805
A59: =MONTH(B59)&RIGHT(YEAR(B59),2) -> 1208 | B59: 39806
A60: =MONTH(B60)&RIGHT(YEAR(B60),2) -> 1208 | B60: 39807
A61: =MONTH(B61)&RIGHT(YEAR(B61),2) -> 1208 | B61: 39808
A62: =MONTH(B62)&RIGHT(YEAR(B62),2) -> 1208 | B62: 39809
A63: =MONTH(B63)&RIGHT(YEAR(B63),2) -> 1208 | B63: 39810
A64: =MONTH(B64)&RIGHT(YEAR(B64),2) -> 1208 | B64: 39811
A65: =MONTH(B65)&RIGHT(YEAR(B65),2) -> 1208 | B65: 39812
A66: =MONTH(B66)&RIGHT(YEAR(B66),2) -> 1208 | B66: 39813

Sheet Отчет по номерам КР.УЗЛ 1221 
A1: Даты прохождения техники Беларус-1221
A2: № п/п | B2: Номер трактора | C2: Дата отгрузки | D2: Дата прихода | E2: Дата сдачи | F2: Дата отгрузки с ОАО "Сарэкс" | G2: Куда отправлен
C3: Сентябрь 2007г.
A4: 1 | B4: 12025204 | C4: 39354 | D4: 39363 | E4: 39370 | F4: 39374 | G4: ЕЛАЗ
A5: 2 | B5: 12025205 | C5: 39354 | D5: 39363 | E5: 39366 | F5: 39366 | G5: ЕЛАЗ
A6: 3 | B6: 12025206 | C6: 39354 | D6: 39363 | E6: 39366 | F6: 39366 | G6: ЕЛАЗ
A7: 4 | B7: 12025207 | C7: 39354 | D7: 39363 | E7: 39370 | F7: 39373 | G7: Тамбов
A8: 5 | B8: 12025208 | C8: 39354 | D8: 39363 | E8: 39370 | F8: 39373 | G8: Казань
A9: 6 | B9: 12025209 | C9: 39354 | D9: 39363 | E9: 39366 | F9: 39366
A10: 7 | B10: 12025210 | C10: 39354 | D10: 39363 | E10: 39370 | F10: 39378
A11: 8 | B11: 12025211 | C11: 39354 | D11: 39363 | E11: 39371 | F11: 39377 | G11: ЕЛАЗ
A12: 9 | B12: 12025212 | C12: 39354 | D12: 39363 | E12: 39366 | F12: 39366 | G12: ЕЛАЗ
A13: 10 | B13: 12025213 | C13: 39354 | D13: 39363 | E13: 39366 | F13: 39366 | G13: ЕЛАЗ
A14: 11 | B14: 12025214 | C14: 39354 | D14: 39363 | E14: 39370 | F14: 39377 | G14: ЕЛАЗ
A15: 12 | B15: 12025215 | C15: 39354 | D15: 39363 | E15: 39370 | F15: 39374 | G15: ЕЛАЗ
A16: 13 | B16: 12025216 | C16: 39354 | D16: 39363 | E16: 39366 | F16: 39366 | G16: ЕЛАЗ
A17: 14 | B17: 12025217 | C17: 39354 | D17: 39363 | E17: 39366 | F17: 39366 | G17: Елабуга
A18: 15 | B18: 12025218 | C18: 39354 | D18: 39363 | E18: 39366 | F18: 39366 | G18: Елабуга
A19: 16 | B19: 12025219 | C19: 39354 | D19: 39363 | E19: 39366 | F19: 39366 | G19: Елабуга
A20: 17 | B20: 12025220 | C20: 39354 | D20: 39363 | E20: 39366 | F20: 39366 | G20: Елабуга
A21: 18 | B21: 12025221 | C21: 39354 | D21: 39363 | E21: 39370 | F21: 39371 | G21: Казань
A22: 19 | B22: 12025222 | C22: 39354 | D22: 39363 | E22: 39366 | F22: 39366 | G22: ЕЛАЗ
... A26: 23 | B26: 12025226 | C26: 39354 | D26: 39363 | E26: 39370 | F26: 39374 | G26: ЕЛАЗ
A27: 24 | B27: 12025227 | C27: 39354 | D27: =$D$4 -> 39363 | E27: 39370 | F27: 39378
A28: 25 | B28: 12025228 | C28: 39354 | D28: =$D$4 -> 39363 | E28: 39366 | F28: 39366 | G28: ЕЛАЗ
A29: 26 | B29: 12025229 | C29: 39354 | D29: =$D$4 -> 39363 | E29: 39370 | F29: 39374 | G29: ЕЛАЗ
A30: 27 | B30: 12025230 | C30: 39354 | D30: =$D$4 -> 39363 | E30: 39370 | F30: 39377 | G30: ЕЛАЗ
A31: 28 | B31: 12025231 | C31: 39354 | D31: =$D$4 -> 39363 | E31: 39370 | F31: 39379 | G31: ЕЛАЗ
A32: 29 | B32: 12025232 | C32: 39354 | D32: =$D$4 -> 39363 | E32: 39370 | F32: 39370 | G32: Ставрополь
A33: 30 | B33: 12025233 | C33: 39354 | D33: =$D$4 -> 39363 | E33: 39366 | F33: 39366 | G33: ЕЛАЗ
A34: 31 | B34: 12025234 | C34: 39354 | D34: =$D$4 -> 39363 | E34: 39366 | F34: 39366 | G34: ЕЛАЗ
A35: 32 | B35: 12025235 | C35: 39354 | D35: =$D$4 -> 39363 | E35: 39370 | F35: 39370 | G35: Ставрополь
A36: 33 | B36: 12025236 | C36: 39354 | D36: =$D$4 -> 39363 | E36: 39366 | F36: 39366 | G36: ЕЛАЗ
A37: 34 | B37: 12025237 | C37: 39354 | D37: =$D$4 -> 39363 | E37: 39370 | F37: 39370 | G37: ЕЛАЗ
A38: 35 | B38: 12025238 | C38: 39354 | D38: =$D$4 -> 39363 | E38: 39370 | F38: 39379 | G38: ЕЛАЗ
A39: 36 | B39: 12025239 | C39: 39354 | D39: =$D$4 -> 39363 | E39: 39366 | F39: 39366 | G39: ЕЛАЗ
A40: 37 | B40: 12025240 | C40: 39354 | D40: =$D$4 -> 39363 | E40: 39370 | F40: 39377 | G40: Ростов
A41: 38 | B41: 12025241 | C41: 39354 | D41: =$D$4 -> 39363 | E41: 39370 | F41: 39374
A42: 39 | B42: 12025242 | C42: 39354 | D42: =$D$4 -> 39363 | E42: 39370 | F42: 39370 | G42: Казань
A43: 40 | B43: 12025243 | C43: 39354 | D43: =$D$4 -> 39363 | E43: 39370 | F43: 39377 | G43: ЕЛАЗ
A44: 41 | B44: 12025244 | C44: 39354 | D44: =$D$4 -> 39363 | E44: 39380 | F44: 39386 | G44: Липецк
A45: 42 | B45: 12025245 | C45: 39354 | D45: =$D$4 -> 39363 | E45: 39370 | F45: 39371 | G45: Казань
A46: 43 | B46: 12025246 | C46: 39354 | D46: =$D$4 -> 39363 | E46: 39366 | F46: 39366 | G46: ЕЛАЗ
A47: 44 | B47: 12025247 | C47: 39354 | D47: =$D$4 -> 39363 | E47: 39370 | F47: 39377 | G47: ЕЛАЗ
A48: 45 | B48: 12025248 | C48: 39354 | D48: =$D$4 -> 39363 | E48: 39370 | F48: 39374 | G48: ЕЛАЗ
A49: 46 | B49: 12025249 | C49: 39354 | D49: =$D$4 -> 39363 | E49: 39366 | F49: 39366 | G49: Елабуга
A50: 47 | B50: 12025250 | C50: 39354 | D50: =$D$4 -> 39363 | E50: 39370 | F50: 39377 | G50: ЕДАЗ
A51: 48 | B51: 12025252 | C51: 39354 | D51: =$D$4 -> 39363 | E51: 39370 | F51: 39370 | G51: Ставрополь
A52: 49 | B52: 12025253 | C52: 39354 | D52: =$D$4 -> 39363 | E52: 39366 | F52: 39366 | G52: ЕЛАЗ
A53: 50 | B53: 12025254 | C53: 39354 | D53: =$D$4 -> 39363 | E53: 39370 | F53: 39374 | G53: ЕЛАЗ
A54: 51 | B54: 12025255 | C54: 39354 | D54: 39363 | E54: 39366 | F54: 39366 | G54: ЕЛАЗ
B56: Итого: | C56: 51 | D56: 51 | E56: 0 | F56: 0
C58: Октябрь 2007г.
A59: 1 | B59: 12025251 | C59: 39366 | D59: 39370 | E59: 39377 | F59: 39386 | G59: Ессентуки
A60: 2 | B60: 12025256 | C60: 39366 | D60: 39370 | E60: 21.11.2007г | F60: 39409 | G60: ЕЛАЗ
A61: 3 | B61: 12025257 | C61: 39366 | D61: 39370 | E61: 39463 | F61: 39506
A62: 4 | B62: 12025259 | C62: 39366 | D62: 39370 | E62: 39379 | F62: 39407 | G62: Ижевск
A63: 5 | B63: 12025260 | C63: 39366 | D63: 39370 | E63: 39407 | F63: 39485 | G63: Саранск
A64: 6 | B64: 12025261 | C64: 39366 | D64: 39370 | E64: 39379 | F64: 39381 | G64: ЕЛАЗ
A65: 7 | B65: 12025262 | C65: 39366 | D65: 39370 | E65: 39373 | F65: 39378 | G65: Волгоград
A66: 8 | B66: 12025263 | C66: 39366 | D66: 39370 | E66: 39379 | F66: 39381 | G66: ЕЛАЗ
A67: 9 | B67: 12025264 | C67: 39366 | D67: 39370 | E67: 39380 | F67: 39388 | G67: ЕЛАЗ
A68: 10 | B68: 12025265 | C68: 39366 | D68: 39370 | E68: 39379 | F68: 39381 | G68: ЕЛАЗ
A69: 11 | B69: 12025266 | C69: 39366 | D69: 39370 | E69: 39373 | F69: 39378 | G69: Ставрополь
A70: 12 | B70: 12025267 | C70: 39366 | D70: 39370 | E70: 39379 | F70: 39381 | G70: Липецк
A71: 13 | B71: 12025269 | C71: 39366 | D71: 39370 | E71: 39386 | F71: 39388 | G71: ЕЛАЗ
A72: 14 | B72: 12025270 | C72: 39366 | D72: 39370 | E72: 39408 | F72: 39413 | G72: ЕЛАЗ
A73: 15 | B73: 12025271 | C73: 39366 | D73: 39370 | E73: 39400 | F73: 39405 | G73: Белгород
A74: 16 | B74: 12025272 | C74: 39366 | D74: 39370 | E74: 39407 | F74: 39409 | G74: Белгород
A75: 17 | B75: 12025273 | C75: 39366 | D75: 39370 | E75: 39379 | F75: 39381 | G75: Ставрополь | J75: .
A76: 18 | B76: 12025274 | C76: 39380 | D76: 39384 | E76: 39392 | F76: 39395 | G76: Елабуга
A77: 19 | B77: 12025275 | C77: 39366 | D77: 39370 | E77: 39381 | F77: 39387 | G77: Ижевск
A78: 20 | B78: 12025276 | C78: 39366 | D78: 39370 | E78: 39381 | F78: 39386 | G78: Тамбов
A79: 21 | B79: 12025277 | C79: 39366 | D79: 39370 | E79: 39399 | F79: 39402 | G79: Оренбург
A80: 22 | B80: 12025278 | C80: 39366 | D80: 39370 | E80: 39386 | F80: 39388 | G80: ЕЛАЗ
A81: 23 | B81: 12025279 | C81: 39366 | D81: 39370 | E81: 39416 | F81: 39434 | G81: Алтай
A82: 24 | B82: 12025280 | C82: 39366 | D82: 39370 | E82: 39379 | F82: 39381 | G82: Волгоград
A83: 25 | B83: 12025281 | C83: 39366 | D83: 39370 | E83: 39381 | F83: 39587 | G83: Барнаул
A84: 26 | B84: 12025282 | C84: 39366 | D84: 39370 | E84: 39380 | F84: 39392 | G84: Тамбов
A85: 27 | B85: 12025283 | C85: 39366 | D85: 39370 | E85: 39386 | F85: 39388 | G85: ЕЛАЗ
A86: 28 | B86: 12025284 | C86: 39366 | D86: 39370 | E86: 39408 | F86: 39419 | G86: Тула
A87: 29 | B87: 12025285 | C87: 39366 | D87: 39370 | E87: 39413 | F87: 39416 | G87: ЕЛАЗ
... A110: 52 | B110: 12025309 | C110: 39366 | D110: 39370 | E110: 39381 | F110: 39386 | G110: Липецк
A111: 53 | B111: 12025310 | C111: 39366 | D111: 39370 | E111: 39381 | F111: 39386
A112: 54 | B112: 12025311 | C112: 39366 | D112: 39370 | E112: 39381 | F112: 39587 | G112: Барнаул
A113: 55 | B113: 12025312 | C113: 39366 | D113: 39370 | E113: 39377 | F113: 39379 | G113: Саратов
A114: 56 | B114: 12025313 | C114: 39366 | D114: 39370 | E114: 39406 | F114: 39413 | G114: ЕЛАЗ
A115: 57 | B115: 12025314 | C115: 39366 | D115: 39370 | E115: 39379 | F115: 39381 | G115: ЕЛАЗ
A116: 58 | B116: 12025315 | C116: 39366 | D116: 39370 | E116: 39406 | F116: 39413 | G116: Саранск
A117: 59 | B117: 12025316 | C117: 39366 | D117: 39370 | E117: 39379 | F117: 39381 | G117: ЕЛАЗ
A118: 60 | B118: 12005317 | C118: 39366 | D118: 39370 | E118: 39413 | F118: 39414 | G118: ЕЛАЗ
A119: 61 | B119: 12025318 | C119: 39366 | D119: 39370 | E119: 39399 | F119: 39405 | G119: Воронеж
A120: 62 | B120: 12025319 | C120: 39366 | D120: 39370 | E120: 39413 | F120: 39441 | G120: Белгород
A121: 63 | B121: 12025320 | C121: 39366 | D121: 39370 | E121: 39379 | F121: 39381 | G121: Волгоград
A122: 64 | B122: 12025321 | C122: 39366 | D122: 39370 | E122: 39377 | F122: 39379
A123: 65 | B123: 12025322 | C123: 39366 | D123: 39370 | E123: 39373 | F123: 39378 | G123: Волгоград
A124: 66 | B124: 12025323 | C124: 39366 | D124: 39370 | E124: 39379 | F124: 39386 | G124: Вятка
A125: 67 | B125: 12025324 | C125: 39366 | D125: 39370 | E125: 39380 | F125: 39384 | G125: Киров
A126: 68 | B126: 12025325 | C126: 39366 | D126: 39370 | E126: 39380 | F126: 39398
A127: 69 | B127: 12025326 | C127: 39366 | D127: 39370 | E127: 39402 | F127: 39409 | G127: ЕЛАЗ
...

Sheet Отчет по номерам 1221
A1: =Календарь!B1 -> 39888
A3: Даты прохождения техники Беларус-1221 | H3: Реализован | I3: Номера комплектующих
A4: № п.п. | B4: № изделия | C4: Сход с конвейера | D4: Доводка | E4: Товарный двор | F4: Окраска | G4: Сбыт | I4: Двигатель | J4: ТНВД | K4: Турбокомпрессор | L4: Трансмиссия | M4: Мост передний | N4: Кабина | O4: КПП | P4: Корпус гидросистемы | Q4: Рулевая колонка | R4: Гидроподъемник | S4: Радиатор | T4: Колеса
A5: 1 | B5: 1 | C5: 39332 | E5: 39335 | G5: 39358 | H5: ООО "ТД МТЗ-ЕлАз" | I5: 59191 | L5: 28194 | M5: 31785-05 | N5: 69345 | O5: 20609 | P5: 734594 | Q5: 728437 | S5: 2970079
A6: 2 | B6: 2 | C6: 39332 | E6: 39335 | G6: 39358 | H6: ООО "ТД МТЗ-ЕлАз" | I6: 58769 | L6: 28105 | M6: 31789-05 | N6: 60144 | O6: 10442 | P6: 734410 | Q6: 728476 | S6: 2970080
A7: 3 | B7: 3 | C7: 39332 | E7: 39337 | G7: 39357 | H7: ООО "ТД МТЗ-ЕлАз" | I7: 59212 | L7: 28198 | M7: 28777-05 | N7: 60143 | O7: 20628 | P7: 734407 | Q7: 128462 | S7: 2970070
A8: 4 | B8: 4 | C8: 39333 | E8: 39335 | G8: 39364 | H8: ООО "ТД МТЗ-ЕлАз" | I8: 59190 | L8: 28190 | M8: 31796-05 | N8: 59528 | O8: 20601 | P8: 734654 | Q8: 128461 | S8: 2970089
A9: 5 | B9: 5 | C9: 39333 | E9: 39335 | G9: 39363 | H9: ООО "ТД МТЗ-ЕлАз" | I9: 59218 | L9: 28107 | M9: 31787 | N9: 59346 | O9: 15696 | P9: 732120 | Q9: 728465 | S9: 2970083
A10: 6 | B10: 6 | C10: 39333 | E10: 39335 | G10: 39358 | H10: ООО "ТД МТЗ-ЕлАз" | I10: 59185 | L10: 28120 | M10: 31780-05 | N10: 59272 | P10: 735727 | Q10: 28454 | S10: 2970086
A11: 7 | B11: 7 | C11: 39333 | E11: 39337 | G11: 39357 | H11: ООО "ТД МТЗ-ЕлАз" | I11: 59189 | L11: 28125 | M11: 31793-05 | N11: 59350 | O11: 20475 | P11: 735563 | Q11: 728456 | S11: 2970091
A12: 8 | B12: 8 | C12: 39335 | E12: 39337 | G12: 39370 | H12: ООО "ТД МТЗ-ЕлАз"
A13: 9 | B13: 9 | C13: 39335 | E13: 39335 | G13: 39366 | H13: ООО "ТД МТЗ-Ставрополь" | I13: 59225 | L13: 28129 | M13: 34739 | N13: 59148 | O13: 20468 | P13: 732279 | Q13: 728478 | S13: 2970085
A14: 10 | B14: 10 | C14: 39335 | E14: 39335 | G14: 39335 | H14: ИП Глава КФХ Корнилова Н.А. | I14: 59220 | L14: 28152 | M14: 34734 | N14: 59405 | P14: 732280 | Q14: 728460 | S14: 2970088
A15: 11 | B15: 11 | C15: 39335 | E15: 39338 | G15: 39366 | H15: ООО "ТД МТЗ-Ставрополь" | I15: 59187 | L15: 28127 | M15: 2972 | N15: 59513 | P15: 732871 | Q15: 728457 | S15: 3070030
A16: 12 | B16: 12 | C16: 39335 | E16: 39371 | G16: 39373 | H16: ООО "ТД МТЗ-ЕлАз" | I16: 59223 | L16: 28113 | M16: 31795 | N16: 59266 | P16: 732870 | Q16: 728469
A17: 13 | B17: 13 | C17: 39336 | E17: 39349 | G17: 39363 | H17: ООО "ТД МТЗ-ЕлАз" | I17: 59222 | L17: 28118 | M17: 34713-05 | N17: 59351 | P17: 734408 | Q17: 728444 | S17: 3070027
A18: 14 | B18: 14 | C18: 39336 | E18: 39338 | G18: 39358 | H18: ООО "ТД МТЗ-ЕлАз" | I18: 59293 | L18: 28204 | M18: 33718-05 | N18: 59451 | P18: 734589 | Q18: 128463 | S18: 287016
A19: 15 | B19: 15 | C19: 39337 | E19: 39338 | G19: 39366 | H19: ООО "ТД МТЗ-Ставрополь" | I19: 59303 | L19: 28221 | M19: 37792-05 | N19: 59347 | O19: 20664 | P19: 734413 | Q19: 728464 | S19: 3070059
A20: 16 | B20: 16 | C20: 39337 | E20: 39339 | G20: 39363 | H20: ООО "ТД МТЗ-ЕлАз" | I20: 59188 | L20: 28117 | M20: 34718 | N20: 59512 | P20: 734790 | Q20: 728472 | S20: 2570179
A21: 17 | B21: 17 | C21: 39337 | E21: 39342 | G21: 39366 | H21: ООО "ТД МТЗ-Ставрополь" | I21: 59304 | N21: 61099 | P21: 736008 | Q21: 728468 | S21: 287017
A22: 18 | B22: 18 | C22: 39337 | E22: 39339 | G22: 39373 | H22: ОАО "Росагролизинг" | I22: 59221 | L22: 28207 | M22: 28773 | N22: 59618 | O22: 20634 | P22: 734994 | Q22: 728459
A23: 19 | B23: 19 | C23: 39338 | E23: 39342 | G23: 39363 | H23: ООО "ТД МТЗ-ЕлАз" | I23: 59302 | L23: 28205 | M23: 1004 | N23: 80139 | Q23: 728455 | S23: 287014
A24: 20 | B24: 20 | C24: 39338 | E24: 39342 | G24: 39363 | H24: ООО "ТД МТЗ-ЕлАз" | I24: 59215 | L24: 28217 | M24: 1605 | N24: 60152 | Q24: 728470 | S24: 287021
A25: 21 | B25: 21 | C25: 39338 | E25: 39345 | G25: 39366 | H25: ООО "ТД МТЗ-Ставрополь" | I25: 59064 | L25: 55276 | M25: 317102-05 | N25: 60149 | P25: 735565 | Q25: 728471 | S25: 2570107
A26: 22 | B26: 22 | C26: 39339 | E26: 39345 | G26: 39363 | H26: ООО "ТД МТЗ-ЕлАз" | I26: 59292 | L26: 55280 | M26: 34756-05 | P26: 735730 | Q26: 728473
A27: 23 | B27: 23 | C27: 39339 | E27: 39344 | G27: 39358 | H27: ООО "ТД МТЗ-ЕлАз" | I27: 59298 | L27: 28117 | M27: 3473605 | N27: 59514 | P27: 732528 | Q27: 928467 | S27: 287024
A28: 24 | B28: 24 | C28: 39339 | E28: 39351 | G28: 39353 | H28: ООО "ТД МТЗ-ЕлАз" | I28: 59184 | L28: 35102 | M28: 34151 | N28: 59689 | P28: 732867 | Q28: 728430 | S28: 2970093
A29: 25 | B29: 25 | C29: 39339 | E29: 39344 | G29: 39358 | H29: ООО "ТД МТЗ-ЕлАз" | I29: 58796 | L29: 28117 | M29: 28779 | N29: 60147 | P29: 732866 | Q29: 728429
A30: 26 | B30: 26 | C30: 39342 | E30: 39344 | G30: 39358 | H30: ООО "ТД МТЗ-ЕлАз" | I30: 59447 | L30: 55310 | M30: 34747-05 | N30: 60147 | O30: 20775 | P30: 732875 | Q30: 728452 | S30: 2570188
A31: 27 | B31: 27 | C31: 39343 | E31: 39346 | G31: 39358 | H31: ООО "ТД МТЗ-ЕлАз" | I31: 59343 | L31: 28213 | M31: 34735 | N31: 60146 | P31: 732869 | Q31: 728439 | S31: 287015
A32: 28 | B32: 28 | C32: 39343 | E32: 39349 | G32: 39353 | H32: ООО "ТД МТЗ-ЕлАз" | I32: 58551 | L32: 28216 | M32: 34710-05 | N32: 60150 | O32: 20632 | P32: 735564 | Q32: 728466 | S32: 2570193
A33: 29 | B33: 29 | C33: 39343 | E33: 39350 | G33: 39366 | H33: ООО "ТД МТЗ-Ставрополь" | I33: 58803 | L33: 28193 | M33: 34746 | N33: 59273 | P33: 732872 | Q33: 728440 | S33: 2570181
A34: 30 | B34: 30 | C34: 39344 | E34: 39345 | G34: 39364 | H34: ООО "ТД МТЗ-ЕлАз" | I34: 58755 | L34: 28199 | M34: 34749 | N34: 59271 | P34: 734071 | Q34: 728474 | S34: 3070194
A35: 31 | B35: 31 | C35: 39344 | E35: 39345 | G35: 39365 | H35: ООО "ТД МТЗ-Ставрополь" | I35: 58814 | L35: 28201 | M35: 34757 | N35: 60145 | P35: 734074 | Q35: 728433 | S35: 2570183
A36: 32 | B36: 32 | C36: 39344 | E36: 39367 | G36: 39370 | H36: ООО "ТД МТЗ-ЕлАз" | I36: 59182 | L36: 55315 | M36: 34716-05 | N36: 60058 | P36: 733181 | Q36: 728447 | S36: 2570190
A37: 33 | B37: 33 | C37: 39344 | E37: 39345 | G37: 39365 | H37: ООО "ТД МТЗ-Ставрополь" | I37: 58889 | L37: 28200 | M37: 1552 | N37: 60053 | P37: 735181 | Q37: 728442 | S37: 287048
A38: 34 | B38: 34 | C38: 39344 | E38: 39349 | G38: 39363 | H38: ИП Завражнов | I38: 58617 | L38: 28209 | M38: 562 | N38: 59274 | P38: 735389 | Q38: 728449 | S38: 2970009
A39: 35 | B39: 35 | C39: 39345 | E39: 39349 | G39: 39363 | H39: ООО "ТД МТЗ-ЕлАз" | I39: 58753 | L39: 28188 | M39: 642 | N39: 60148 | P39: 734993 | Q39: 728450 | S39: 3070155
A40: 36 | B40: 36 | C40: 39345 | E40: 39349 | G40: 39358 | H40: ООО "ТД МТЗ-ЕлАз" | I40: 58537 | M40: 31784-05 | N40: 59267 | O40: 20775 | P40: 334588 | Q40: 728451 | S40: 2970022
A41: 37 | B41: 37 | C41: 39345 | E41: 39349 | G41: 39353 | H41: ООО "ТД МТЗ-ЕлАз" | I41: 58681 | L41: 28337 | M41: 34720 | N41: 60056 | P41: 733186 | Q41: 728446 | S41: 3070197
A42: 38 | B42: 38 | C42: 39345 | E42: 39351 | G42: 39353 | H42: ООО "ТД МТЗ-ЕлАз" | I42: 59305 | L42: 55002 | M42: 35761-05 | N42: 60051 | O42: 20781 | P42: 734409 | Q42: 728448 | S42: 3070003
A43: 39 | B43: 39 | C43: 39346 | E43: 39349 | G43: 39353 | H43: ООО "ТД МТЗ-ЕлАз" | I43: 58789 | L43: 28212 | M43: 3472-05 | O43: 20522 | P43: 734411 | Q43: 728434 | S43: 3070156
A44: 40 | B44: 40 | C44: 39346 | E44: 39350 | G44: 39353 | H44: ООО "ТД МТЗ-ЕлАз" | I44: 59186 | L44: 28315 | M44: 1172 | N44: 59445 | P44: 734695 | Q44: 728445 | S44: 3070091
A45: 41 | B45: 41 | C45: 39346 | E45: 39350 | G45: 39363 | H45: ООО "ТД МТЗ-ЕлАз" | I45: 59183 | L45: 8323 | M45: 31750 | N45: 59147 | P45: 733973 | Q45: 728441 | S45: 2570171
A46: 42 | B46: 42 | C46: 39346 | E46: 39351 | G46: 39370 | H46: ООО "ТД МТЗ-ЕлАз" | I46: 58842 | L46: 28310 | M46: 317108 | N46: 59352 | P46: 734068 | Q46: 728431 | S46: 2570170
A47: 43 | B47: 43 | C47: 39347 | E47: 39351 | G47: 39366 | H47: ООО "ТД МТЗ-Ставрополь" | I47: 58887 | L47: 28309 | M47: 2161 | N47: 60141 | P47: 734986 | Q47: 728443 | S47: 287017
A48: 44 | B48: 44 | C48: 39347 | E48: 39351 | G48: 39357 | H48: ООО "ТД МТЗ-ЕлАз" | I48: 58750 | L48: 28186 | M48: 34759-05 | N48: 59269 | O48: 20600 | P48: 734651 | Q48: 728477 | S48: 287028
A49: 45 | B49: 45 | C49: 39349 | E49: 0 | G49: 39388 | H49: ООО "ТД МТЗ-ЕлАз" | I49: 58817 | L49: 28321 | M49: 34714-05 | N49: 59275 | O49: 12578 | Q49: 728435 | S49: 2570174
A50: 46 | B50: 46 | C50: 39349 | E50: 39353 | G50: 39360 | H50: ООО "ТД МТЗ-Ставрополь" | I50: 58805 | M50: 3478 | N50: 59447 | P50: 734595 | Q50: 728432 | S50: 250175
A51: 47 | B51: 47 | C51: 39350 | E51: 39352 | G51: 39374 | H51: ООО "ТД МТЗ-ЕлАз" | I51: 58861 | L51: 28220 | M51: 317112 | N51: 59686 | P51: 733639 | Q51: 728458 | S51: 287022
A52: 48 | B52: 48 | C52: 39350 | E52: 39351 | G52: 39364 | H52: ООО "ТД МТЗ-ЕлАз" | I52: 58855 | L52: 28124 | M52: 34715 | N52: 60140 | P52: 733969 | Q52: 728453
A53: 49 | B53: 49 | C53: 39350 | E53: 39351 | G53: 39364 | H53: ООО "ТД МТЗ-Ставрополь" | I53: 58801 | L53: 28195 | M53: 34760 | N53: 59035 | P53: 734073 | Q53: 728436 | S53: 2570178
A54: 50 | B54: 50 | C54: 39350 | E54: 39405 | G54: 39414 | H54: ООО "ТД МТЗ-Ставрополь" | I54: 58843 | L54: 28164 | M54: 31791-05 | N54: 59450 | O54: 20571 | P54: 734990 | Q54: 728438 | R54: 5581 | S54: 287027
A55: 51 | B55: 51 | C55: 39350 | E55: 39363 | G55: 39364 | H55: ООО "ТД МТЗ-ЕлАз" | I55: 59478 | L55: 28219 | M55: 31777 | N55: 63257 | P55: 736004 | Q55: 729526 | S55: 3070150
A56: 52 | B56: 52 | C56: 39351 | E56: 39352 | G56: 39360 | H56: ООО "ТД МТЗ-Ставрополь" | I56: 59430 | L56: 28119 | M56: 1382 | N56: 63888 | P56: 732118 | Q56: 729501 | S56: 2970031
A57: 53 | B57: 53 | C57: 39351 | E57: 39365 | G57: 39366 | H57: ООО "ТД МТЗ-ЕлАз" | I57: 59530 | L57: 28345 | M57: 2421 | N57: 60055 | P57: 735386 | Q57: 729927 | S57: 3070154
A58: 54 | B58: 54 | C58: 39351 | E58: 39353 | G58: 39370 | H58: ООО "ТД МТЗ-ЕлАз" | I58: 59534 | L58: 28214 | M58: 317106 | N58: 63421 | P58: 735562 | Q58: 729508 | S58: 2570166
A59: 55 | B59: 55 | C59: 39351 | E59: 39351 | G59: 39360 | H59: ООО "ТД МТЗ-Ставрополь" | I59: 59537 | L59: 28347 | M59: 31741 | N59: 63252 | P59: 736007 | Q59: 729511 | S59: 2570163
A60: 56 | B60: 56 | C60: 39351 | E60: 39595 | F60: 39587 | I60: 59601 | L60: 28304 | M60: 34762-05 | N60: 63671 | O60: 20755 | P60: 736003 | Q60: 742864 | R60: 5043 | S60: 287023
A61: 57 | B61: 57 | C61: 39351 | E61: 39359 | G61: 39361 | H61: ОАО "Росагролизинг" | I61: 59466 | L61: 28111 | M61: 34763-05 | N61: 63361 | O61: 20467 | P61: 735390 | Q61: 728681 | S61: 287044
A62: 58 | B62: 58 | C62: 39351 | E62: 39353 | G62: 39373 | H62: ООО "ТД МТЗ-ЕлАз" | I62: 59427 | L62: 28339 | M62: 1239 | N62: 63887 | P62: 735734 | Q62: 729554 | S62: 3070188
A63: 59 | B63: 59 | C63: 39351 | E63: 39413 | G63: 39437 | H63: ООО "ТД МТЗ-ЕлАз" | I63: 59488 | L63: 28116 | M63: 34729-05 | N63: 63695 | O63: 16494 | P63: 749473 | Q63: 723510 | R63: 4757 | S63: 3070151
A64: 60 | B64: 60 | C64: 39351 | E64: 39367 | G64: 39366 | H64: ООО "ТД МТЗ-Ставрополь" | I64: 59528 | L64: 28121 | M64: 31700 | N64: 63235 | P64: 734989 | Q64: 729505 | S64: 2970062
A65: 61 | B65: 61 | C65: 39352 | E65: 39359 | G65: 39361 | H65: ОАО "Росагролизинг" | I65: 59489 | L65: 28122 | M65: 31798-05 | N65: 63356 | O65: 20512 | P65: 734693 | Q65: 728759 | S65: 3070190
A66: 62 | B66: 62 | C66: 39352 | E66: 39415 | G66: 39419 | H66: ООО "ТД МТЗ-ЕлАз" | I66: 59400 | N66: 82845 | P66: 733183 | S66: 3070002
A67: 63 | B67: 63 | C67: 39352 | E67: 39365 | G67: 39366 | H67: ООО "ТД МТЗ-Ставрополь" | I67: 59400 | L67: 28211 | M67: 30757-05 | N67: 62845 | O67: 20627 | P67: 733183 | Q67: 729917 | R67: 6154 | S67: 3070002
A68: 64 | B68: 64 | C68: 39352 | E68: 39366 | G68: 39374 | H68: ООО "ТД МТЗ-ЕлАз" | I68: 59454 | L68: 28326 | M68: 553 | N68: 63260 | P68: 734691 | Q68: 728781 | S68: 3070001
A69: 65 | B69: 65 | C69: 39352 | E69: 39365 | G69: 39366 | H69: ООО "ТД МТЗ-Ставрополь" | I69: 59479 | L69: 28330 | M69: 34719-05 | N69: 63231 | O69: 20778 | P69: 735728 | Q69: 728402 | S69: 2970068
A70: 66 | B70: 66 | C70: 39352 | E70: 39743 | F70: 39752 | I70: 59397 | L70: 28197 | M70: 1469 | N70: 63767 | P70: 732874 | Q70: 29513 | S70: 287040
A71: 67 | B71: 67 | C71: 39352 | E71: 39363 | G71: 39370 | H71: ООО "ТД МТЗ-ЕлАз" | I71: 59599 | L71: 28352 | M71: 34758 | N71: 63788 | P71: 736002 | Q71: 629525 | S71: 3070199
A72: 68 | B72: 68 | C72: 39352 | E72: 39363 | G72: 39366 | H72: ООО "ТД МТЗ-Ставрополь" | I72: 59495 | L72: 28305 | M72: 3473 | N72: 53233 | P72: 756034 | S72: 2970065
A73: 69 | B73: 69 | C73: 39352 | E73: 39416 | G73: 39436 | H73: ООО "ТД МТЗ-ЕлАз" | I73: 59443 | L73: 28319 | M73: 34740-05 | N73: 63672 | O73: 20766 | P73: 732873 | Q73: 720181 | R73: 6044 | S73: 3070196
A74: 70 | B74: 70 | C74: 39353 | E74: 39413 | G74: 39780 | H74: ООО "ТД МТЗ-ЕлАз" | I74: 59437 | L74: 28314 | M74: 34731 | N74: 63550 | O74: 20764 | P74: 735732 | Q74: 728784 | R74: 6042 | S74: 2570191
A75: 71 | B75: 71 | C75: 39353 | E75: 39429 | F75: 39484 | G75: 39486 | H75: ООО "ТД МТЗ Северо-Запад" | I75: 59518 | L75: 28342 | M75: 31778-05 | N75: 63775 | O75: 20671 | P75: 736005 | Q75: 990012 | R75: 4597 | S75: 2570199
A76: 72 | B76: 72 | C76: 39353 | E76: 39433 | F76: 39484 | G76: 39484 | H76: ОАО "Росагролизинг" | I76: 59453 | L76: 28331 | M76: 31768-05 | N76: 63766 | O76: 20810 | P76: 735726 | Q76: 728771 | R76: 5068 | S76: 2570196
A77: 73 | B77: 73 | C77: 39353 | E77: 39420 | F77: 39421 | G77: 39421 | H77: ООО "ТД МТЗ-Ставрополь" | I77: 59448 | L77: 28317 | M77: 34745-05 | N77: 63682 | O77: 20771 | P77: 5276 | Q77: 129509 | R77: 5276 | S77: 2970097
A78: 74 | B78: 74 | C78: 39353 | E78: 39434 | F78: 39484 | G78: 39484 | H78: ОАО "Росагролизинг" | I78: 59426 | L78: 28324 | M78: 34755-05 | N78: 63882 | O78: 20780 | P78: 732527 | Q78: 728772 | R78: 5626 | S78: 2570176
A79: 75 | B79: 75 | C79: 39353 | E79: 39410 | G79: 39437 | H79: ООО "ТД МТЗ-ЕлАз" | I79: 59451 | L79: 28340 | M79: 34748-05 | N79: 63881 | O79: 20826 | P79: 734653 | Q79: 729515 | R79: 6276 | S79: 3070005
A80: 76 | B80: 76 | C80: 39353 | E80: 39429 | F80: 39486 | G80: 39490 | H80: ООО "ТД МТЗ Северо-Запад" | I80: 59471 | L80: 28311 | M80: 31788-05 | N80: 63771 | O80: 20762 | P80: 734602 | Q80: 743821 | R80: 5662 | S80: 2570189
A81: 77 | B81: 77 | C81: 39353 | E81: 39386 | G81: 39388 | H81: ООО "ТД МТЗ-ЕлАз" | I81: 59523 | L81: 28351 | M81: 34733-05 | N81: 63780 | O81: 20878 | P81: 732538 | Q81: 728773 | S81: 2970096
A82: 78 | B82: 78 | C82: 39353 | E82: 39405 | G82: 39415 | H82: ООО "ТД МТЗ-Ставрополь" | I82: 59602 | L82: 28169 | M82: 34724-05 | N82: 63604 | O82: 20575 | P82: 732539 | Q82: 729485 | R82: 5100 | S82: 2970094
A83: 79 | B83: 79 | C83: 39354 | E83: 39365 | G83: 39366 | H83: ООО "ТД МТЗ-Ставрополь" | I83: 59484 | L83: 28336 | M83: 34732 | N83: 63963 | P83: 734787 | Q83: 729528 | S83: 2570169
A84: 80 | B84: 80 | C84: 39354 | E84: 39365 | G84: 39366 | H84: ООО "ТД МТЗ-ЕлАз" | I84: 59492 | L84: 28313 | M84: 34723 | N84: 63883 | P84: 734406 | S84: 2970011
A85: 81 | B85: 81 | C85: 39354 | E85: 39359 | G85: 39364 | H85: ООО "ТД МТЗ-Ставрополь" | I85: 59405 | L85: 28203 | M85: 1909 | N85: 64525 | P85: 734793 | Q85: 729521 | S85: 2970015
A86: 82 | B86: 82 | C86: 39354 | E86: 39360 | G86: 39364 | H86: ООО "ТД МТЗ-Ставрополь" | I86: 59487 | L86: 28332 | M86: 2189 | N86: 63233 | P86: 734587 | Q86: 729529 | S86: 2970008
A87: 83 | B87: 83 | C87: 39356 | E87: 39429 | F87: 39484 | G87: 39486 | H87: ЗАО "ТД Минск. Тракт.завода" | I87: 59480 | L87: 28316 | M87: 31774-05 | N87: 63769 | O87: 20803 | P87: 734799 | Q87: 129519 | R87: 5238 | S87: 3070152
A88: 84 | B88: 84 | C88: 39356 | E88: 39360 | I88: 59469 | L88: 28307 | M88: 1949 | N88: 63880 | P88: 734788 | Q88: 729330
A89: 85 | B89: 85 | C89: 39356 | E89: 39408 | G89: 39388 | H89: ООО "ТД МТЗ-ЕлАз" | I89: 59491 | L89: 28344 | M89: 31772-05 | N89: 63601 | O89: 20811 | P89: 734992 | Q89: 129372 | S89: 2970005
A90: 86 | B90: 86 | C90: 39356 | E90: 39386 | G90: 39388 | H90: ООО "ТД МТЗ-ЕлАз" | I90: 59444 | L90: 28328 | M90: 37797 | N90: 63341 | O90: 20805 | P90: 734988 | Q90: 126754 | S90: 2970006
A91: 87 | B91: 87 | C91: 39356 | E91: 39360 | G91: 39363 | H91: ООО "ТД МТЗ-ЕлАз" | I91: 59482 | L91: 28338 | M91: 31781 | N91: 63774 | P91: 735783 | S91: 2970012
A92: 88 | B92: 88 | C92: 39356 | E92: 39408 | G92: 39415 | H92: ООО "ТД МТЗ-Ставрополь" | I92: 59493 | L92: 28333 | M92: 317104 | N92: 63763 | O92: 20830 | P92: 734593 | Q92: 720777 | R92: 6176 | S92: 3070145
A93: 89 | B93: 89 | C93: 39356 | E93: 39370 | G93: 39373 | H93: ОАО "Росагролизинг"
A94: 90 | B94: 90 | C94: 39356 | E94: 39406 | G94: 39413 | H94: ООО "ТД МТЗ-ЕлАз" | I94: 59401 | L94: 28334 | M94: 2506-05 | N94: 63413 | O94: 20809 | P94: 734592 | Q94: 728783 | R94: 6187 | S94: 3070129
A95: 91 | B95: 91 | C95: 39357 | E95: 39364 | G95: 39365 | H95: ООО "ТД МТЗ-Ставрополь" | I95: 59481 | L95: 28341 | M95: 1956 | N95: 63116 | P95: 732510 | Q95: 728775
A96: 92 | B96: 92 | C96: 39357 | E96: 39433 | F96: 39587 | G96: 39587 | H96: ОАО "Росагролизинг" | I96: 59486 | L96: 28313 | M96: 34711-05 | N96: 63353 | O96: 20779 | P96: 732526 | Q96: 728181 | R96: 4592 | S96: 3070189
A97: 93 | B97: 93 | C97: 39357 | E97: 39386 | G97: 39388 | H97: ООО "ТД МТЗ-ЕлАз" | I97: 59452 | L97: 28303 | M97: 37714-05 | N97: 63602 | O97: 20759 | P97: 734591 | Q97: 728180 | S97: 287047
A98: 94 | B98: 94 | C98: 39357 | E98: 39415 | G98: 39511 | H98: ОАО "Росагролизинг" | I98: 60279 | L98: 28322 | M98: 36760-05 | N98: 63344 | O98: 20757 | P98: 734995 | Q98: 728774 | R98: 5564 | S98: 3070058
A99: 95 | B99: 95 | C99: 39357 | E99: 39386 | G99: 39388 | H99: ООО "ТД МТЗ-ЕлАз" | I99: 59382 | L99: 28653 | M99: 37717-05 | N99: 63250 | O99: 21284 | P99: 734789 | Q99: 728768
A100: 96 | B100: 96 | C100: 39357 | E100: 39365 | G100: 39366 | H100: ООО "ТД МТЗ-ЕлАз" | I100: 59524 | L100: 28668 | M100: 37737 | N100: 63597 | P100: 740624 | Q100: 728770 | S100: 3070082
A101: 97 | B101: 97 | C101: 39358 | E101: 39370 | G101: 39373 | H101: ООО "ТД МТЗ-ЕлАз" | I101: 59485 | L101: 28647 | M101: 403 | N101: 63914 | P101: 734412 | S101: 3470176
...

Sheet Отчет по номерам 826
A1: =Календарь!B1 -> 39888
A3: Даты прохождения техники Беларус-826 | H3: Реализован | I3: Номера комплектующих
A4: № п.п. | B4: № изделия | C4: Сход с конвейера | D4: Доводка | E4: Товарный двор | F4: Окраска | G4: Сбыт | I4: Двигатель | J4: ТНВД | K4: Турбокомпрессор | L4: Трансмиссия | M4: Мост передний | N4: Кабина | O4: КПП | P4: Корпус гидросистемы | Q4: Рулевая колонка | R4: Гидроподъемник | S4: Радиатор | T4: Колеса
A5: 1 | B5: 1 | C5: 39883
A6: 2 | B6: =B5+1 -> 2 | C6: 39883
A7: 3 | B7: =B6+1 -> 3 | C7: 39883
A8: 4 | B8: =B7+1 -> 4 | C8: 39883
A9: 5 | B9: =B8+1 -> 5 | C9: 39883
A10: 6 | B10: =B9+1 -> 6 | C10: 39883
A11: 7 | B11: =B10+1 -> 7 | C11: 39883
A12: 8 | B12: =B11+1 -> 8 | C12: 39883 | E12: 39885
A13: 9 | B13: =B12+1 -> 9 | C13: 39883 | E13: 39888
A14: 10 | B14: =B13+1 -> 10 | C14: 39884 | E14: 39888
A15: 11 | B15: =B14+1 -> 11 | C15: 39884 | E15: 39885
A16: 12 | B16: =B15+1 -> 12 | C16: 39884 | E16: 39885
A17: 13 | B17: =B16+1 -> 13 | C17: 39884 | E17: 39885
A18: 14 | B18: =B17+1 -> 14 | C18: 39884 | E18: 39885
A19: 15 | B19: =B18+1 -> 15 | C19: 39884
A20: 16 | B20: =B19+1 -> 16 | C20: 39884
A21: 17 | B21: =B20+1 -> 17 | C21: 39884 | E21: 39885
A22: 18 | B22: =B21+1 -> 18 | C22: 39884
A23: 19 | B23: =B22+1 -> 19 | C23: 39884
A24: 20 | B24: =B23+1 -> 20 | C24: 39884 | E24: 39888
A25: 21 | B25: =B24+1 -> 21 | C25: 39884 | E25: 39888
A26: 22 | B26: =B25+1 -> 22 | C26: 39884 | E26: 39888
A27: 23 | B27: =B26+1 -> 23 | C27: 39884
A28: 24 | B28: =B27+1 -> 24 | C28: 39884 | E28: 39888
A29: 25 | B29: =B28+1 -> 25 | C29: 39885
A30: 26 | B30: =B29+1 -> 26 | C30: 39885 | E30: 39888
A31: 27 | B31: =B30+1 -> 27 | C31: 39885
A32: 28 | B32: =B31+1 -> 28 | C32: 39885
A33: 29 | B33: =B32+1 -> 29 | C33: 39885 | E33: 39888
A34: 30 | B34: =B33+1 -> 30 | C34: 39885 | E34: 39888
A35: 31 | B35: =B34+1 -> 31 | C35: 39885 | E35: 39888
A36: 32 | B36: =B35+1 -> 32 | C36: 39885 | E36: 39888
A37: 33 | B37: =B36+1 -> 33 | C37: 39885 | E37: 39888
A38: 34 | B38: =B37+1 -> 34 | C38: 39885 | E38: 39888
A39: 35 | B39: =B38+1 -> 35 | C39: 39885 | E39: 39888
A40: 36 | B40: =B39+1 -> 36 | C40: 39888 | E40: 39888
A41: 37 | B41: =B40+1 -> 37 | C41: 39888 | E41: 39888
A42: 38 | B42: =B41+1 -> 38 | C42: 39888 | E42: 39888
A43: 39 | B43: =B42+1 -> 39 | C43: 39888 | E43: 39888
A44: 40 | B44: =B43+1 -> 40 | C44: 39888
A45: 41 | B45: =B44+1 -> 41 | C45: 39888
A46: 42 | B46: =B45+1 -> 42 | C46: 39888
A47: 43 | B47: =B46+1 -> 43 | C47: 39888
A48: 44 | B48: =B47+1 -> 44 | C48: 39888
A49: 45 | B49: =B48+1 -> 45 | C49: 39888
A50: 46 | B50: =B49+1 -> 46 | C50: 39888
A51: 47 | B51: =B50+1 -> 47 | C51: 39888
A52: 48 | B52: =B51+1 -> 48 | C52: 39888
A53: 49 | B53: =B52+1 -> 49 | C53: 39888
A54: 50 | B54: =B53+1 -> 50 | C54: 39888
A55: 51 | B55: =B54+1 -> 51 | C55: 39888
A56: 52 | B56: =B55+1 -> 52 | C56: 39888
A57: 53 | B57: =B56+1 -> 53
A58: 54 | B58: =B57+1 -> 54
A59: 55 | B59: =B58+1 -> 55
A60: 56 | B60: =B59+1 -> 56
A61: 57 | B61: =B60+1 -> 57
A62: 58 | B62: =B61+1 -> 58
A63: 59 | B63: =B62+1 -> 59
A64: 60 | B64: =B63+1 -> 60
A65: 61 | B65: =B64+1 -> 61
A66: 62 | B66: =B65+1 -> 62
A67: 63 | B67: =B66+1 -> 63
A68: 64 | B68: =B67+1 -> 64
... A124: 120 | B124: =B123+1 -> 120
A125: 121
A126: 122
A127: 123
A128: 124
A129: 125
A130: 126
A131: 127
A132: 128
A133: 129
A134: 130
A135: 131
A136: 132
... A3934: 3930

Sheet Остатки_производство
C3: Дата | D3: 1221 | H3: 826
D4: План | E4: Приход | F4: Выдача | G4: Остаток | H4: План | I4: Приход | J4: Выдача | K4: Остаток
C5: Вх.остаток | G5: 317 | K5: 0
B6: =MONTH(C6)&RIGHT(YEAR(C6),2) -> 109 | C6: 39814 | G6: =G5+E6-F6 -> 317 | K6: =K5+I6-J6 -> 0
B7: =MONTH(C7)&RIGHT(YEAR(C7),2) -> 109 | C7: 39815 | G7: =G6+E7-F7 -> 317 | K7: =K6+I7-J7 -> 0
B8: =MONTH(C8)&RIGHT(YEAR(C8),2) -> 109 | C8: 39816 | G8: =G7+E8-F8 -> 317 | K8: =K7+I8-J8 -> 0
B9: =MONTH(C9)&RIGHT(YEAR(C9),2) -> 109 | C9: 39817 | G9: =G8+E9-F9 -> 317 | K9: =K8+I9-J9 -> 0
B10: =MONTH(C10)&RIGHT(YEAR(C10),2) -> 109 | C10: 39818 | G10: =G9+E10-F10 -> 317 | K10: =K9+I10-J10 -> 0
B11: =MONTH(C11)&RIGHT(YEAR(C11),2) -> 109 | C11: 39819 | G11: =G10+E11-F11 -> 317 | K11: =K10+I11-J11 -> 0
B12: =MONTH(C12)&RIGHT(YEAR(C12),2) -> 109 | C12: 39820 | G12: =G11+E12-F12 -> 317 | K12: =K11+I12-J12 -> 0
B13: =MONTH(C13)&RIGHT(YEAR(C13),2) -> 109 | C13: 39821 | G13: =G12+E13-F13 -> 317 | K13: =K12+I13-J13 -> 0
B14: =MONTH(C14)&RIGHT(YEAR(C14),2) -> 109 | C14: 39822 | G14: =G13+E14-F14 -> 317 | K14: =K13+I14-J14 -> 0
B15: =MONTH(C15)&RIGHT(YEAR(C15),2) -> 109 | C15: 39823 | G15: =G14+E15-F15 -> 317 | K15: =K14+I15-J15 -> 0
B16: =MONTH(C16)&RIGHT(YEAR(C16),2) -> 109 | C16: 39824 | G16: =G15+E16-F16 -> 317 | K16: =K15+I16-J16 -> 0
B17: =MONTH(C17)&RIGHT(YEAR(C17),2) -> 109 | C17: 39825 | G17: =G16+E17-F17 -> 317 | K17: =K16+I17-J17 -> 0
... B38: =MONTH(C38)&RIGHT(YEAR(C38),2) -> 209 | C38: 39846 | G38: =G37+E38-F38 -> 317 | K38: =K37+I38-J38 -> 0
B39: =MONTH(C39)&RIGHT(YEAR(C39),2) -> 209 | C39: 39847 | D39: 30 | G39: =G38+E39-F39 -> 317 | K39: =K38+I39-J39 -> 0
B40: =MONTH(C40)&RIGHT(YEAR(C40),2) -> 209 | C40: 39848 | G40: =G39+E40-F40 -> 317 | K40: =K39+I40-J40 -> 0
B41: =MONTH(C41)&RIGHT(YEAR(C41),2) -> 209 | C41: 39849 | G41: =G40+E41-F41 -> 317 | H41: 50 | K41: =K40+I41-J41 -> 0
B42: =MONTH(C42)&RIGHT(YEAR(C42),2) -> 209 | C42: 39850 | G42: =G41+E42-F42 -> 317 | I42: 50 | K42: =K41+I42-J42 -> 50
B43: =MONTH(C43)&RIGHT(YEAR(C43),2) -> 209 | C43: 39851 | G43: =G42+E43-F43 -> 317 | K43: =K42+I43-J43 -> 50
B44: =MONTH(C44)&RIGHT(YEAR(C44),2) -> 209 | C44: 39852 | D44: 30 | G44: =G43+E44-F44 -> 317 | K44: =K43+I44-J44 -> 50
B45: =MONTH(C45)&RIGHT(YEAR(C45),2) -> 209 | C45: 39853 | G45: =G44+E45-F45 -> 317 | K45: =K44+I45-J45 -> 50
B46: =MONTH(C46)&RIGHT(YEAR(C46),2) -> 209 | C46: 39854 | E46: 30 | G46: =G45+E46-F46 -> 347 | H46: 50 | K46: =K45+I46-J46 -> 50
B47: =MONTH(C47)&RIGHT(YEAR(C47),2) -> 209 | C47: 39855 | D47: 30 | G47: =G46+E47-F47 -> 347 | I47: 50 | K47: =K46+I47-J47 -> 100
B48: =MONTH(C48)&RIGHT(YEAR(C48),2) -> 209 | C48: 39856 | F48: 17 | G48: =G47+E48-F48 -> 330 | K48: =K47+I48-J48 -> 100
B49: =MONTH(C49)&RIGHT(YEAR(C49),2) -> 209 | C49: 39857 | F49: 18 | G49: =G48+E49-F49 -> 312 | K49: =K48+I49-J49 -> 100
B50: =MONTH(C50)&RIGHT(YEAR(C50),2) -> 209 | C50: 39858 | E50: 30 | G50: =G49+E50-F50 -> 342 | K50: =K49+I50-J50 -> 100
B51: =MONTH(C51)&RIGHT(YEAR(C51),2) -> 209 | C51: 39859 | G51: =G50+E51-F51 -> 342 | K51: =K50+I51-J51 -> 100
B52: =MONTH(C52)&RIGHT(YEAR(C52),2) -> 209 | C52: 39860 | D52: 30 | F52: 18 | G52: =G51+E52-F52 -> 324 | K52: =K51+I52-J52 -> 100
B53: =MONTH(C53)&RIGHT(YEAR(C53),2) -> 209 | C53: 39861 | E53: 30 | F53: 14 | G53: =G52+E53-F53 -> 340 | H53: 50 | K53: =K52+I53-J53 -> 100
B54: =MONTH(C54)&RIGHT(YEAR(C54),2) -> 209 | C54: 39862 | D54: 30 | F54: 15 | G54: =G53+E54-F54 -> 325 | K54: =K53+I54-J54 -> 100
B55: =MONTH(C55)&RIGHT(YEAR(C55),2) -> 209 | C55: 39863 | F55: 18 | G55: =G54+E55-F55 -> 307 | I55: 50 | K55: =K54+I55-J55 -> 150
B56: =MONTH(C56)&RIGHT(YEAR(C56),2) -> 209 | C56: 39864 | F56: 16 | G56: =G55+E56-F56 -> 291 | K56: =K55+I56-J56 -> 150
B57: =MONTH(C57)&RIGHT(YEAR(C57),2) -> 209 | C57: 39865 | E57: 30 | G57: =G56+E57-F57 -> 321 | K57: =K56+I57-J57 -> 150
B58: =MONTH(C58)&RIGHT(YEAR(C58),2) -> 209 | C58: 39866 | D58: 30 | G58: =G57+E58-F58 -> 321 | K58: =K57+I58-J58 -> 150
B59: =MONTH(C59)&RIGHT(YEAR(C59),2) -> 209 | C59: 39867 | G59: =G58+E59-F59 -> 321 | K59: =K58+I59-J59 -> 150
B60: =MONTH(C60)&RIGHT(YEAR(C60),2) -> 209 | C60: 39868 | F60: 20 | G60: =G59+E60-F60 -> 301 | H60: 50 | K60: =K59+I60-J60 -> 150
B61: =MONTH(C61)&RIGHT(YEAR(C61),2) -> 209 | C61: 39869 | D61: 30 | E61: 30 | F61: 20 | G61: =G60+E61-F61 -> 311 | K61: =K60+I61-J61 -> 150
B62: =MONTH(C62)&RIGHT(YEAR(C62),2) -> 209 | C62: 39870 | E62: 30 | F62: 20 | G62: =G61+E62-F62 -> 321 | K62: =K61+I62-J62 -> 150
B63: =MONTH(C63)&RIGHT(YEAR(C63),2) -> 209 | C63: 39871 | F63: 20 | G63: =G62+E63-F63 -> 301 | K63: =K62+I63-J63 -> 150
B64: =MONTH(C64)&RIGHT(YEAR(C64),2) -> 209 | C64: 39872 | F64: 20 | G64: =G63+E64-F64 -> 281 | I64: 50 | K64: =K63+I64-J64 -> 200
B65: =MONTH(C65)&RIGHT(YEAR(C65),2) -> 309 | C65: 39873 | E65: 30 | G65: =G64+E65-F65 -> 311 | K65: =K64+I65-J65 -> 200
B66: =MONTH(C66)&RIGHT(YEAR(C66),2) -> 309 | C66: 39874 | F66: 20 | G66: =G65+E66-F66 -> 291 | K66: =K65+I66-J66 -> 200
B67: =MONTH(C67)&RIGHT(YEAR(C67),2) -> 309 | C67: 39875 | F67: 20 | G67: =G66+E67-F67 -> 271 | H67: 50 | I67: 50 | K67: =K66+I67-J67 -> 250
B68: =MONTH(C68)&RIGHT(YEAR(C68),2) -> 309 | C68: 39876 | F68: 20 | G68: =G67+E68-F68 -> 251 | K68: =K67+I68-J68 -> 250
B69: =MONTH(C69)&RIGHT(YEAR(C69),2) -> 309 | C69: 39877 | F69: 20 | G69: =G68+E69-F69 -> 231 | K69: =K68+I69-J69 -> 250
B70: =MONTH(C70)&RIGHT(YEAR(C70),2) -> 309 | C70: 39878 | F70: 18 | G70: =G69+E70-F70 -> 213 | K70: =K69+I70-J70 -> 250
B71: =MONTH(C71)&RIGHT(YEAR(C71),2) -> 309 | C71: 39879 | G71: =G70+E71-F71 -> 213 | K71: =K70+I71-J71 -> 250
B72: =MONTH(C72)&RIGHT(YEAR(C72),2) -> 309 | C72: 39880 | G72: =G71+E72-F72 -> 213 | K72: =K71+I72-J72 -> 250
B73: =MONTH(C73)&RIGHT(YEAR(C73),2) -> 309 | C73: 39881 | G73: =G72+E73-F73 -> 213 | K73: =K72+I73-J73 -> 250
B74: =MONTH(C74)&RIGHT(YEAR(C74),2) -> 309 | C74: 39882 | G74: =G73+E74-F74 -> 213 | H74: 25 | K74: =K73+I74-J74 -> 250
B75: =MONTH(C75)&RIGHT(YEAR(C75),2) -> 309 | C75: 39883 | G75: =G74+E75-F75 -> 213 | J75: 9 | K75: =K74+I75-J75 -> 241
B76: =MONTH(C76)&RIGHT(YEAR(C76),2) -> 309 | C76: 39884 | G76: =G75+E76-F76 -> 213 | J76: 15 | K76: =K75+I76-J76 -> 226
B77: =MONTH(C77)&RIGHT(YEAR(C77),2) -> 309 | C77: 39885 | G77: =G76+E77-F77 -> 213 | J77: 11 | K77: =K76+I77-J77 -> 215
B78: =MONTH(C78)&RIGHT(YEAR(C78),2) -> 309 | C78: 39886 | G78: =G77+E78-F78 -> 213 | H78: 25 | K78: =K77+I78-J78 -> 215
B79: =MONTH(C79)&RIGHT(YEAR(C79),2) -> 309 | C79: 39887 | G79: =G78+E79-F79 -> 213 | K79: =K78+I79-J79 -> 215
B80: =MONTH(C80)&RIGHT(YEAR(C80),2) -> 309 | C80: 39888 | G80: =G79+E80-F80 -> 213 | H80: 25 | J80: 17 | K80: =K79+I80-J80 -> 198
B81: =MONTH(C81)&RIGHT(YEAR(C81),2) -> 309 | C81: 39889 | G81: =G80+E81-F81 -> 213 | H81: 25 | K81: =K80+I81-J81 -> 198
B82: =MONTH(C82)&RIGHT(YEAR(C82),2) -> 309 | C82: 39890 | G82: =G81+E82-F82 -> 213 | K82: =K81+I82-J82 -> 198
B83: =MONTH(C83)&RIGHT(YEAR(C83),2) -> 309 | C83: 39891 | G83: =G82+E83-F83 -> 213 | K83: =K82+I83-J83 -> 198
B84: =MONTH(C84)&RIGHT(YEAR(C84),2) -> 309 | C84: 39892 | D84: 30 | G84: =G83+E84-F84 -> 213 | H84: 25 | K84: =K83+I84-J84 -> 198
B85: =MONTH(C85)&RIGHT(YEAR(C85),2) -> 309 | C85: 39893 | G85: =G84+E85-F85 -> 213 | H85: 25 | K85: =K84+I85-J85 -> 198
B86: =MONTH(C86)&RIGHT(YEAR(C86),2) -> 309 | C86: 39894 | D86: 30 | G86: =G85+E86-F86 -> 213 | K86: =K85+I86-J86 -> 198
B87: =MONTH(C87)&RIGHT(YEAR(C87),2) -> 309 | C87: 39895 | G87: =G86+E87-F87 -> 213 | H87: 25 | K87: =K86+I87-J87 -> 198
B88: =MONTH(C88)&RIGHT(YEAR(C88),2) -> 309 | C88: 39896 | D88: 30 | G88: =G87+E88-F88 -> 213 | H88: 25 | K88: =K87+I88-J88 -> 198
B89: =MONTH(C89)&RIGHT(YEAR(C89),2) -> 309 | C89: 39897 | G89: =G88+E89-F89 -> 213 | K89: =K88+I89-J89 -> 198
B90: =MONTH(C90)&RIGHT(YEAR(C90),2) -> 309 | C90: 39898 | G90: =G89+E90-F90 -> 213 | K90: =K89+I90-J90 -> 198
B91: =MONTH(C91)&RIGHT(YEAR(C91),2) -> 309 | C91: 39899 | G91: =G90+E91-F91 -> 213 | K91: =K90+I91-J91 -> 198
B92: =MONTH(C92)&RIGHT(YEAR(C92),2) -> 309 | C92: 39900 | D92: 30 | G92: =G91+E92-F92 -> 213 | H92: 25 | K92: =K91+I92-J92 -> 198
B93: =MONTH(C93)&RIGHT(YEAR(C93),2) -> 309 | C93: 39901 | G93: =G92+E93-F93 -> 213 | K93: =K92+I93-J93 -> 198
B94: =MONTH(C94)&RIGHT(YEAR(C94),2) -> 309 | C94: 39902 | D94: 30 | G94: =G93+E94-F94 -> 213 | H94: 25 | K94: =K93+I94-J94 -> 198
B95: =MONTH(C95)&RIGHT(YEAR(C95),2) -> 309 | C95: 39903 | G95: =G94+E95-F95 -> 213 | K95: =K94+I95-J95 -> 198
B96: =MONTH(C96)&RIGHT(YEAR(C96),2) -> 409 | C96: 39904 | G96: =G95+E96-F96 -> 213 | K96: =K95+I96-J96 -> 198
B97: =MONTH(C97)&RIGHT(YEAR(C97),2) -> 409 | C97: 39905 | G97: =G96+E97-F97 -> 213 | K97: =K96+I97-J97 -> 198
B98: =MONTH(C98)&RIGHT(YEAR(C98),2) -> 409 | C98: 39906 | G98: =G97+E98-F98 -> 213 | K98: =K97+I98-J98 -> 198
B99: =MONTH(C99)&RIGHT(YEAR(C99),2) -> 409 | C99: 39907 | G99: =G98+E99-F99 -> 213 | K99: =K98+I99-J99 -> 198
B100: =MONTH(C100)&RIGHT(YEAR(C100),2) -> 409 | C100: 39908 | G100: =G99+E100-F100 -> 213 | K100: =K99+I100-J100 -> 198
B101: =MONTH(C101)&RIGHT(YEAR(C101),2) -> 409 | C101: 39909 | G101: =G100+E101-F101 -> 213 | K101: =K100+I101-J101 -> 198
B102: =MONTH(C102)&RIGHT(YEAR(C102),2) -> 409 | C102: 39910 | G102: =G101+E102-F102 -> 213 | K102: =K101+I102-J102 -> 198
B103: =MONTH(C103)&RIGHT(YEAR(C103),2) -> 409 | C103: 39911 | G103: =G102+E103-F103 -> 213 | K103: =K102+I103-J103 -> 198
B104: =MONTH(C104)&RIGHT(YEAR(C104),2) -> 409 | C104: 39912 | G104: =G103+E104-F104 -> 213 | K104: =K103+I104-J104 -> 198
B105: =MONTH(C105)&RIGHT(YEAR(C105),2) -> 409 | C105: 39913 | G105: =G104+E105-F105 -> 213 | K105: =K104+I105-J105 -> 198
B106: =MONTH(C106)&RIGHT(YEAR(C106),2) -> 409 | C106: 39914 | G106: =G105+E106-F106 -> 213 | K106: =K105+I106-J106 -> 198
... B371: =MONTH(C371)&RIGHT(YEAR(C371),2) -> 110 | C371: 40179 | G371: =G370+E371-F371 -> 213 | K371: =K370+I371-J371 -> 198

Sheet Произв_План
T1: Прошло | AB1: Прошло | AI1: Прошло | AL1: Прошло | AO1: Прошло | AR1: Прошло | AT1: Всего за день | AX1: Прошло | BC1: Осталось | BO1: Отгружено на сбыт | BQ1: Отгружено для производства экскаваторов | BT1: Отгружено на сбыт | BV1: Отгружено для производства экскаваторов | BY1: Всего | CA1: Отгружено на сбыт | CC1: Отгружено для производства экскаваторов | CF1: Всего | CH1: ОТК остатки
C2: Подсборка | T2: Модель | V2: Грузы | AA2: Эстакада | AB2: Модель | AD2: Тормозной стенд | AE2: Маскировка | AF2: Окраска | AG2: Сушка | AH2: Демаскировка | AI2: Модель | AK2: Юбочные изделия | AL2: Модель | AN2: Доводка | AO2: Модель | AQ2: ОТК | AR2: Модель | AT2: Прошло | AV2: Остаток на конвейере | AX2: 1221 | AY2: 1221 | AZ2: 826 | BA2: 826 | BB2: 826 | BC2: 1221 | BD2: 1221 | BE2: 826 | BF2: 826 | BG2: 826 | BH2: Установка передних спаренных колес | BI2: Установка задних спаренных колес | BJ2: Установка устройства облегчающего запуск | BK2: Установка капотных кондиционеров | BL2: Установка накрышных кондиционеров | BM2: Сборка колес | BN2: Ремонт колес | BO2: 1221 | BP2: 826 | BQ2: 1221 | BR2: 826 | BS2: 826 | BT2: 1221 | BU2: 826 | BV2: 1221 | BW2: 826 | BX2: 826 | BY2: 1221 | BZ2: 826 | CA2: 1221 | CB2: 826 | CC2: 1221 | CD2: 826 | CE2: 826 | CF2: 1221 | CG2: 826 | CH2: Модель
B3: Дата | C3: Пост1 | D3: Пост2 | E3: Пост3 | F3: Пост4 | G3: Пост5 | H3: Пост6 | I3: Пост7 | J3: Пост8 | K3: Пост9 | L3: Пост10 | M3: Сборка кабин | N3: Сборка капотов | O3: Пост1 | P3: Пост2 | Q3: Пост3 | R3: Пост4 | S3: Пост5 | T3: 1221 | U3: 826 | V3: T1 | W3: Пост6 | X3: Пост7 | Y3: Пост8 | Z3: Пост9 | AA3: Пост10 | AB3: 1221 | AC3: 826 | AD3: T2 | AE3: Пост11 | AF3: Пост12 | AG3: Пост13 | AH3: Пост14 | AI3: 1221 | AJ3: 826 | AK3: Пост15 | AL3: 1221 | AM3: 826 | AN3: Пост16 | AO3: 1221 | AP3: 826 | AQ3: Пост17 | AR3: 1221 | AS3: 826 | AT3: 1221 | AU3: 826 | AV3: 1221 | AW3: 826 | AX3: трактор | AY3: погрузчик | AZ3: трактор | BA3: погрузчик | BB3: экскаватор погрузчик | BC3: трактор | BD3: погрузчик | BE3: трактор | BF3: погрузчик | BG3: экскаватор погрузчик | BQ3: погрузчик | BR3: погрузчик | BS3: экскаватор погрузчик | BV3: погрузчик | BW3: погрузчик | BX3: экскаватор погрузчик | CC3: погрузчик | CD3: погрузчик | CE3: экскаватор погрузчик | CH3: 1221 | CI3: 826
A4: =MONTH(B4)&RIGHT(YEAR(B4),2) -> 109 | B4: 39814 | AT4: =AX4+AY4 -> 0 | AU4: =AZ4+BA4+BB4 -> 0 | AV4: =BC4+BD4 -> 0 | AW4: =BE4+BF4+BG4 -> 0 | BY4: =BT4+BV4 -> 0 | BZ4: =BU4+BW4+BX4 -> 0 | CA4: 716 | CF4: =CA4+CC4 -> 716 | CG4: =CB4+CD4+CE4 -> 0
A5: =MONTH(B5)&RIGHT(YEAR(B5),2) -> 109 | B5: 39815 | AT5: =AX5+AY5 -> 0 | AU5: =AZ5+BA5+BB5 -> 0 | AV5: =BC5+BD5 -> 0 | AW5: =BE5+BF5+BG5 -> 0 | BY5: =BT5+BV5 -> 0 | BZ5: =BU5+BW5+BX5 -> 0 | CA5: =CA4+BO5-BT5 -> 716 | CB5: =CB4+BP5-BU5 -> 0 | CC5: =CC4+BQ5-BV5 -> 0 | CD5: =CD4+BR5-BW5 -> 0 | CE5: =CE4+BS5-BX5 -> 0 | CF5: =CA5+CC5 -> 716 | CG5: =CB5+CD5+CE5 -> 0 | CH5: =CH4+AR5 -> 0 | CI5: =CI4+AS5 -> 0
A6: =MONTH(B6)&RIGHT(YEAR(B6),2) -> 109 | B6: 39816 | AT6: =AX6+AY6 -> 0 | AU6: =AZ6+BA6+BB6 -> 0 | AV6: =BC6+BD6 -> 0 | AW6: =BE6+BF6+BG6 -> 0 | BY6: =BT6+BV6 -> 0 | BZ6: =BU6+BW6+BX6 -> 0 | CA6: =CA5+BO6-BT6 -> 716 | CB6: =CB5+BP6-BU6 -> 0 | CC6: =CC5+BQ6-BV6 -> 0 | CD6: =CD5+BR6-BW6 -> 0 | CE6: =CE5+BS6-BX6 -> 0 | CF6: =CA6+CC6 -> 716 | CG6: =CB6+CD6+CE6 -> 0 | CH6: =CH5+AR6 -> 0 | CI6: =CI5+AS6 -> 0
A7: =MONTH(B7)&RIGHT(YEAR(B7),2) -> 109 | B7: 39817 | AT7: =AX7+AY7 -> 0 | AU7: =AZ7+BA7+BB7 -> 0 | AV7: =BC7+BD7 -> 0 | AW7: =BE7+BF7+BG7 -> 0 | BY7: =BT7+BV7 -> 0 | BZ7: =BU7+BW7+BX7 -> 0 | CA7: =CA6+BO7-BT7 -> 716 | CB7: =CB6+BP7-BU7 -> 0 | CC7: =CC6+BQ7-BV7 -> 0 | CD7: =CD6+BR7-BW7 -> 0 | CE7: =CE6+BS7-BX7 -> 0 | CF7: =CA7+CC7 -> 716 | CG7: =CB7+CD7+CE7 -> 0 | CH7: =CH6+AR7 -> 0 | CI7: =CI6+AS7 -> 0
A8: =MONTH(B8)&RIGHT(YEAR(B8),2) -> 109 | B8: 39818 | AT8: =AX8+AY8 -> 0 | AU8: =AZ8+BA8+BB8 -> 0 | AV8: =BC8+BD8 -> 0 | AW8: =BE8+BF8+BG8 -> 0 | BY8: =BT8+BV8 -> 0 | BZ8: =BU8+BW8+BX8 -> 0 | CA8: =CA7+BO8-BT8 -> 716 | CB8: =CB7+BP8-BU8 -> 0 | CC8: =CC7+BQ8-BV8 -> 0 | CD8: =CD7+BR8-BW8 -> 0 | CE8: =CE7+BS8-BX8 -> 0 | CF8: =CA8+CC8 -> 716 | CG8: =CB8+CD8+CE8 -> 0 | CH8: =CH7+AR8 -> 0 | CI8: =CI7+AS8 -> 0
A9: =MONTH(B9)&RIGHT(YEAR(B9),2) -> 109 | B9: 39819 | AT9: =AX9+AY9 -> 0 | AU9: =AZ9+BA9+BB9 -> 0 | AV9: =BC9+BD9 -> 0 | AW9: =BE9+BF9+BG9 -> 0 | BY9: =BT9+BV9 -> 0 | BZ9: =BU9+BW9+BX9 -> 0 | CA9: =CA8+BO9-BT9 -> 716 | CB9: =CB8+BP9-BU9 -> 0 | CC9: =CC8+BQ9-BV9 -> 0 | CD9: =CD8+BR9-BW9 -> 0 | CE9: =CE8+BS9-BX9 -> 0 | CF9: =CA9+CC9 -> 716 | CG9: =CB9+CD9+CE9 -> 0 | CH9: =CH8+AR9 -> 0 | CI9: =CI8+AS9 -> 0
A10: =MONTH(B10)&RIGHT(YEAR(B10),2) -> 109 | B10: 39820 | AT10: =AX10+AY10 -> 0 | AU10: =AZ10+BA10+BB10 -> 0 | AV10: =BC10+BD10 -> 0 | AW10: =BE10+BF10+BG10 -> 0 | BY10: =BT10+BV10 -> 0 | BZ10: =BU10+BW10+BX10 -> 0 | CA10: =CA9+BO10-BT10 -> 716 | CB10: =CB9+BP10-BU10 -> 0 | CC10: =CC9+BQ10-BV10 -> 0 | CD10: =CD9+BR10-BW10 -> 0 | CE10: =CE9+BS10-BX10 -> 0 | CF10: =CA10+CC10 -> 716 | CG10: =CB10+CD10+CE10 -> 0 | CH10: =CH9+AR10 -> 0 | CI10: =CI9+AS10 -> 0
A11: =MONTH(B11)&RIGHT(YEAR(B11),2) -> 109 | B11: 39821 | AT11: =AX11+AY11 -> 0 | AU11: =AZ11+BA11+BB11 -> 0 | AV11: =BC11+BD11 -> 0 | AW11: =BE11+BF11+BG11 -> 0 | BY11: =BT11+BV11 -> 0 | BZ11: =BU11+BW11+BX11 -> 0 | CA11: =CA10+BO11-BT11 -> 716 | CB11: =CB10+BP11-BU11 -> 0 | CC11: =CC10+BQ11-BV11 -> 0 | CD11: =CD10+BR11-BW11 -> 0 | CE11: =CE10+BS11-BX11 -> 0 | CF11: =CA11+CC11 -> 716 | CG11: =CB11+CD11+CE11 -> 0 | CH11: =CH10+AR11 -> 0 | CI11: =CI10+AS11 -> 0
A12: =MONTH(B12)&RIGHT(YEAR(B12),2) -> 109 | B12: 39822 | AT12: =AX12+AY12 -> 0 | AU12: =AZ12+BA12+BB12 -> 0 | AV12: =BC12+BD12 -> 0 | AW12: =BE12+BF12+BG12 -> 0 | BY12: =BT12+BV12 -> 0 | BZ12: =BU12+BW12+BX12 -> 0 | CA12: =CA11+BO12-BT12 -> 716 | CB12: =CB11+BP12-BU12 -> 0 | CC12: =CC11+BQ12-BV12 -> 0 | CD12: =CD11+BR12-BW12 -> 0 | CE12: =CE11+BS12-BX12 -> 0 | CF12: =CA12+CC12 -> 716 | CG12: =CB12+CD12+CE12 -> 0 | CH12: =CH11+AR12 -> 0 | CI12: =CI11+AS12 -> 0
A13: =MONTH(B13)&RIGHT(YEAR(B13),2) -> 109 | B13: 39823 | AT13: =AX13+AY13 -> 0 | AU13: =AZ13+BA13+BB13 -> 0 | AV13: =BC13+BD13 -> 0 | AW13: =BE13+BF13+BG13 -> 0 | BY13: =BT13+BV13 -> 0 | BZ13: =BU13+BW13+BX13 -> 0 | CA13: =CA12+BO13-BT13 -> 716 | CB13: =CB12+BP13-BU13 -> 0 | CC13: =CC12+BQ13-BV13 -> 0 | CD13: =CD12+BR13-BW13 -> 0 | CE13: =CE12+BS13-BX13 -> 0 | CF13: =CA13+CC13 -> 716 | CG13: =CB13+CD13+CE13 -> 0 | CH13: =CH12+AR13 -> 0 | CI13: =CI12+AS13 -> 0
A14: =MONTH(B14)&RIGHT(YEAR(B14),2) -> 109 | B14: 39824 | AT14: =AX14+AY14 -> 0 | AU14: =AZ14+BA14+BB14 -> 0 | AV14: =BC14+BD14 -> 0 | AW14: =BE14+BF14+BG14 -> 0 | BY14: =BT14+BV14 -> 0 | BZ14: =BU14+BW14+BX14 -> 0 | CA14: =CA13+BO14-BT14 -> 716 | CB14: =CB13+BP14-BU14 -> 0 | CC14: =CC13+BQ14-BV14 -> 0 | CD14: =CD13+BR14-BW14 -> 0 | CE14: =CE13+BS14-BX14 -> 0 | CF14: =CA14+CC14 -> 716 | CG14: =CB14+CD14+CE14 -> 0 | CH14: =CH13+AR14 -> 0 | CI14: =CI13+AS14 -> 0
A15: =MONTH(B15)&RIGHT(YEAR(B15),2) -> 109 | B15: 39825 | AT15: =AX15+AY15 -> 0 | AU15: =AZ15+BA15+BB15 -> 0 | AV15: =BC15+BD15 -> 0 | AW15: =BE15+BF15+BG15 -> 0 | BY15: =BT15+BV15 -> 0 | BZ15: =BU15+BW15+BX15 -> 0 | CA15: =CA14+BO15-BT15 -> 716 | CB15: =CB14+BP15-BU15 -> 0 | CC15: =CC14+BQ15-BV15 -> 0 | CD15: =CD14+BR15-BW15 -> 0 | CE15: =CE14+BS15-BX15 -> 0 | CF15: =CA15+CC15 -> 716 | CG15: =CB15+CD15+CE15 -> 0 | CH15: =CH14+AR15 -> 0 | CI15: =CI14+AS15 -> 0
A16: =MONTH(B16)&RIGHT(YEAR(B16),2) -> 109 | B16: 39826 | AT16: =AX16+AY16 -> 0 | AU16: =AZ16+BA16+BB16 -> 0 | AV16: =BC16+BD16 -> 0 | AW16: =BE16+BF16+BG16 -> 0 | BY16: =BT16+BV16 -> 0 | BZ16: =BU16+BW16+BX16 -> 0 | CA16: =CA15+BO16-BT16 -> 716 | CB16: =CB15+BP16-BU16 -> 0 | CC16: =CC15+BQ16-BV16 -> 0 | CD16: =CD15+BR16-BW16 -> 0 | CE16: =CE15+BS16-BX16 -> 0 | CF16: =CA16+CC16 -> 716 | CG16: =CB16+CD16+CE16 -> 0 | CH16: =CH15+AR16 -> 0 | CI16: =CI15+AS16 -> 0
... A45: =MONTH(B45)&RIGHT(YEAR(B45),2) -> 209 | B45: 39855 | AT45: =AX45+AY45 -> 0 | AU45: =AZ45+BA45+BB45 -> 0 | AV45: =BC45+BD45 -> 0 | AW45: =BE45+BF45+BG45 -> 0 | BY45: =BT45+BV45 -> 0 | BZ45: =BU45+BW45+BX45 -> 0 | CA45: =CA44+BO45-BT45 -> 716 | CB45: =CB44+BP45-BU45 -> 0 | CC45: =CC44+BQ45-BV45 -> 0 | CD45: =CD44+BR45-BW45 -> 0 | CE45: =CE44+BS45-BX45 -> 0 | CF45: =CA45+CC45 -> 716 | CG45: =CB45+CD45+CE45 -> 0 | CH45: =CH44+AR45 -> 0 | CI45: =CI44+AS45 -> 0
A46: =MONTH(B46)&RIGHT(YEAR(B46),2) -> 209 | B46: 39856 | D46: 17 | E46: 17 | F46: 17 | H46: 17 | I46: 17 | M46: 17 | N46: 17 | O46: 17 | P46: 17 | Q46: 17 | R46: 17 | S46: 17 | T46: 17 | V46: 17 | W46: 17 | X46: 17 | Y46: 17 | Z46: 17 | AA46: 17 | AB46: 17 | AD46: 17 | AE46: 17 | AF46: 17 | AG46: 17 | AH46: 17 | AI46: 17 | AK46: 17 | AL46: 17 | AO46: 17 | AQ46: 17 | AR46: 17 | AT46: =AX46+AY46 -> 17 | AU46: =AZ46+BA46+BB46 -> 0 | AV46: =BC46+BD46 -> 0 | AW46: =BE46+BF46+BG46 -> 0 | AX46: 17 | BK46: 5 | BL46: 4 | BO46: 17 | BY46: =BT46+BV46 -> 0 | BZ46: =BU46+BW46+BX46 -> 0 | CA46: =CA45+BO46-BT46 -> 733 | CB46: =CB45+BP46-BU46 -> 0 | CC46: =CC45+BQ46-BV46 -> 0 | CD46: =CD45+BR46-BW46 -> 0 | CE46: =CE45+BS46-BX46 -> 0 | CF46: =CA46+CC46 -> 733 | CG46: =CB46+CD46+CE46 -> 0 | CH46: =CH45+AR46 -> 17 | CI46: =CI45+AS46 -> 0
A47: =MONTH(B47)&RIGHT(YEAR(B47),2) -> 209 | B47: 39857 | D47: 18 | E47: 18 | F47: 18 | H47: 18 | I47: 18 | M47: 18 | N47: 18 | O47: 18 | P47: 18 | Q47: 18 | R47: 18 | S47: 18 | T47: 18 | V47: 18 | W47: 18 | X47: 18 | Y47: 18 | Z47: 18 | AA47: 18 | AB47: 18 | AD47: 18 | AE47: 18 | AF47: 18 | AG47: 18 | AH47: 18 | AI47: 18 | AK47: 18 | AL47: 18 | AO47: 18 | AQ47: 18 | AR47: 18 | AT47: =AX47+AY47 -> 18 | AU47: =AZ47+BA47+BB47 -> 0 | AV47: =BC47+BD47 -> 0 | AW47: =BE47+BF47+BG47 -> 0 | AX47: 18 | BK47: 4 | BL47: 5 | BO47: 17 | BY47: =BT47+BV47 -> 0 | BZ47: =BU47+BW47+BX47 -> 0 | CA47: =CA46+BO47-BT47 -> 750 | CB47: =CB46+BP47-BU47 -> 0 | CC47: =CC46+BQ47-BV47 -> 0 | CD47: =CD46+BR47-BW47 -> 0 | CE47: =CE46+BS47-BX47 -> 0 | CF47: =CA47+CC47 -> 750 | CG47: =CB47+CD47+CE47 -> 0 | CH47: =CH46+AR47 -> 35 | CI47: =CI46+AS47 -> 0
A48: =MONTH(B48)&RIGHT(YEAR(B48),2) -> 209 | B48: 39858 | AT48: =AX48+AY48 -> 0 | AU48: =AZ48+BA48+BB48 -> 0 | AV48: =BC48+BD48 -> 0 | AW48: =BE48+BF48+BG48 -> 0 | BY48: =BT48+BV48 -> 0 | BZ48: =BU48+BW48+BX48 -> 0 | CA48: =CA47+BO48-BT48 -> 750 | CB48: =CB47+BP48-BU48 -> 0 | CC48: =CC47+BQ48-BV48 -> 0 | CD48: =CD47+BR48-BW48 -> 0 | CE48: =CE47+BS48-BX48 -> 0 | CF48: =CA48+CC48 -> 750 | CG48: =CB48+CD48+CE48 -> 0 | CH48: =CH47+AR48 -> 35 | CI48: =CI47+AS48 -> 0
A49: =MONTH(B49)&RIGHT(YEAR(B49),2) -> 209 | B49: 39859 | AT49: =AX49+AY49 -> 0 | AU49: =AZ49+BA49+BB49 -> 0 | AV49: =BC49+BD49 -> 0 | AW49: =BE49+BF49+BG49 -> 0 | BY49: =BT49+BV49 -> 0 | BZ49: =BU49+BW49+BX49 -> 0 | CA49: =CA48+BO49-BT49 -> 750 | CB49: =CB48+BP49-BU49 -> 0 | CC49: =CC48+BQ49-BV49 -> 0 | CD49: =CD48+BR49-BW49 -> 0 | CE49: =CE48+BS49-BX49 -> 0 | CF49: =CA49+CC49 -> 750 | CG49: =CB49+CD49+CE49 -> 0 | CH49: =CH48+AR49 -> 35 | CI49: =CI48+AS49 -> 0
A50: =MONTH(B50)&RIGHT(YEAR(B50),2) -> 209 | B50: 39860 | D50: 19 | E50: 19 | F50: 19 | H50: 19 | I50: 19 | M50: 19 | N50: 19 | O50: 19 | P50: 19 | Q50: 19 | R50: 19 | S50: 19 | T50: 19 | V50: 19 | W50: 19 | X50: 19 | Y50: 19 | Z50: 19 | AA50: 19 | AB50: 19 | AD50: 19 | AE50: 19 | AF50: 19 | AG50: 19 | AH50: 19 | AI50: 19 | AK50: 19 | AL50: 19 | AO50: 19 | AQ50: 19 | AR50: 19 | AT50: =AX50+AY50 -> 19 | AU50: =AZ50+BA50+BB50 -> 0 | AV50: =BC50+BD50 -> 0 | AW50: =BE50+BF50+BG50 -> 0 | AX50: 19 | BK50: 5 | BL50: 4 | BO50: 18 | BY50: =BT50+BV50 -> 0 | BZ50: =BU50+BW50+BX50 -> 0 | CA50: =CA49+BO50-BT50 -> 768 | CB50: =CB49+BP50-BU50 -> 0 | CC50: =CC49+BQ50-BV50 -> 0 | CD50: =CD49+BR50-BW50 -> 0 | CE50: =CE49+BS50-BX50 -> 0 | CF50: =CA50+CC50 -> 768 | CG50: =CB50+CD50+CE50 -> 0 | CH50: =CH49+AR50 -> 54 | CI50: =CI49+AS50 -> 0
A51: =MONTH(B51)&RIGHT(YEAR(B51),2) -> 209 | B51: 39861 | D51: 20 | E51: 20 | F51: 20 | H51: 20 | I51: 20 | M51: 20 | N51: 20 | O51: 20 | P51: 20 | Q51: 20 | R51: 20 | S51: 20 | T51: 20 | V51: 20 | W51: 20 | X51: 20 | Y51: 20 | Z51: 20 | AA51: 20 | AB51: 20 | AD51: 20 | AE51: 20 | AF51: 20 | AG51: 20 | AH51: 20 | AI51: 20 | AK51: 20 | AL51: 20 | AO51: 20 | AQ51: 20 | AR51: 20 | AT51: =AX51+AY51 -> 20 | AU51: =AZ51+BA51+BB51 -> 0 | AV51: =BC51+BD51 -> 0 | AW51: =BE51+BF51+BG51 -> 0 | AX51: 20 | BK51: 5 | BL51: 5 | BO51: 19 | BY51: =BT51+BV51 -> 0 | BZ51: =BU51+BW51+BX51 -> 0 | CA51: =CA50+BO51-BT51 -> 787 | CB51: =CB50+BP51-BU51 -> 0 | CC51: =CC50+BQ51-BV51 -> 0 | CD51: =CD50+BR51-BW51 -> 0 | CE51: =CE50+BS51-BX51 -> 0 | CF51: =CA51+CC51 -> 787 | CG51: =CB51+CD51+CE51 -> 0 | CH51: =CH50+AR51 -> 74 | CI51: =CI50+AS51 -> 0
A52: =MONTH(B52)&RIGHT(YEAR(B52),2) -> 209 | B52: 39862 | D52: 20 | E52: 20 | F52: 20 | H52: 20 | I52: 20 | M52: 20 | N52: 20 | O52: 20 | P52: 20 | Q52: 20 | R52: 20 | S52: 20 | T52: 20 | V52: 20 | W52: 20 | X52: 20 | Y52: 20 | Z52: 20 | AA52: 20 | AB52: 20 | AD52: 20 | AE52: 20 | AF52: 20 | AG52: 20 | AH52: 20 | AI52: 20 | AK52: 20 | AL52: 20 | AO52: 20 | AQ52: 20 | AR52: 20 | AT52: =AX52+AY52 -> 20 | AU52: =AZ52+BA52+BB52 -> 0 | AV52: =BC52+BD52 -> 0 | AW52: =BE52+BF52+BG52 -> 0 | AX52: 20 | BK52: 5 | BL52: 5 | BO52: 20 | BY52: =BT52+BV52 -> 0 | BZ52: =BU52+BW52+BX52 -> 0 | CA52: =CA51+BO52-BT52 -> 807 | CB52: =CB51+BP52-BU52 -> 0 | CC52: =CC51+BQ52-BV52 -> 0 | CD52: =CD51+BR52-BW52 -> 0 | CE52: =CE51+BS52-BX52 -> 0 | CF52: =CA52+CC52 -> 807 | CG52: =CB52+CD52+CE52 -> 0 | CH52: =CH51+AR52 -> 94 | CI52: =CI51+AS52 -> 0
A53: =MONTH(B53)&RIGHT(YEAR(B53),2) -> 209 | B53: 39863 | D53: 20 | E53: 20 | F53: 20 | H53: 20 | I53: 20 | M53: 20 | N53: 20 | O53: 20 | P53: 20 | Q53: 20 | R53: 20 | S53: 20 | T53: 20 | V53: 20 | W53: 20 | X53: 20 | Y53: 20 | Z53: 20 | AA53: 20 | AB53: 20 | AD53: 20 | AE53: 20 | AF53: 20 | AG53: 20 | AH53: 20 | AI53: 20 | AK53: 20 | AL53: 20 | AO53: 20 | AQ53: 20 | AR53: 20 | AT53: =AX53+AY53 -> 20 | AU53: =AZ53+BA53+BB53 -> 0 | AV53: =BC53+BD53 -> 0 | AW53: =BE53+BF53+BG53 -> 0 | AX53: 20 | BK53: 5 | BL53: 5 | BO53: 20 | BY53: =BT53+BV53 -> 0 | BZ53: =BU53+BW53+BX53 -> 0 | CA53: =CA52+BO53-BT53 -> 827 | CB53: =CB52+BP53-BU53 -> 0 | CC53: =CC52+BQ53-BV53 -> 0 | CD53: =CD52+BR53-BW53 -> 0 | CE53: =CE52+BS53-BX53 -> 0 | CF53: =CA53+CC53 -> 827 | CG53: =CB53+CD53+CE53 -> 0 | CH53: =CH52+AR53 -> 114 | CI53: =CI52+AS53 -> 0
A54: =MONTH(B54)&RIGHT(YEAR(B54),2) -> 209 | B54: 39864 | D54: 20 | E54: 20 | F54: 20 | H54: 20 | I54: 20 | M54: 20 | N54: 20 | O54: 20 | P54: 20 | Q54: 20 | R54: 20 | S54: 20 | T54: 20 | V54: 20 | W54: 20 | X54: 20 | Y54: 20 | Z54: 20 | AA54: 20 | AB54: 20 | AD54: 20 | AE54: 20 | AF54: 20 | AG54: 20 | AH54: 20 | AI54: 20 | AK54: 20 | AL54: 20 | AO54: 20 | AQ54: 20 | AR54: 20 | AT54: =AX54+AY54 -> 20 | AU54: =AZ54+BA54+BB54 -> 0 | AV54: =BC54+BD54 -> 0 | AW54: =BE54+BF54+BG54 -> 0 | AX54: 20 | BK54: 5 | BL54: 5 | BO54: 20 | BY54: =BT54+BV54 -> 0 | BZ54: =BU54+BW54+BX54 -> 0 | CA54: =CA53+BO54-BT54 -> 847 | CB54: =CB53+BP54-BU54 -> 0 | CC54: =CC53+BQ54-BV54 -> 0 | CD54: =CD53+BR54-BW54 -> 0 | CE54: =CE53+BS54-BX54 -> 0 | CF54: =CA54+CC54 -> 847 | CG54: =CB54+CD54+CE54 -> 0 | CH54: =CH53+AR54 -> 134 | CI54: =CI53+AS54 -> 0
A55: =MONTH(B55)&RIGHT(YEAR(B55),2) -> 209 | B55: 39865 | AT55: =AX55+AY55 -> 0 | AU55: =AZ55+BA55+BB55 -> 0 | AV55: =BC55+BD55 -> 0 | AW55: =BE55+BF55+BG55 -> 0 | BY55: =BT55+BV55 -> 0 | BZ55: =BU55+BW55+BX55 -> 0 | CA55: =CA54+BO55-BT55 -> 847 | CB55: =CB54+BP55-BU55 -> 0 | CC55: =CC54+BQ55-BV55 -> 0 | CD55: =CD54+BR55-BW55 -> 0 | CE55: =CE54+BS55-BX55 -> 0 | CF55: =CA55+CC55 -> 847 | CG55: =CB55+CD55+CE55 -> 0 | CH55: =CH54+AR55 -> 134 | CI55: =CI54+AS55 -> 0
A56: =MONTH(B56)&RIGHT(YEAR(B56),2) -> 209 | B56: 39866 | AT56: =AX56+AY56 -> 0 | AU56: =AZ56+BA56+BB56 -> 0 | AV56: =BC56+BD56 -> 0 | AW56: =BE56+BF56+BG56 -> 0 | BY56: =BT56+BV56 -> 0 | BZ56: =BU56+BW56+BX56 -> 0 | CA56: =CA55+BO56-BT56 -> 847 | CB56: =CB55+BP56-BU56 -> 0 | CC56: =CC55+BQ56-BV56 -> 0 | CD56: =CD55+BR56-BW56 -> 0 | CE56: =CE55+BS56-BX56 -> 0 | CF56: =CA56+CC56 -> 847 | CG56: =CB56+CD56+CE56 -> 0 | CH56: =CH55+AR56 -> 134 | CI56: =CI55+AS56 -> 0
A57: =MONTH(B57)&RIGHT(YEAR(B57),2) -> 209 | B57: 39867 | AT57: =AX57+AY57 -> 0 | AU57: =AZ57+BA57+BB57 -> 0 | AV57: =BC57+BD57 -> 0 | AW57: =BE57+BF57+BG57 -> 0 | BY57: =BT57+BV57 -> 0 | BZ57: =BU57+BW57+BX57 -> 0 | CA57: =CA56+BO57-BT57 -> 847 | CB57: =CB56+BP57-BU57 -> 0 | CC57: =CC56+BQ57-BV57 -> 0 | CD57: =CD56+BR57-BW57 -> 0 | CE57: =CE56+BS57-BX57 -> 0 | CF57: =CA57+CC57 -> 847 | CG57: =CB57+CD57+CE57 -> 0 | CH57: =CH56+AR57 -> 134 | CI57: =CI56+AS57 -> 0
A58: =MONTH(B58)&RIGHT(YEAR(B58),2) -> 209 | B58: 39868 | D58: 20 | E58: 20 | F58: 20 | H58: 20 | I58: 20 | M58: 20 | N58: 20 | O58: 20 | P58: 20 | Q58: 20 | R58: 20 | S58: 20 | T58: 20 | V58: 20 | W58: 20 | X58: 20 | Y58: 20 | Z58: 20 | AA58: 20 | AB58: 20 | AD58: 20 | AE58: 20 | AF58: 20 | AG58: 20 | AH58: 20 | AI58: 20 | AK58: 20 | AL58: 20 | AO58: 20 | AQ58: 20 | AR58: 20 | AT58: =AX58+AY58 -> 20 | AU58: =AZ58+BA58+BB58 -> 0 | AV58: =BC58+BD58 -> 0 | AW58: =BE58+BF58+BG58 -> 0 | AX58: 20 | BK58: 5 | BL58: 5 | BO58: 20 | BY58: =BT58+BV58 -> 0 | BZ58: =BU58+BW58+BX58 -> 0 | CA58: =CA57+BO58-BT58 -> 867 | CB58: =CB57+BP58-BU58 -> 0 | CC58: =CC57+BQ58-BV58 -> 0 | CD58: =CD57+BR58-BW58 -> 0 | CE58: =CE57+BS58-BX58 -> 0 | CF58: =CA58+CC58 -> 867 | CG58: =CB58+CD58+CE58 -> 0 | CH58: =CH57+AR58 -> 154 | CI58: =CI57+AS58 -> 0
A59: =MONTH(B59)&RIGHT(YEAR(B59),2) -> 209 | B59: 39869 | D59: 20 | E59: 20 | F59: 20 | H59: 20 | I59: 20 | M59: 20 | N59: 20 | O59: 20 | P59: 20 | Q59: 20 | R59: 20 | S59: 20 | T59: 20 | V59: 20 | W59: 20 | X59: 20 | Y59: 20 | Z59: 20 | AA59: 20 | AB59: 20 | AD59: 20 | AE59: 20 | AF59: 20 | AG59: 20 | AH59: 20 | AI59: 20 | AK59: 20 | AL59: 20 | AO59: 20 | AQ59: 20 | AR59: 20 | AT59: =AX59+AY59 -> 20 | AU59: =AZ59+BA59+BB59 -> 0 | AV59: =BC59+BD59 -> 0 | AW59: =BE59+BF59+BG59 -> 0 | AX59: 20 | BK59: 5 | BL59: 5 | BO59: 20 | BY59: =BT59+BV59 -> 0 | BZ59: =BU59+BW59+BX59 -> 0 | CA59: =CA58+BO59-BT59 -> 887 | CB59: =CB58+BP59-BU59 -> 0 | CC59: =CC58+BQ59-BV59 -> 0 | CD59: =CD58+BR59-BW59 -> 0 | CE59: =CE58+BS59-BX59 -> 0 | CF59: =CA59+CC59 -> 887 | CG59: =CB59+CD59+CE59 -> 0 | CH59: =CH58+AR59 -> 174 | CI59: =CI58+AS59 -> 0
A60: =MONTH(B60)&RIGHT(YEAR(B60),2) -> 209 | B60: 39870 | D60: 20 | E60: 20 | F60: 20 | H60: 20 | I60: 20 | M60: 20 | N60: 20 | O60: 20 | P60: 20 | Q60: 20 | R60: 20 | S60: 20 | T60: 20 | V60: 20 | W60: 20 | X60: 20 | Y60: 20 | Z60: 20 | AA60: 20 | AB60: 20 | AD60: 20 | AE60: 20 | AF60: 20 | AG60: 20 | AH60: 20 | AI60: 20 | AK60: 20 | AL60: 20 | AO60: 20 | AQ60: 20 | AR60: 20 | AT60: =AX60+AY60 -> 20 | AU60: =AZ60+BA60+BB60 -> 0 | AV60: =BC60+BD60 -> 0 | AW60: =BE60+BF60+BG60 -> 0 | AX60: 20 | BK60: 5 | BL60: 5 | BO60: 20 | BY60: =BT60+BV60 -> 0 | BZ60: =BU60+BW60+BX60 -> 0 | CA60: =CA59+BO60-BT60 -> 907 | CB60: =CB59+BP60-BU60 -> 0 | CC60: =CC59+BQ60-BV60 -> 0 | CD60: =CD59+BR60-BW60 -> 0 | CE60: =CE59+BS60-BX60 -> 0 | CF60: =CA60+CC60 -> 907 | CG60: =CB60+CD60+CE60 -> 0 | CH60: =CH59+AR60 -> 194 | CI60: =CI59+AS60 -> 0
A61: =MONTH(B61)&RIGHT(YEAR(B61),2) -> 209 | B61: 39871 | D61: 20 | E61: 20 | F61: 20 | H61: 20 | I61: 20 | M61: 20 | N61: 20 | O61: 20 | P61: 20 | Q61: 20 | R61: 20 | S61: 20 | T61: 20 | V61: 20 | W61: 20 | X61: 20 | Y61: 20 | Z61: 20 | AA61: 20 | AB61: 20 | AD61: 20 | AE61: 20 | AF61: 20 | AG61: 20 | AH61: 20 | AI61: 20 | AK61: 20 | AL61: 20 | AO61: 20 | AQ61: 20 | AR61: 20 | AT61: =AX61+AY61 -> 20 | AU61: =AZ61+BA61+BB61 -> 0 | AV61: =BC61+BD61 -> 0 | AW61: =BE61+BF61+BG61 -> 0 | AX61: 20 | BK61: 5 | BL61: 5 | BO61: 20 | BY61: =BT61+BV61 -> 0 | BZ61: =BU61+BW61+BX61 -> 0 | CA61: =CA60+BO61-BT61 -> 927 | CB61: =CB60+BP61-BU61 -> 0 | CC61: =CC60+BQ61-BV61 -> 0 | CD61: =CD60+BR61-BW61 -> 0 | CE61: =CE60+BS61-BX61 -> 0 | CF61: =CA61+CC61 -> 927 | CG61: =CB61+CD61+CE61 -> 0 | CH61: =CH60+AR61 -> 214 | CI61: =CI60+AS61 -> 0
A62: =MONTH(B62)&RIGHT(YEAR(B62),2) -> 209 | B62: 39872 | AT62: =AX62+AY62 -> 0 | AU62: =AZ62+BA62+BB62 -> 0 | AV62: =BC62+BD62 -> 0 | AW62: =BE62+BF62+BG62 -> 0 | BY62: =BT62+BV62 -> 0 | BZ62: =BU62+BW62+BX62 -> 0 | CA62: =CA61+BO62-BT62 -> 927 | CB62: =CB61+BP62-BU62 -> 0 | CC62: =CC61+BQ62-BV62 -> 0 | CD62: =CD61+BR62-BW62 -> 0 | CE62: =CE61+BS62-BX62 -> 0 | CF62: =CA62+CC62 -> 927 | CG62: =CB62+CD62+CE62 -> 0 | CH62: =CH61+AR62 -> 214 | CI62: =CI61+AS62 -> 0
A63: =MONTH(B63)&RIGHT(YEAR(B63),2) -> 309 | B63: 39873 | AT63: =AX63+AY63 -> 0 | AU63: =AZ63+BA63+BB63 -> 0 | AV63: =BC63+BD63 -> 0 | AW63: =BE63+BF63+BG63 -> 0 | BY63: =BT63+BV63 -> 0 | BZ63: =BU63+BW63+BX63 -> 0 | CA63: =CA62+BO63-BT63 -> 927 | CB63: =CB62+BP63-BU63 -> 0 | CC63: =CC62+BQ63-BV63 -> 0 | CD63: =CD62+BR63-BW63 -> 0 | CE63: =CE62+BS63-BX63 -> 0 | CF63: =CA63+CC63 -> 927 | CG63: =CB63+CD63+CE63 -> 0 | CH63: =CH62+AR63 -> 214 | CI63: =CI62+AS63 -> 0
A64: =MONTH(B64)&RIGHT(YEAR(B64),2) -> 309 | B64: 39874 | D64: 20 | E64: 20 | F64: 20 | H64: 20 | I64: 20 | M64: 20 | N64: 20 | O64: 20 | P64: 20 | Q64: 20 | R64: 20 | S64: 20 | T64: 20 | V64: 20 | W64: 20 | X64: 20 | Y64: 20 | Z64: 20 | AA64: 20 | AB64: 20 | AD64: 20 | AE64: 20 | AF64: 20 | AG64: 20 | AH64: 20 | AI64: 20 | AK64: 20 | AL64: 20 | AN64: 20 | AO64: 20 | AQ64: 20 | AR64: 20 | AT64: =AX64+AY64 -> 20 | AU64: =AZ64+BA64+BB64 -> 0 | AV64: =BC64+BD64 -> 0 | AW64: =BE64+BF64+BG64 -> 0 | AX64: 20 | BK64: 5 | BL64: 5 | BO64: 20 | BY64: =BT64+BV64 -> 0 | BZ64: =BU64+BW64+BX64 -> 0 | CA64: =CA63+BO64-BT64 -> 947 | CB64: =CB63+BP64-BU64 -> 0 | CC64: =CC63+BQ64-BV64 -> 0 | CD64: =CD63+BR64-BW64 -> 0 | CE64: =CE63+BS64-BX64 -> 0 | CF64: =CA64+CC64 -> 947 | CG64: =CB64+CD64+CE64 -> 0 | CH64: =CH63+AR64 -> 234 | CI64: =CI63+AS64 -> 0
A65: =MONTH(B65)&RIGHT(YEAR(B65),2) -> 309 | B65: 39875 | D65: 20 | E65: 20 | F65: 20 | H65: 20 | I65: 20 | M65: 20 | N65: 20 | O65: 20 | P65: 20 | Q65: 20 | R65: 20 | S65: 20 | T65: 20 | V65: 20 | W65: 20 | X65: 20 | Y65: 20 | Z65: 20 | AA65: 20 | AB65: 20 | AD65: 20 | AE65: 20 | AF65: 20 | AG65: 20 | AH65: 20 | AI65: 20 | AK65: 20 | AL65: 20 | AN65: 20 | AO65: 20 | AQ65: 20 | AR65: 20 | AT65: =AX65+AY65 -> 20 | AU65: =AZ65+BA65+BB65 -> 0 | AV65: =BC65+BD65 -> 0 | AW65: =BE65+BF65+BG65 -> 0 | AX65: 20 | BK65: 5 | BL65: 5 | BO65: 20 | BY65: =BT65+BV65 -> 0 | BZ65: =BU65+BW65+BX65 -> 0 | CA65: =CA64+BO65-BT65 -> 967 | CB65: =CB64+BP65-BU65 -> 0 | CC65: =CC64+BQ65-BV65 -> 0 | CD65: =CD64+BR65-BW65 -> 0 | CE65: =CE64+BS65-BX65 -> 0 | CF65: =CA65+CC65 -> 967 | CG65: =CB65+CD65+CE65 -> 0 | CH65: =CH64+AR65 -> 254 | CI65: =CI64+AS65 -> 0
A66: =MONTH(B66)&RIGHT(YEAR(B66),2) -> 309 | B66: 39876 | D66: 20 | E66: 20 | F66: 20 | H66: 20 | I66: 20 | M66: 20 | N66: 20 | O66: 20 | P66: 20 | Q66: 20 | R66: 20 | S66: 20 | T66: 20 | V66: 20 | W66: 20 | X66: 20 | Y66: 20 | Z66: 20 | AA66: 20 | AB66: 20 | AD66: 20 | AE66: 20 | AF66: 20 | AG66: 20 | AH66: 20 | AI66: 20 | AK66: 20 | AL66: 20 | AN66: 20 | AO66: 20 | AQ66: 20 | AR66: 20 | AT66: =AX66+AY66 -> 20 | AU66: =AZ66+BA66+BB66 -> 0 | AV66: =BC66+BD66 -> 0 | AW66: =BE66+BF66+BG66 -> 0 | AX66: 20 | BK66: 5 | BL66: 5 | BO66: 20 | BY66: =BT66+BV66 -> 0 | BZ66: =BU66+BW66+BX66 -> 0 | CA66: =CA65+BO66-BT66 -> 987 | CB66: =CB65+BP66-BU66 -> 0 | CC66: =CC65+BQ66-BV66 -> 0 | CD66: =CD65+BR66-BW66 -> 0 | CE66: =CE65+BS66-BX66 -> 0 | CF66: =CA66+CC66 -> 987 | CG66: =CB66+CD66+CE66 -> 0 | CH66: =CH65+AR66 -> 274 | CI66: =CI65+AS66 -> 0
A67: =MONTH(B67)&RIGHT(YEAR(B67),2) -> 309 | B67: 39877 | D67: 20 | E67: 20 | F67: 20 | H67: 20 | I67: 20 | M67: 20 | N67: 20 | O67: 20 | P67: 20 | Q67: 20 | R67: 20 | S67: 20 | T67: 20 | V67: 20 | W67: 20 | X67: 20 | Y67: 20 | Z67: 20 | AA67: 20 | AB67: 20 | AD67: 20 | AE67: 20 | AF67: 20 | AG67: 20 | AH67: 20 | AI67: 20 | AK67: 20 | AL67: 20 | AN67: 20 | AO67: 20 | AQ67: 20 | AR67: 20 | AT67: =AX67+AY67 -> 20 | AU67: =AZ67+BA67+BB67 -> 0 | AV67: =BC67+BD67 -> 0 | AW67: =BE67+BF67+BG67 -> 0 | AX67: 20 | BK67: 5 | BL67: 5 | BO67: 20 | BY67: =BT67+BV67 -> 0 | BZ67: =BU67+BW67+BX67 -> 0 | CA67: =CA66+BO67-BT67 -> 1007 | CB67: =CB66+BP67-BU67 -> 0 | CC67: =CC66+BQ67-BV67 -> 0 | CD67: =CD66+BR67-BW67 -> 0 | CE67: =CE66+BS67-BX67 -> 0 | CF67: =CA67+CC67 -> 1007 | CG67: =CB67+CD67+CE67 -> 0 | CH67: =CH66+AR67 -> 294 | CI67: =CI66+AS67 -> 0
A68: =MONTH(B68)&RIGHT(YEAR(B68),2) -> 309 | B68: 39878 | D68: 20 | E68: 20 | F68: 20 | H68: 20 | I68: 20 | M68: 20 | N68: 20 | O68: 20 | P68: 20 | Q68: 20 | R68: 20 | S68: 20 | T68: 20 | V68: 20 | W68: 20 | X68: 20 | Y68: 20 | Z68: 20 | AA68: 20 | AB68: 20 | AD68: 20 | AE68: 20 | AF68: 20 | AG68: 20 | AH68: 20 | AI68: 20 | AK68: 20 | AL68: 20 | AN68: 20 | AO68: 20 | AQ68: 20 | AR68: 20 | AT68: =AX68+AY68 -> 20 | AU68: =AZ68+BA68+BB68 -> 0 | AV68: =BC68+BD68 -> 0 | AW68: =BE68+BF68+BG68 -> 0 | AX68: 20 | BK68: 5 | BL68: 5 | BO68: 20 | BY68: =BT68+BV68 -> 0 | BZ68: =BU68+BW68+BX68 -> 0 | CA68: =CA67+BO68-BT68 -> 1027 | CB68: =CB67+BP68-BU68 -> 0 | CC68: =CC67+BQ68-BV68 -> 0 | CD68: =CD67+BR68-BW68 -> 0 | CE68: =CE67+BS68-BX68 -> 0 | CF68: =CA68+CC68 -> 1027 | CG68: =CB68+CD68+CE68 -> 0 | CH68: =CH67+AR68 -> 314 | CI68: =CI67+AS68 -> 0
A69: =MONTH(B69)&RIGHT(YEAR(B69),2) -> 309 | B69: 39879 | AT69: =AX69+AY69 -> 0 | AU69: =AZ69+BA69+BB69 -> 0 | AV69: =BC69+BD69 -> 0 | AW69: =BE69+BF69+BG69 -> 0 | BY69: =BT69+BV69 -> 0 | BZ69: =BU69+BW69+BX69 -> 0 | CA69: =CA68+BO69-BT69 -> 1027 | CB69: =CB68+BP69-BU69 -> 0 | CC69: =CC68+BQ69-BV69 -> 0 | CD69: =CD68+BR69-BW69 -> 0 | CE69: =CE68+BS69-BX69 -> 0 | CF69: =CA69+CC69 -> 1027 | CG69: =CB69+CD69+CE69 -> 0 | CH69: =CH68+AR69 -> 314 | CI69: =CI68+AS69 -> 0
A70: =MONTH(B70)&RIGHT(YEAR(B70),2) -> 309 | B70: 39880 | AT70: =AX70+AY70 -> 0 | AU70: =AZ70+BA70+BB70 -> 0 | AV70: =BC70+BD70 -> 0 | AW70: =BE70+BF70+BG70 -> 0 | BY70: =BT70+BV70 -> 0 | BZ70: =BU70+BW70+BX70 -> 0 | CA70: =CA69+BO70-BT70 -> 1027 | CB70: =CB69+BP70-BU70 -> 0 | CC70: =CC69+BQ70-BV70 -> 0 | CD70: =CD69+BR70-BW70 -> 0 | CE70: =CE69+BS70-BX70 -> 0 | CF70: =CA70+CC70 -> 1027 | CG70: =CB70+CD70+CE70 -> 0 | CH70: =CH69+AR70 -> 314 | CI70: =CI69+AS70 -> 0
A71: =MONTH(B71)&RIGHT(YEAR(B71),2) -> 309 | B71: 39881 | AT71: =AX71+AY71 -> 0 | AU71: =AZ71+BA71+BB71 -> 0 | AV71: =BC71+BD71 -> 0 | AW71: =BE71+BF71+BG71 -> 0 | BY71: =BT71+BV71 -> 0 | BZ71: =BU71+BW71+BX71 -> 0 | CA71: =CA70+BO71-BT71 -> 1027 | CB71: =CB70+BP71-BU71 -> 0 | CC71: =CC70+BQ71-BV71 -> 0 | CD71: =CD70+BR71-BW71 -> 0 | CE71: =CE70+BS71-BX71 -> 0 | CF71: =CA71+CC71 -> 1027 | CG71: =CB71+CD71+CE71 -> 0 | CH71: =CH70+AR71 -> 314 | CI71: =CI70+AS71 -> 0
A72: =MONTH(B72)&RIGHT(YEAR(B72),2) -> 309 | B72: 39882 | D72: 25 | O72: 25 | P72: 25 | Q72: 25 | R72: 25 | S72: 25 | U72: 25 | V72: 25 | W72: 25 | X72: 25 | Y72: 25 | Z72: 25 | AA72: 25 | AC72: 25 | AD72: 25 | AE72: 25 | AF72: 25 | AG72: 25 | AH72: 25 | AJ72: 25 | AK72: 25 | AM72: 25 | AN72: 25 | AP72: 25 | AQ72: 25 | AS72: 25 | AT72: =AX72+AY72 -> 0 | AU72: =AZ72+BA72+BB72 -> 25 | AV72: =BC72+BD72 -> 0 | AW72: =BE72+BF72+BG72 -> 0 | AZ72: 25 | BO72: 20 | BY72: =BT72+BV72 -> 0 | BZ72: =BU72+BW72+BX72 -> 0 | CA72: =CA71+BO72-BT72 -> 1047 | CB72: =CB71+BP72-BU72 -> 0 | CC72: =CC71+BQ72-BV72 -> 0 | CD72: =CD71+BR72-BW72 -> 0 | CE72: =CE71+BS72-BX72 -> 0 | CF72: =CA72+CC72 -> 1047 | CG72: =CB72+CD72+CE72 -> 0 | CH72: =CH71+AR72 -> 314 | CI72: =CI71+AS72 -> 25
A73: =MONTH(B73)&RIGHT(YEAR(B73),2) -> 309 | B73: 39883 | D73: 25 | O73: 25 | P73: 25 | Q73: 25 | R73: 25 | S73: 25 | U73: 25 | V73: 25 | W73: 25 | X73: 25 | Y73: 25 | Z73: 25 | AA73: 25 | AC73: 25 | AD73: 25 | AE73: 25 | AF73: 25 | AG73: 25 | AH73: 25 | AJ73: 25 | AK73: 25 | AM73: 25 | AN73: 25 | AP73: 25 | AQ73: 25 | AS73: 25 | AT73: =AX73+AY73 -> 0 | AU73: =AZ73+BA73+BB73 -> 25 | AV73: =BC73+BD73 -> 0 | AW73: =BE73+BF73+BG73 -> 0 | AZ73: 25 | BP73: 25 | BY73: =BT73+BV73 -> 0 | BZ73: =BU73+BW73+BX73 -> 0 | CA73: =CA72+BO73-BT73 -> 1047 | CB73: =CB72+BP73-BU73 -> 25 | CC73: =CC72+BQ73-BV73 -> 0 | CD73: =CD72+BR73-BW73 -> 0 | CE73: =CE72+BS73-BX73 -> 0 | CF73: =CA73+CC73 -> 1047 | CG73: =CB73+CD73+CE73 -> 25 | CH73: =CH72+AR73 -> 314 | CI73: =CI72+AS73 -> 50
A74: =MONTH(B74)&RIGHT(YEAR(B74),2) -> 309 | B74: 39884 | D74: 25 | O74: 25 | P74: 25 | Q74: 25 | R74: 25 | S74: 25 | U74: 25 | V74: 25 | W74: 25 | X74: 25 | Y74: 25 | Z74: 25 | AA74: 25 | AC74: 25 | AD74: 25 | AE74: 25 | AF74: 25 | AG74: 25 | AH74: 25 | AJ74: 25 | AK74: 25 | AM74: 25 | AN74: 25 | AP74: 25 | AQ74: 25 | AS74: 25 | AT74: =AX74+AY74 -> 0 | AU74: =AZ74+BA74+BB74 -> 25 | AV74: =BC74+BD74 -> 0 | AW74: =BE74+BF74+BG74 -> 0 | AZ74: 25 | BP74: 25 | BY74: =BT74+BV74 -> 0 | BZ74: =BU74+BW74+BX74 -> 0 | CA74: =CA73+BO74-BT74 -> 1047 | CB74: =CB73+BP74-BU74 -> 50 | CC74: =CC73+BQ74-BV74 -> 0 | CD74: =CD73+BR74-BW74 -> 0 | CE74: =CE73+BS74-BX74 -> 0 | CF74: =CA74+CC74 -> 1047 | CG74: =CB74+CD74+CE74 -> 50 | CH74: =CH73+AR74 -> 314 | CI74: =CI73+AS74 -> 75
A75: =MONTH(B75)&RIGHT(YEAR(B75),2) -> 309 | B75: 39885 | D75: 25 | O75: 25 | P75: 25 | Q75: 25 | R75: 25 | S75: 25 | U75: 25 | V75: 25 | W75: 25 | X75: 25 | Y75: 25 | Z75: 25 | AA75: 25 | AC75: 25 | AD75: 25 | AE75: 25 | AF75: 25 | AG75: 25 | AH75: 25 | AJ75: 25 | AK75: 25 | AM75: 25 | AN75: 25 | AP75: 25 | AQ75: 25 | AS75: 25 | AT75: =AX75+AY75 -> 0 | AU75: =AZ75+BA75+BB75 -> 25 | AV75: =BC75+BD75 -> 0 | AW75: =BE75+BF75+BG75 -> 0 | AZ75: 25 | BP75: 25 | BY75: =BT75+BV75 -> 0 | BZ75: =BU75+BW75+BX75 -> 0 | CA75: =CA74+BO75-BT75 -> 1047 | CB75: =CB74+BP75-BU75 -> 75 | CC75: =CC74+BQ75-BV75 -> 0 | CD75: =CD74+BR75-BW75 -> 0 | CE75: =CE74+BS75-BX75 -> 0 | CF75: =CA75+CC75 -> 1047 | CG75: =CB75+CD75+CE75 -> 75 | CH75: =CH74+AR75 -> 314 | CI75: =CI74+AS75 -> 100
A76: =MONTH(B76)&RIGHT(YEAR(B76),2) -> 309 | B76: 39886 | AT76: =AX76+AY76 -> 0 | AU76: =AZ76+BA76+BB76 -> 0 | AV76: =BC76+BD76 -> 0 | AW76: =BE76+BF76+BG76 -> 0 | BY76: =BT76+BV76 -> 0 | BZ76: =BU76+BW76+BX76 -> 0 | CA76: =CA75+BO76-BT76 -> 1047 | CB76: =CB75+BP76-BU76 -> 75 | CC76: =CC75+BQ76-BV76 -> 0 | CD76: =CD75+BR76-BW76 -> 0 | CE76: =CE75+BS76-BX76 -> 0 | CF76: =CA76+CC76 -> 1047 | CG76: =CB76+CD76+CE76 -> 75 | CH76: =CH75+AR76 -> 314 | CI76: =CI75+AS76 -> 100
A77: =MONTH(B77)&RIGHT(YEAR(B77),2) -> 309 | B77: 39887 | AT77: =AX77+AY77 -> 0 | AU77: =AZ77+BA77+BB77 -> 0 | AV77: =BC77+BD77 -> 0 | AW77: =BE77+BF77+BG77 -> 0 | BY77: =BT77+BV77 -> 0 | BZ77: =BU77+BW77+BX77 -> 0 | CA77: =CA76+BO77-BT77 -> 1047 | CB77: =CB76+BP77-BU77 -> 75 | CC77: =CC76+BQ77-BV77 -> 0 | CD77: =CD76+BR77-BW77 -> 0 | CE77: =CE76+BS77-BX77 -> 0 | CF77: =CA77+CC77 -> 1047 | CG77: =CB77+CD77+CE77 -> 75 | CH77: =CH76+AR77 -> 314 | CI77: =CI76+AS77 -> 100
A78: =MONTH(B78)&RIGHT(YEAR(B78),2) -> 309 | B78: 39888 | D78: 25 | O78: 25 | P78: 25 | Q78: 25 | R78: 25 | S78: 25 | U78: 25 | V78: 25 | W78: 25 | X78: 25 | Y78: 25 | Z78: 25 | AA78: 25 | AC78: 25 | AD78: 25 | AE78: 25 | AF78: 25 | AG78: 25 | AH78: 25 | AJ78: 25 | AK78: 25 | AM78: 25 | AN78: 25 | AP78: 25 | AQ78: 25 | AS78: 25 | AT78: =AX78+AY78 -> 0 | AU78: =AZ78+BA78+BB78 -> 25 | AV78: =BC78+BD78 -> 0 | AW78: =BE78+BF78+BG78 -> 0 | AZ78: 25 | BP78: 25 | BY78: =BT78+BV78 -> 0 | BZ78: =BU78+BW78+BX78 -> 0 | CA78: =CA77+BO78-BT78 -> 1047 | CB78: =CB77+BP78-BU78 -> 100 | CC78: =CC77+BQ78-BV78 -> 0 | CD78: =CD77+BR78-BW78 -> 0 | CE78: =CE77+BS78-BX78 -> 0 | CF78: =CA78+CC78 -> 1047 | CG78: =CB78+CD78+CE78 -> 100 | CH78: =CH77+AR78 -> 314 | CI78: =CI77+AS78 -> 125
A79: =MONTH(B79)&RIGHT(YEAR(B79),2) -> 309 | B79: 39889 | D79: 25 | O79: 25 | P79: 25 | Q79: 25 | R79: 25 | S79: 25 | U79: 25 | V79: 25 | W79: 25 | X79: 25 | Y79: 25 | Z79: 25 | AA79: 25 | AC79: 25 | AD79: 25 | AE79: 25 | AF79: 25 | AG79: 25 | AH79: 25 | AJ79: 25 | AK79: 25 | AM79: 25 | AN79: 25 | AP79: 25 | AQ79: 25 | AS79: 25 | AT79: =AX79+AY79 -> 0 | AU79: =AZ79+BA79+BB79 -> 25 | AV79: =BC79+BD79 -> 0 | AW79: =BE79+BF79+BG79 -> 0 | AZ79: 25 | BP79: 25 | BY79: =BT79+BV79 -> 0 | BZ79: =BU79+BW79+BX79 -> 0 | CA79: =CA78+BO79-BT79 -> 1047 | CB79: =CB78+BP79-BU79 -> 125 | CC79: =CC78+BQ79-BV79 -> 0 | CD79: =CD78+BR79-BW79 -> 0 | CE79: =CE78+BS79-BX79 -> 0 | CF79: =CA79+CC79 -> 1047 | CG79: =CB79+CD79+CE79 -> 125 | CH79: =CH78+AR79 -> 314 | CI79: =CI78+AS79 -> 150
A80: =MONTH(B80)&RIGHT(YEAR(B80),2) -> 309 | B80: 39890 | D80: 25 | O80: 25 | P80: 25 | Q80: 25 | R80: 25 | S80: 25 | U80: 25 | V80: 25 | W80: 25 | X80: 25 | Y80: 25 | Z80: 25 | AA80: 25 | AC80: 25 | AD80: 25 | AE80: 25 | AF80: 25 | AG80: 25 | AH80: 25 | AJ80: 25 | AK80: 25 | AM80: 25 | AN80: 25 | AP80: 25 | AQ80: 25 | AS80: 25 | AT80: =AX80+AY80 -> 0 | AU80: =AZ80+BA80+BB80 -> 25 | AV80: =BC80+BD80 -> 0 | AW80: =BE80+BF80+BG80 -> 0 | AZ80: 25 | BP80: 25 | BY80: =BT80+BV80 -> 0 | BZ80: =BU80+BW80+BX80 -> 0 | CA80: =CA79+BO80-BT80 -> 1047 | CB80: =CB79+BP80-BU80 -> 150 | CC80: =CC79+BQ80-BV80 -> 0 | CD80: =CD79+BR80-BW80 -> 0 | CE80: =CE79+BS80-BX80 -> 0 | CF80: =CA80+CC80 -> 1047 | CG80: =CB80+CD80+CE80 -> 150 | CH80: =CH79+AR80 -> 314 | CI80: =CI79+AS80 -> 175
A81: =MONTH(B81)&RIGHT(YEAR(B81),2) -> 309 | B81: 39891 | D81: 25 | O81: 25 | P81: 25 | Q81: 25 | R81: 25 | S81: 25 | U81: 25 | V81: 25 | W81: 25 | X81: 25 | Y81: 25 | Z81: 25 | AA81: 25 | AC81: 25 | AD81: 25 | AE81: 25 | AF81: 25 | AG81: 25 | AH81: 25 | AJ81: 25 | AK81: 25 | AM81: 25 | AN81: 25 | AP81: 25 | AQ81: 25 | AS81: 25 | AT81: =AX81+AY81 -> 0 | AU81: =AZ81+BA81+BB81 -> 25 | AV81: =BC81+BD81 -> 0 | AW81: =BE81+BF81+BG81 -> 0 | AZ81: 25 | BP81: 25 | BY81: =BT81+BV81 -> 0 | BZ81: =BU81+BW81+BX81 -> 0 | CA81: =CA80+BO81-BT81 -> 1047 | CB81: =CB80+BP81-BU81 -> 175 | CC81: =CC80+BQ81-BV81 -> 0 | CD81: =CD80+BR81-BW81 -> 0 | CE81: =CE80+BS81-BX81 -> 0 | CF81: =CA81+CC81 -> 1047 | CG81: =CB81+CD81+CE81 -> 175 | CH81: =CH80+AR81 -> 314 | CI81: =CI80+AS81 -> 200
A82: =MONTH(B82)&RIGHT(YEAR(B82),2) -> 309 | B82: 39892 | D82: 25 | O82: 25 | P82: 25 | Q82: 25 | R82: 25 | S82: 25 | U82: 25 | V82: 25 | W82: 25 | X82: 25 | Y82: 25 | Z82: 25 | AA82: 25 | AC82: 25 | AD82: 25 | AE82: 25 | AF82: 25 | AG82: 25 | AH82: 25 | AJ82: 25 | AK82: 25 | AM82: 25 | AN82: 25 | AP82: 25 | AQ82: 25 | AS82: 25 | AT82: =AX82+AY82 -> 0 | AU82: =AZ82+BA82+BB82 -> 25 | AV82: =BC82+BD82 -> 0 | AW82: =BE82+BF82+BG82 -> 0 | AZ82: 25 | BP82: 25 | BY82: =BT82+BV82 -> 0 | BZ82: =BU82+BW82+BX82 -> 0 | CA82: =CA81+BO82-BT82 -> 1047 | CB82: =CB81+BP82-BU82 -> 200 | CC82: =CC81+BQ82-BV82 -> 0 | CD82: =CD81+BR82-BW82 -> 0 | CE82: =CE81+BS82-BX82 -> 0 | CF82: =CA82+CC82 -> 1047 | CG82: =CB82+CD82+CE82 -> 200 | CH82: =CH81+AR82 -> 314 | CI82: =CI81+AS82 -> 225
A83: =MONTH(B83)&RIGHT(YEAR(B83),2) -> 309 | B83: 39893 | AT83: =AX83+AY83 -> 0 | AU83: =AZ83+BA83+BB83 -> 0 | AV83: =BC83+BD83 -> 0 | AW83: =BE83+BF83+BG83 -> 0 | BY83: =BT83+BV83 -> 0 | BZ83: =BU83+BW83+BX83 -> 0 | CA83: =CA82+BO83-BT83 -> 1047 | CB83: =CB82+BP83-BU83 -> 200 | CC83: =CC82+BQ83-BV83 -> 0 | CD83: =CD82+BR83-BW83 -> 0 | CE83: =CE82+BS83-BX83 -> 0 | CF83: =CA83+CC83 -> 1047 | CG83: =CB83+CD83+CE83 -> 200 | CH83: =CH82+AR83 -> 314 | CI83: =CI82+AS83 -> 225
A84: =MONTH(B84)&RIGHT(YEAR(B84),2) -> 309 | B84: 39894 | AT84: =AX84+AY84 -> 0 | AU84: =AZ84+BA84+BB84 -> 0 | AV84: =BC84+BD84 -> 0 | AW84: =BE84+BF84+BG84 -> 0 | BY84: =BT84+BV84 -> 0 | BZ84: =BU84+BW84+BX84 -> 0 | CA84: =CA83+BO84-BT84 -> 1047 | CB84: =CB83+BP84-BU84 -> 200 | CC84: =CC83+BQ84-BV84 -> 0 | CD84: =CD83+BR84-BW84 -> 0 | CE84: =CE83+BS84-BX84 -> 0 | CF84: =CA84+CC84 -> 1047 | CG84: =CB84+CD84+CE84 -> 200 | CH84: =CH83+AR84 -> 314 | CI84: =CI83+AS84 -> 225
A85: =MONTH(B85)&RIGHT(YEAR(B85),2) -> 309 | B85: 39895 | D85: 25 | O85: 25 | P85: 25 | Q85: 25 | R85: 25 | S85: 25 | U85: 25 | V85: 25 | W85: 25 | X85: 25 | Y85: 25 | Z85: 25 | AA85: 25 | AC85: 25 | AD85: 25 | AE85: 25 | AF85: 25 | AG85: 25 | AH85: 25 | AJ85: 25 | AK85: 25 | AM85: 25 | AN85: 25 | AP85: 25 | AQ85: 25 | AS85: 25 | AT85: =AX85+AY85 -> 0 | AU85: =AZ85+BA85+BB85 -> 25 | AV85: =BC85+BD85 -> 0 | AW85: =BE85+BF85+BG85 -> 0 | AZ85: 25 | BP85: 25 | BY85: =BT85+BV85 -> 0 | BZ85: =BU85+BW85+BX85 -> 0 | CA85: =CA84+BO85-BT85 -> 1047 | CB85: =CB84+BP85-BU85 -> 225 | CC85: =CC84+BQ85-BV85 -> 0 | CD85: =CD84+BR85-BW85 -> 0 | CE85: =CE84+BS85-BX85 -> 0 | CF85: =CA85+CC85 -> 1047 | CG85: =CB85+CD85+CE85 -> 225 | CH85: =CH84+AR85 -> 314 | CI85: =CI84+AS85 -> 250
A86: =MONTH(B86)&RIGHT(YEAR(B86),2) -> 309 | B86: 39896 | D86: 25 | O86: 25 | P86: 25 | Q86: 25 | R86: 25 | S86: 25 | U86: 25 | V86: 25 | W86: 25 | X86: 25 | Y86: 25 | Z86: 25 | AA86: 25 | AC86: 25 | AD86: 25 | AE86: 25 | AF86: 25 | AG86: 25 | AH86: 25 | AJ86: 25 | AK86: 25 | AM86: 25 | AN86: 25 | AP86: 25 | AQ86: 25 | AS86: 25 | AT86: =AX86+AY86 -> 0 | AU86: =AZ86+BA86+BB86 -> 25 | AV86: =BC86+BD86 -> 0 | AW86: =BE86+BF86+BG86 -> 0 | AZ86: 25 | BP86: 25 | BY86: =BT86+BV86 -> 0 | BZ86: =BU86+BW86+BX86 -> 0 | CA86: =CA85+BO86-BT86 -> 1047 | CB86: =CB85+BP86-BU86 -> 250 | CC86: =CC85+BQ86-BV86 -> 0 | CD86: =CD85+BR86-BW86 -> 0 | CE86: =CE85+BS86-BX86 -> 0 | CF86: =CA86+CC86 -> 1047 | CG86: =CB86+CD86+CE86 -> 250 | CH86: =CH85+AR86 -> 314 | CI86: =CI85+AS86 -> 275
A87: =MONTH(B87)&RIGHT(YEAR(B87),2) -> 309 | B87: 39897 | D87: 25 | O87: 25 | P87: 25 | Q87: 25 | R87: 25 | S87: 25 | U87: 25 | V87: 25 | W87: 25 | X87: 25 | Y87: 25 | Z87: 25 | AA87: 25 | AC87: 25 | AD87: 25 | AE87: 25 | AF87: 25 | AG87: 25 | AH87: 25 | AJ87: 25 | AK87: 25 | AM87: 25 | AN87: 25 | AP87: 25 | AQ87: 25 | AS87: 25 | AT87: =AX87+AY87 -> 0 | AU87: =AZ87+BA87+BB87 -> 25 | AV87: =BC87+BD87 -> 0 | AW87: =BE87+BF87+BG87 -> 0 | AZ87: 25 | BP87: 25 | BY87: =BT87+BV87 -> 0 | BZ87: =BU87+BW87+BX87 -> 0 | CA87: =CA86+BO87-BT87 -> 1047 | CB87: =CB86+BP87-BU87 -> 275 | CC87: =CC86+BQ87-BV87 -> 0 | CD87: =CD86+BR87-BW87 -> 0 | CE87: =CE86+BS87-BX87 -> 0 | CF87: =CA87+CC87 -> 1047 | CG87: =CB87+CD87+CE87 -> 275 | CH87: =CH86+AR87 -> 314 | CI87: =CI86+AS87 -> 300
A88: =MONTH(B88)&RIGHT(YEAR(B88),2) -> 309 | B88: 39898 | D88: 25 | O88: 25 | P88: 25 | Q88: 25 | R88: 25 | S88: 25 | U88: 25 | V88: 25 | W88: 25 | X88: 25 | Y88: 25 | Z88: 25 | AA88: 25 | AC88: 25 | AD88: 25 | AE88: 25 | AF88: 25 | AG88: 25 | AH88: 25 | AJ88: 25 | AK88: 25 | AM88: 25 | AN88: 25 | AP88: 25 | AQ88: 25 | AS88: 25 | AT88: =AX88+AY88 -> 0 | AU88: =AZ88+BA88+BB88 -> 25 | AV88: =BC88+BD88 -> 0 | AW88: =BE88+BF88+BG88 -> 0 | AZ88: 25 | BP88: 25 | BY88: =BT88+BV88 -> 0 | BZ88: =BU88+BW88+BX88 -> 0 | CA88: =CA87+BO88-BT88 -> 1047 | CB88: =CB87+BP88-BU88 -> 300 | CC88: =CC87+BQ88-BV88 -> 0 | CD88: =CD87+BR88-BW88 -> 0 | CE88: =CE87+BS88-BX88 -> 0 | CF88: =CA88+CC88 -> 1047 | CG88: =CB88+CD88+CE88 -> 300 | CH88: =CH87+AR88 -> 314 | CI88: =CI87+AS88 -> 325
A89: =MONTH(B89)&RIGHT(YEAR(B89),2) -> 309 | B89: 39899 | D89: 25 | O89: 25 | P89: 25 | Q89: 25 | R89: 25 | S89: 25 | U89: 25 | V89: 25 | W89: 25 | X89: 25 | Y89: 25 | Z89: 25 | AA89: 25 | AC89: 25 | AD89: 25 | AE89: 25 | AF89: 25 | AG89: 25 | AH89: 25 | AJ89: 25 | AK89: 25 | AM89: 25 | AN89: 25 | AP89: 25 | AQ89: 25 | AS89: 25 | AT89: =AX89+AY89 -> 0 | AU89: =AZ89+BA89+BB89 -> 25 | AV89: =BC89+BD89 -> 0 | AW89: =BE89+BF89+BG89 -> 0 | AZ89: 25 | BP89: 25 | BY89: =BT89+BV89 -> 0 | BZ89: =BU89+BW89+BX89 -> 0 | CA89: =CA88+BO89-BT89 -> 1047 | CB89: =CB88+BP89-BU89 -> 325 | CC89: =CC88+BQ89-BV89 -> 0 | CD89: =CD88+BR89-BW89 -> 0 | CE89: =CE88+BS89-BX89 -> 0 | CF89: =CA89+CC89 -> 1047 | CG89: =CB89+CD89+CE89 -> 325 | CH89: =CH88+AR89 -> 314 | CI89: =CI88+AS89 -> 350
A90: =MONTH(B90)&RIGHT(YEAR(B90),2) -> 309 | B90: 39900 | AT90: =AX90+AY90 -> 0 | AU90: =AZ90+BA90+BB90 -> 0 | AV90: =BC90+BD90 -> 0 | AW90: =BE90+BF90+BG90 -> 0 | BY90: =BT90+BV90 -> 0 | BZ90: =BU90+BW90+BX90 -> 0 | CA90: =CA89+BO90-BT90 -> 1047 | CB90: =CB89+BP90-BU90 -> 325 | CC90: =CC89+BQ90-BV90 -> 0 | CD90: =CD89+BR90-BW90 -> 0 | CE90: =CE89+BS90-BX90 -> 0 | CF90: =CA90+CC90 -> 1047 | CG90: =CB90+CD90+CE90 -> 325 | CH90: =CH89+AR90 -> 314 | CI90: =CI89+AS90 -> 350
A91: =MONTH(B91)&RIGHT(YEAR(B91),2) -> 309 | B91: 39901 | AT91: =AX91+AY91 -> 0 | AU91: =AZ91+BA91+BB91 -> 0 | AV91: =BC91+BD91 -> 0 | AW91: =BE91+BF91+BG91 -> 0 | BY91: =BT91+BV91 -> 0 | BZ91: =BU91+BW91+BX91 -> 0 | CA91: =CA90+BO91-BT91 -> 1047 | CB91: =CB90+BP91-BU91 -> 325 | CC91: =CC90+BQ91-BV91 -> 0 | CD91: =CD90+BR91-BW91 -> 0 | CE91: =CE90+BS91-BX91 -> 0 | CF91: =CA91+CC91 -> 1047 | CG91: =CB91+CD91+CE91 -> 325 | CH91: =CH90+AR91 -> 314 | CI91: =CI90+AS91 -> 350
A92: =MONTH(B92)&RIGHT(YEAR(B92),2) -> 309 | B92: 39902 | D92: 25 | O92: 25 | P92: 25 | Q92: 25 | R92: 25 | S92: 25 | U92: 25 | V92: 25 | W92: 25 | X92: 25 | Y92: 25 | Z92: 25 | AA92: 25 | AC92: 25 | AD92: 25 | AE92: 25 | AF92: 25 | AG92: 25 | AH92: 25 | AJ92: 25 | AK92: 25 | AM92: 25 | AN92: 25 | AP92: 25 | AQ92: 25 | AS92: 25 | AT92: =AX92+AY92 -> 0 | AU92: =AZ92+BA92+BB92 -> 25 | AV92: =BC92+BD92 -> 0 | AW92: =BE92+BF92+BG92 -> 0 | AZ92: 25 | BP92: 25 | BY92: =BT92+BV92 -> 0 | BZ92: =BU92+BW92+BX92 -> 0 | CA92: =CA91+BO92-BT92 -> 1047 | CB92: =CB91+BP92-BU92 -> 350 | CC92: =CC91+BQ92-BV92 -> 0 | CD92: =CD91+BR92-BW92 -> 0 | CE92: =CE91+BS92-BX92 -> 0 | CF92: =CA92+CC92 -> 1047 | CG92: =CB92+CD92+CE92 -> 350 | CH92: =CH91+AR92 -> 314 | CI92: =CI91+AS92 -> 375
A93: =MONTH(B93)&RIGHT(YEAR(B93),2) -> 309 | B93: 39903 | D93: 25 | O93: 25 | P93: 25 | Q93: 25 | R93: 25 | S93: 25 | U93: 25 | V93: 25 | W93: 25 | X93: 25 | Y93: 25 | Z93: 25 | AA93: 25 | AC93: 25 | AD93: 25 | AE93: 25 | AF93: 25 | AG93: 25 | AH93: 25 | AJ93: 25 | AK93: 25 | AM93: 25 | AN93: 25 | AP93: 25 | AQ93: 25 | AS93: 25 | AT93: =AX93+AY93 -> 0 | AU93: =AZ93+BA93+BB93 -> 25 | AV93: =BC93+BD93 -> 0 | AW93: =BE93+BF93+BG93 -> 0 | AZ93: 25 | BP93: 25 | BY93: =BT93+BV93 -> 0 | BZ93: =BU93+BW93+BX93 -> 0 | CA93: =CA92+BO93-BT93 -> 1047 | CB93: =CB92+BP93-BU93 -> 375 | CC93: =CC92+BQ93-BV93 -> 0 | CD93: =CD92+BR93-BW93 -> 0 | CE93: =CE92+BS93-BX93 -> 0 | CF93: =CA93+CC93 -> 1047 | CG93: =CB93+CD93+CE93 -> 375 | CH93: =CH92+AR93 -> 314 | CI93: =CI92+AS93 -> 400
A94: =MONTH(B94)&RIGHT(YEAR(B94),2) -> 409 | B94: 39904 | AT94: =AX94+AY94 -> 0 | AU94: =AZ94+BA94+BB94 -> 0 | AV94: =BC94+BD94 -> 0 | AW94: =BE94+BF94+BG94 -> 0 | BY94: =BT94+BV94 -> 0 | BZ94: =BU94+BW94+BX94 -> 0 | CA94: =CA93+BO94-BT94 -> 1047 | CB94: =CB93+BP94-BU94 -> 375 | CC94: =CC93+BQ94-BV94 -> 0 | CD94: =CD93+BR94-BW94 -> 0 | CE94: =CE93+BS94-BX94 -> 0 | CF94: =CA94+CC94 -> 1047 | CG94: =CB94+CD94+CE94 -> 375 | CH94: =CH93+AR94 -> 314 | CI94: =CI93+AS94 -> 400
A95: =MONTH(B95)&RIGHT(YEAR(B95),2) -> 409 | B95: 39905 | AT95: =AX95+AY95 -> 0 | AU95: =AZ95+BA95+BB95 -> 0 | AV95: =BC95+BD95 -> 0 | AW95: =BE95+BF95+BG95 -> 0 | BY95: =BT95+BV95 -> 0 | BZ95: =BU95+BW95+BX95 -> 0 | CA95: =CA94+BO95-BT95 -> 1047 | CB95: =CB94+BP95-BU95 -> 375 | CC95: =CC94+BQ95-BV95 -> 0 | CD95: =CD94+BR95-BW95 -> 0 | CE95: =CE94+BS95-BX95 -> 0 | CF95: =CA95+CC95 -> 1047 | CG95: =CB95+CD95+CE95 -> 375 | CH95: =CH94+AR95 -> 314 | CI95: =CI94+AS95 -> 400
A96: =MONTH(B96)&RIGHT(YEAR(B96),2) -> 409 | B96: 39906 | AT96: =AX96+AY96 -> 0 | AU96: =AZ96+BA96+BB96 -> 0 | AV96: =BC96+BD96 -> 0 | AW96: =BE96+BF96+BG96 -> 0 | BY96: =BT96+BV96 -> 0 | BZ96: =BU96+BW96+BX96 -> 0 | CA96: =CA95+BO96-BT96 -> 1047 | CB96: =CB95+BP96-BU96 -> 375 | CC96: =CC95+BQ96-BV96 -> 0 | CD96: =CD95+BR96-BW96 -> 0 | CE96: =CE95+BS96-BX96 -> 0 | CF96: =CA96+CC96 -> 1047 | CG96: =CB96+CD96+CE96 -> 375 | CH96: =CH95+AR96 -> 314 | CI96: =CI95+AS96 -> 400
A97: =MONTH(B97)&RIGHT(YEAR(B97),2) -> 409 | B97: 39907 | AT97: =AX97+AY97 -> 0 | AU97: =AZ97+BA97+BB97 -> 0 | AV97: =BC97+BD97 -> 0 | AW97: =BE97+BF97+BG97 -> 0 | BY97: =BT97+BV97 -> 0 | BZ97: =BU97+BW97+BX97 -> 0 | CA97: =CA96+BO97-BT97 -> 1047 | CB97: =CB96+BP97-BU97 -> 375 | CC97: =CC96+BQ97-BV97 -> 0 | CD97: =CD96+BR97-BW97 -> 0 | CE97: =CE96+BS97-BX97 -> 0 | CF97: =CA97+CC97 -> 1047 | CG97: =CB97+CD97+CE97 -> 375 | CH97: =CH96+AR97 -> 314 | CI97: =CI96+AS97 -> 400
A98: =MONTH(B98)&RIGHT(YEAR(B98),2) -> 409 | B98: 39908 | AT98: =AX98+AY98 -> 0 | AU98: =AZ98+BA98+BB98 -> 0 | AV98: =BC98+BD98 -> 0 | AW98: =BE98+BF98+BG98 -> 0 | BY98: =BT98+BV98 -> 0 | BZ98: =BU98+BW98+BX98 -> 0 | CA98: =CA97+BO98-BT98 -> 1047 | CB98: =CB97+BP98-BU98 -> 375 | CC98: =CC97+BQ98-BV98 -> 0 | CD98: =CD97+BR98-BW98 -> 0 | CE98: =CE97+BS98-BX98 -> 0 | CF98: =CA98+CC98 -> 1047 | CG98: =CB98+CD98+CE98 -> 375 | CH98: =CH97+AR98 -> 314 | CI98: =CI97+AS98 -> 400
A99: =MONTH(B99)&RIGHT(YEAR(B99),2) -> 409 | B99: 39909 | AT99: =AX99+AY99 -> 0 | AU99: =AZ99+BA99+BB99 -> 0 | AV99: =BC99+BD99 -> 0 | AW99: =BE99+BF99+BG99 -> 0 | BY99: =BT99+BV99 -> 0 | BZ99: =BU99+BW99+BX99 -> 0 | CA99: =CA98+BO99-BT99 -> 1047 | CB99: =CB98+BP99-BU99 -> 375 | CC99: =CC98+BQ99-BV99 -> 0 | CD99: =CD98+BR99-BW99 -> 0 | CE99: =CE98+BS99-BX99 -> 0 | CF99: =CA99+CC99 -> 1047 | CG99: =CB99+CD99+CE99 -> 375 | CH99: =CH98+AR99 -> 314 | CI99: =CI98+AS99 -> 400
A100: =MONTH(B100)&RIGHT(YEAR(B100),2) -> 409 | B100: 39910 | AT100: =AX100+AY100 -> 0 | AU100: =AZ100+BA100+BB100 -> 0 | AV100: =BC100+BD100 -> 0 | AW100: =BE100+BF100+BG100 -> 0 | BY100: =BT100+BV100 -> 0 | BZ100: =BU100+BW100+BX100 -> 0 | CA100: =CA99+BO100-BT100 -> 1047 | CB100: =CB99+BP100-BU100 -> 375 | CC100: =CC99+BQ100-BV100 -> 0 | CD100: =CD99+BR100-BW100 -> 0 | CE100: =CE99+BS100-BX100 -> 0 | CF100: =CA100+CC100 -> 1047 | CG100: =CB100+CD100+CE100 -> 375 | CH100: =CH99+AR100 -> 314 | CI100: =CI99+AS100 -> 400
A101: =MONTH(B101)&RIGHT(YEAR(B101),2) -> 409 | B101: 39911 | AT101: =AX101+AY101 -> 0 | AU101: =AZ101+BA101+BB101 -> 0 | AV101: =BC101+BD101 -> 0 | AW101: =BE101+BF101+BG101 -> 0 | BY101: =BT101+BV101 -> 0 | BZ101: =BU101+BW101+BX101 -> 0 | CA101: =CA100+BO101-BT101 -> 1047 | CB101: =CB100+BP101-BU101 -> 375 | CC101: =CC100+BQ101-BV101 -> 0 | CD101: =CD100+BR101-BW101 -> 0 | CE101: =CE100+BS101-BX101 -> 0 | CF101: =CA101+CC101 -> 1047 | CG101: =CB101+CD101+CE101 -> 375 | CH101: =CH100+AR101 -> 314 | CI101: =CI100+AS101 -> 400
A102: =MONTH(B102)&RIGHT(YEAR(B102),2) -> 409 | B102: 39912 | AT102: =AX102+AY102 -> 0 | AU102: =AZ102+BA102+BB102 -> 0 | AV102: =BC102+BD102 -> 0 | AW102: =BE102+BF102+BG102 -> 0 | BY102: =BT102+BV102 -> 0 | BZ102: =BU102+BW102+BX102 -> 0 | CA102: =CA101+BO102-BT102 -> 1047 | CB102: =CB101+BP102-BU102 -> 375 | CC102: =CC101+BQ102-BV102 -> 0 | CD102: =CD101+BR102-BW102 -> 0 | CE102: =CE101+BS102-BX102 -> 0 | CF102: =CA102+CC102 -> 1047 | CG102: =CB102+CD102+CE102 -> 375 | CH102: =CH101+AR102 -> 314 | CI102: =CI101+AS102 -> 400
A103: =MONTH(B103)&RIGHT(YEAR(B103),2) -> 409 | B103: 39913 | AT103: =AX103+AY103 -> 0 | AU103: =AZ103+BA103+BB103 -> 0 | AV103: =BC103+BD103 -> 0 | AW103: =BE103+BF103+BG103 -> 0 | BY103: =BT103+BV103 -> 0 | BZ103: =BU103+BW103+BX103 -> 0 | CA103: =CA102+BO103-BT103 -> 1047 | CB103: =CB102+BP103-BU103 -> 375 | CC103: =CC102+BQ103-BV103 -> 0 | CD103: =CD102+BR103-BW103 -> 0 | CE103: =CE102+BS103-BX103 -> 0 | CF103: =CA103+CC103 -> 1047 | CG103: =CB103+CD103+CE103 -> 375 | CH103: =CH102+AR103 -> 314 | CI103: =CI102+AS103 -> 400
A104: =MONTH(B104)&RIGHT(YEAR(B104),2) -> 409 | B104: 39914 | AT104: =AX104+AY104 -> 0 | AU104: =AZ104+BA104+BB104 -> 0 | AV104: =BC104+BD104 -> 0 | AW104: =BE104+BF104+BG104 -> 0 | BY104: =BT104+BV104 -> 0 | BZ104: =BU104+BW104+BX104 -> 0 | CA104: =CA103+BO104-BT104 -> 1047 | CB104: =CB103+BP104-BU104 -> 375 | CC104: =CC103+BQ104-BV104 -> 0 | CD104: =CD103+BR104-BW104 -> 0 | CE104: =CE103+BS104-BX104 -> 0 | CF104: =CA104+CC104 -> 1047 | CG104: =CB104+CD104+CE104 -> 375 | CH104: =CH103+AR104 -> 314 | CI104: =CI103+AS104 -> 400
A105: =MONTH(B105)&RIGHT(YEAR(B105),2) -> 409 | B105: 39915 | AT105: =AX105+AY105 -> 0 | AU105: =AZ105+BA105+BB105 -> 0 | AV105: =BC105+BD105 -> 0 | AW105: =BE105+BF105+BG105 -> 0 | BY105: =BT105+BV105 -> 0 | BZ105: =BU105+BW105+BX105 -> 0 | CA105: =CA104+BO105-BT105 -> 1047 | CB105: =CB104+BP105-BU105 -> 375 | CC105: =CC104+BQ105-BV105 -> 0 | CD105: =CD104+BR105-BW105 -> 0 | CE105: =CE104+BS105-BX105 -> 0 | CF105: =CA105+CC105 -> 1047 | CG105: =CB105+CD105+CE105 -> 375 | CH105: =CH104+AR105 -> 314 | CI105: =CI104+AS105 -> 400
... A369: =MONTH(B369)&RIGHT(YEAR(B369),2) -> 110 | B369: 40179 | AT369: =AX369+AY369 -> 0 | AU369: =AZ369+BA369+BB369 -> 0 | AV369: =BC369+BD369 -> 0 | AW369: =BE369+BF369+BG369 -> 0 | BY369: =BT369+BV369 -> 0 | BZ369: =BU369+BW369+BX369 -> 0 | CA369: =CA368+BO369-BT369 -> 1047 | CB369: =CB368+BP369-BU369 -> 375 | CC369: =CC368+BQ369-BV369 -> 0 | CD369: =CD368+BR369-BW369 -> 0 | CE369: =CE368+BS369-BX369 -> 0 | CF369: =CA369+CC369 -> 1047 | CG369: =CB369+CD369+CE369 -> 375 | CH369: =CH368+AR369 -> 314 | CI369: =CI368+AS369 -> 400

Sheet Произв_Факт
T1: Прошло | AB1: Прошло | AI1: Прошло | AL1: Прошло | AO1: Прошло | AR1: Прошло | AT1: Всего за день | AX1: Прошло | BC1: Осталось | BO1: Отгружено на сбыт | BQ1: Отгружено для производства экскаваторов | BT1: Реализовано | BY1: Всего | CA1: Остатки | CF1: Всего | CH1: ОТК остатки
C2: Подсборка | T2: Модель | V2: Грузы | AA2: Эстакада | AB2: Модель | AD2: Тормозной стенд | AE2: Маскировка | AF2: Окраска | AG2: Сушка | AH2: Демаскировка | AI2: Модель | AK2: Юбочные изделия | AL2: Модель | AN2: Доводка | AO2: Модель | AQ2: ОТК | AR2: Модель | AT2: Прошло | AV2: Остаток на конвейере | AX2: 1221 | AY2: 1221 | AZ2: 826 | BA2: 826 | BB2: 826 | BC2: 1221 | BD2: 1221 | BE2: 826 | BF2: 826 | BG2: 826 | BH2: Установка передних спаренных колес | BI2: Установка задних спаренных колес | BJ2: Установка устройства облегчающего запуск | BK2: Установка капотных кондиционеров | BL2: Установка накрышных кондиционеров | BM2: Сборка колес | BN2: Ремонт колес | BO2: 1221 | BP2: 826 | BQ2: 1221 | BR2: 826 | BS2: 826 | BT2: 1221 | BU2: 826 | BV2: 1221 | BW2: 826 | BX2: 826 | BY2: 1221 | BZ2: 826 | CA2: 1221 | CB2: 826 | CC2: 1221 | CD2: 826 | CE2: 826 | CF2: 1221 | CG2: 826 | CH2: Модель
B3: Дата | C3: Пост1 | D3: Пост2 | E3: Пост3 | F3: Пост4 | G3: Пост5 | H3: Пост6 | I3: Пост7 | J3: Пост8 | K3: Пост9 | L3: Пост10 | M3: Сборка кабин | N3: Сборка капотов | O3: Пост1 | P3: Пост2 | Q3: Пост3 | R3: Пост4 | S3: Пост5 | T3: 1221 | U3: 826 | V3: T1 | W3: Пост6 | X3: Пост7 | Y3: Пост8 | Z3: Пост9 | AA3: Пост10 | AB3: 1221 | AC3: 826 | AD3: T2 | AE3: Пост11 | AF3: Пост12 | AG3: Пост13 | AH3: Пост14 | AI3: 1221 | AJ3: 826 | AK3: Пост15 | AL3: 1221 | AM3: 826 | AN3: Пост16 | AO3: 1221 | AP3: 826 | AQ3: Пост17 | AR3: 1221 | AS3: 826 | AT3: 1221 | AU3: 826 | AV3: 1221 | AW3: 826 | AX3: трактор | AY3: погрузчик | AZ3: трактор | BA3: погрузчик | BB3: экскаватор погрузчик | BC3: трактор | BD3: погрузчик | BE3: трактор | BF3: погрузчик | BG3: экскаватор погрузчик | BQ3: погрузчик | BR3: погрузчик | BS3: экскаватор погрузчик | BV3: погрузчик | BW3: погрузчик | BX3: экскаватор погрузчик | CC3: погрузчик | CD3: погрузчик | CE3: экскаватор погрузчик | CH3: 1221 | CI3: 826
A4: =MONTH(B4)&RIGHT(YEAR(B4),2) -> 109 | B4: 39814 | AT4: =AX4+AY4 -> 0 | AU4: =AZ4+BA4+BB4 -> 0 | AV4: =BC4+BD4 -> 0 | AW4: =BE4+BF4+BG4 -> 0 | BY4: =BT4+BV4 -> 0 | BZ4: =BU4+BW4+BX4 -> 0 | CA4: 716 | CF4: =CA4+CC4 -> 716 | CG4: =CB4+CD4+CE4 -> 0
A5: =MONTH(B5)&RIGHT(YEAR(B5),2) -> 109 | B5: 39815 | AT5: =AX5+AY5 -> 0 | AU5: =AZ5+BA5+BB5 -> 0 | AV5: =BC5+BD5 -> 0 | AW5: =BE5+BF5+BG5 -> 0 | BY5: =BT5+BV5 -> 0 | BZ5: =BU5+BW5+BX5 -> 0 | CA5: =CA4+BO5-BT5 -> 716 | CB5: =CB4+BP5-BU5 -> 0 | CC5: =CC4+BQ5-BV5 -> 0 | CD5: =CD4+BR5-BW5 -> 0 | CE5: =CE4+BS5-BX5 -> 0 | CF5: =CA5+CC5 -> 716 | CG5: =CB5+CD5+CE5 -> 0 | CH5: =CH4+AR5 -> 0 | CI5: =CI4+AS5 -> 0
A6: =MONTH(B6)&RIGHT(YEAR(B6),2) -> 109 | B6: 39816 | AT6: =AX6+AY6 -> 0 | AU6: =AZ6+BA6+BB6 -> 0 | AV6: =BC6+BD6 -> 0 | AW6: =BE6+BF6+BG6 -> 0 | BY6: =BT6+BV6 -> 0 | BZ6: =BU6+BW6+BX6 -> 0 | CA6: =CA5+BO6-BT6 -> 716 | CB6: =CB5+BP6-BU6 -> 0 | CC6: =CC5+BQ6-BV6 -> 0 | CD6: =CD5+BR6-BW6 -> 0 | CE6: =CE5+BS6-BX6 -> 0 | CF6: =CA6+CC6 -> 716 | CG6: =CB6+CD6+CE6 -> 0 | CH6: =CH5+AR6 -> 0 | CI6: =CI5+AS6 -> 0
A7: =MONTH(B7)&RIGHT(YEAR(B7),2) -> 109 | B7: 39817 | AT7: =AX7+AY7 -> 0 | AU7: =AZ7+BA7+BB7 -> 0 | AV7: =BC7+BD7 -> 0 | AW7: =BE7+BF7+BG7 -> 0 | BY7: =BT7+BV7 -> 0 | BZ7: =BU7+BW7+BX7 -> 0 | CA7: =CA6+BO7-BT7 -> 716 | CB7: =CB6+BP7-BU7 -> 0 | CC7: =CC6+BQ7-BV7 -> 0 | CD7: =CD6+BR7-BW7 -> 0 | CE7: =CE6+BS7-BX7 -> 0 | CF7: =CA7+CC7 -> 716 | CG7: =CB7+CD7+CE7 -> 0 | CH7: =CH6+AR7 -> 0 | CI7: =CI6+AS7 -> 0
A8: =MONTH(B8)&RIGHT(YEAR(B8),2) -> 109 | B8: 39818 | AT8: =AX8+AY8 -> 0 | AU8: =AZ8+BA8+BB8 -> 0 | AV8: =BC8+BD8 -> 0 | AW8: =BE8+BF8+BG8 -> 0 | BY8: =BT8+BV8 -> 0 | BZ8: =BU8+BW8+BX8 -> 0 | CA8: =CA7+BO8-BT8 -> 716 | CB8: =CB7+BP8-BU8 -> 0 | CC8: =CC7+BQ8-BV8 -> 0 | CD8: =CD7+BR8-BW8 -> 0 | CE8: =CE7+BS8-BX8 -> 0 | CF8: =CA8+CC8 -> 716 | CG8: =CB8+CD8+CE8 -> 0 | CH8: =CH7+AR8 -> 0 | CI8: =CI7+AS8 -> 0
A9: =MONTH(B9)&RIGHT(YEAR(B9),2) -> 109 | B9: 39819 | AT9: =AX9+AY9 -> 0 | AU9: =AZ9+BA9+BB9 -> 0 | AV9: =BC9+BD9 -> 0 | AW9: =BE9+BF9+BG9 -> 0 | BY9: =BT9+BV9 -> 0 | BZ9: =BU9+BW9+BX9 -> 0 | CA9: =CA8+BO9-BT9 -> 716 | CB9: =CB8+BP9-BU9 -> 0 | CC9: =CC8+BQ9-BV9 -> 0 | CD9: =CD8+BR9-BW9 -> 0 | CE9: =CE8+BS9-BX9 -> 0 | CF9: =CA9+CC9 -> 716 | CG9: =CB9+CD9+CE9 -> 0 | CH9: =CH8+AR9 -> 0 | CI9: =CI8+AS9 -> 0
A10: =MONTH(B10)&RIGHT(YEAR(B10),2) -> 109 | B10: 39820 | AT10: =AX10+AY10 -> 0 | AU10: =AZ10+BA10+BB10 -> 0 | AV10: =BC10+BD10 -> 0 | AW10: =BE10+BF10+BG10 -> 0 | BY10: =BT10+BV10 -> 0 | BZ10: =BU10+BW10+BX10 -> 0 | CA10: =CA9+BO10-BT10 -> 716 | CB10: =CB9+BP10-BU10 -> 0 | CC10: =CC9+BQ10-BV10 -> 0 | CD10: =CD9+BR10-BW10 -> 0 | CE10: =CE9+BS10-BX10 -> 0 | CF10: =CA10+CC10 -> 716 | CG10: =CB10+CD10+CE10 -> 0 | CH10: =CH9+AR10 -> 0 | CI10: =CI9+AS10 -> 0
A11: =MONTH(B11)&RIGHT(YEAR(B11),2) -> 109 | B11: 39821 | AT11: =AX11+AY11 -> 0 | AU11: =AZ11+BA11+BB11 -> 0 | AV11: =BC11+BD11 -> 0 | AW11: =BE11+BF11+BG11 -> 0 | BY11: =BT11+BV11 -> 0 | BZ11: =BU11+BW11+BX11 -> 0 | CA11: =CA10+BO11-BT11 -> 716 | CB11: =CB10+BP11-BU11 -> 0 | CC11: =CC10+BQ11-BV11 -> 0 | CD11: =CD10+BR11-BW11 -> 0 | CE11: =CE10+BS11-BX11 -> 0 | CF11: =CA11+CC11 -> 716 | CG11: =CB11+CD11+CE11 -> 0 | CH11: =CH10+AR11 -> 0 | CI11: =CI10+AS11 -> 0
A12: =MONTH(B12)&RIGHT(YEAR(B12),2) -> 109 | B12: 39822 | AT12: =AX12+AY12 -> 0 | AU12: =AZ12+BA12+BB12 -> 0 | AV12: =BC12+BD12 -> 0 | AW12: =BE12+BF12+BG12 -> 0 | BY12: =BT12+BV12 -> 0 | BZ12: =BU12+BW12+BX12 -> 0 | CA12: =CA11+BO12-BT12 -> 716 | CB12: =CB11+BP12-BU12 -> 0 | CC12: =CC11+BQ12-BV12 -> 0 | CD12: =CD11+BR12-BW12 -> 0 | CE12: =CE11+BS12-BX12 -> 0 | CF12: =CA12+CC12 -> 716 | CG12: =CB12+CD12+CE12 -> 0 | CH12: =CH11+AR12 -> 0 | CI12: =CI11+AS12 -> 0
A13: =MONTH(B13)&RIGHT(YEAR(B13),2) -> 109 | B13: 39823 | AT13: =AX13+AY13 -> 0 | AU13: =AZ13+BA13+BB13 -> 0 | AV13: =BC13+BD13 -> 0 | AW13: =BE13+BF13+BG13 -> 0 | BY13: =BT13+BV13 -> 0 | BZ13: =BU13+BW13+BX13 -> 0 | CA13: =CA12+BO13-BT13 -> 716 | CB13: =CB12+BP13-BU13 -> 0 | CC13: =CC12+BQ13-BV13 -> 0 | CD13: =CD12+BR13-BW13 -> 0 | CE13: =CE12+BS13-BX13 -> 0 | CF13: =CA13+CC13 -> 716 | CG13: =CB13+CD13+CE13 -> 0 | CH13: =CH12+AR13 -> 0 | CI13: =CI12+AS13 -> 0
A14: =MONTH(B14)&RIGHT(YEAR(B14),2) -> 109 | B14: 39824 | AT14: =AX14+AY14 -> 0 | AU14: =AZ14+BA14+BB14 -> 0 | AV14: =BC14+BD14 -> 0 | AW14: =BE14+BF14+BG14 -> 0 | BY14: =BT14+BV14 -> 0 | BZ14: =BU14+BW14+BX14 -> 0 | CA14: =CA13+BO14-BT14 -> 716 | CB14: =CB13+BP14-BU14 -> 0 | CC14: =CC13+BQ14-BV14 -> 0 | CD14: =CD13+BR14-BW14 -> 0 | CE14: =CE13+BS14-BX14 -> 0 | CF14: =CA14+CC14 -> 716 | CG14: =CB14+CD14+CE14 -> 0 | CH14: =CH13+AR14 -> 0 | CI14: =CI13+AS14 -> 0
A15: =MONTH(B15)&RIGHT(YEAR(B15),2) -> 109 | B15: 39825 | AT15: =AX15+AY15 -> 0 | AU15: =AZ15+BA15+BB15 -> 0 | AV15: =BC15+BD15 -> 0 | AW15: =BE15+BF15+BG15 -> 0 | BY15: =BT15+BV15 -> 0 | BZ15: =BU15+BW15+BX15 -> 0 | CA15: =CA14+BO15-BT15 -> 716 | CB15: =CB14+BP15-BU15 -> 0 | CC15: =CC14+BQ15-BV15 -> 0 | CD15: =CD14+BR15-BW15 -> 0 | CE15: =CE14+BS15-BX15 -> 0 | CF15: =CA15+CC15 -> 716 | CG15: =CB15+CD15+CE15 -> 0 | CH15: =CH14+AR15 -> 0 | CI15: =CI14+AS15 -> 0
A16: =MONTH(B16)&RIGHT(YEAR(B16),2) -> 109 | B16: 39826 | AT16: =AX16+AY16 -> 0 | AU16: =AZ16+BA16+BB16 -> 0 | AV16: =BC16+BD16 -> 0 | AW16: =BE16+BF16+BG16 -> 0 | BY16: =BT16+BV16 -> 0 | BZ16: =BU16+BW16+BX16 -> 0 | CA16: =CA15+BO16-BT16 -> 716 | CB16: =CB15+BP16-BU16 -> 0 | CC16: =CC15+BQ16-BV16 -> 0 | CD16: =CD15+BR16-BW16 -> 0 | CE16: =CE15+BS16-BX16 -> 0 | CF16: =CA16+CC16 -> 716 | CG16: =CB16+CD16+CE16 -> 0 | CH16: =CH15+AR16 -> 0 | CI16: =CI15+AS16 -> 0
... A35: =MONTH(B35)&RIGHT(YEAR(B35),2) -> 209 | B35: 39845 | AT35: =AX35+AY35 -> 0 | AU35: =AZ35+BA35+BB35 -> 0 | AV35: =BC35+BD35 -> 0 | AW35: =BE35+BF35+BG35 -> 0 | BY35: =BT35+BV35 -> 0 | BZ35: =BU35+BW35+BX35 -> 0 | CA35: =CA34+BO35-BT35 -> 716 | CB35: =CB34+BP35-BU35 -> 0 | CC35: =CC34+BQ35-BV35 -> 0 | CD35: =CD34+BR35-BW35 -> 0 | CE35: =CE34+BS35-BX35 -> 0 | CF35: =CA35+CC35 -> 716 | CG35: =CB35+CD35+CE35 -> 0 | CH35: =CH34+AR35 -> 0 | CI35: =CI34+AS35 -> 0
A36: =MONTH(B36)&RIGHT(YEAR(B36),2) -> 209 | B36: 39846 | AT36: =AX36+AY36 -> 0 | AU36: =AZ36+BA36+BB36 -> 0 | AV36: =BC36+BD36 -> 0 | AW36: =BE36+BF36+BG36 -> 0 | BT36: 11 | BY36: =BT36+BV36 -> 11 | BZ36: =BU36+BW36+BX36 -> 0 | CA36: =CA35+BO36-BT36 -> 705 | CB36: =CB35+BP36-BU36 -> 0 | CC36: =CC35+BQ36-BV36 -> 0 | CD36: =CD35+BR36-BW36 -> 0 | CE36: =CE35+BS36-BX36 -> 0 | CF36: =CA36+CC36 -> 705 | CG36: =CB36+CD36+CE36 -> 0 | CH36: =CH35+AR36 -> 0 | CI36: =CI35+AS36 -> 0
A37: =MONTH(B37)&RIGHT(YEAR(B37),2) -> 209 | B37: 39847 | AT37: =AX37+AY37 -> 0 | AU37: =AZ37+BA37+BB37 -> 0 | AV37: =BC37+BD37 -> 0 | AW37: =BE37+BF37+BG37 -> 0 | BT37: 16 | BY37: =BT37+BV37 -> 16 | BZ37: =BU37+BW37+BX37 -> 0 | CA37: =CA36+BO37-BT37 -> 689 | CB37: =CB36+BP37-BU37 -> 0 | CC37: =CC36+BQ37-BV37 -> 0 | CD37: =CD36+BR37-BW37 -> 0 | CE37: =CE36+BS37-BX37 -> 0 | CF37: =CA37+CC37 -> 689 | CG37: =CB37+CD37+CE37 -> 0 | CH37: =CH36+AR37 -> 0 | CI37: =CI36+AS37 -> 0
A38: =MONTH(B38)&RIGHT(YEAR(B38),2) -> 209 | B38: 39848 | AT38: =AX38+AY38 -> 0 | AU38: =AZ38+BA38+BB38 -> 0 | AV38: =BC38+BD38 -> 0 | AW38: =BE38+BF38+BG38 -> 0 | BT38: 3 | BY38: =BT38+BV38 -> 3 | BZ38: =BU38+BW38+BX38 -> 0 | CA38: =CA37+BO38-BT38 -> 686 | CB38: =CB37+BP38-BU38 -> 0 | CC38: =CC37+BQ38-BV38 -> 0 | CD38: =CD37+BR38-BW38 -> 0 | CE38: =CE37+BS38-BX38 -> 0 | CF38: =CA38+CC38 -> 686 | CG38: =CB38+CD38+CE38 -> 0 | CH38: =CH37+AR38 -> 0 | CI38: =CI37+AS38 -> 0
A39: =MONTH(B39)&RIGHT(YEAR(B39),2) -> 209 | B39: 39849 | AT39: =AX39+AY39 -> 0 | AU39: =AZ39+BA39+BB39 -> 0 | AV39: =BC39+BD39 -> 0 | AW39: =BE39+BF39+BG39 -> 0 | BY39: =BT39+BV39 -> 0 | BZ39: =BU39+BW39+BX39 -> 0 | CA39: =CA38+BO39-BT39 -> 686 | CB39: =CB38+BP39-BU39 -> 0 | CC39: =CC38+BQ39-BV39 -> 0 | CD39: =CD38+BR39-BW39 -> 0 | CE39: =CE38+BS39-BX39 -> 0 | CF39: =CA39+CC39 -> 686 | CG39: =CB39+CD39+CE39 -> 0 | CH39: =CH38+AR39 -> 0 | CI39: =CI38+AS39 -> 0
A40: =MONTH(B40)&RIGHT(YEAR(B40),2) -> 209 | B40: 39850 | AT40: =AX40+AY40 -> 0 | AU40: =AZ40+BA40+BB40 -> 0 | AV40: =BC40+BD40 -> 0 | AW40: =BE40+BF40+BG40 -> 0 | BT40: 1 | BY40: =BT40+BV40 -> 1 | BZ40: =BU40+BW40+BX40 -> 0 | CA40: =CA39+BO40-BT40 -> 685 | CB40: =CB39+BP40-BU40 -> 0 | CC40: =CC39+BQ40-BV40 -> 0 | CD40: =CD39+BR40-BW40 -> 0 | CE40: =CE39+BS40-BX40 -> 0 | CF40: =CA40+CC40 -> 685 | CG40: =CB40+CD40+CE40 -> 0 | CH40: =CH39+AR40 -> 0 | CI40: =CI39+AS40 -> 0
A41: =MONTH(B41)&RIGHT(YEAR(B41),2) -> 209 | B41: 39851 | AT41: =AX41+AY41 -> 0 | AU41: =AZ41+BA41+BB41 -> 0 | AV41: =BC41+BD41 -> 0 | AW41: =BE41+BF41+BG41 -> 0 | BY41: =BT41+BV41 -> 0 | BZ41: =BU41+BW41+BX41 -> 0 | CA41: =CA40+BO41-BT41 -> 685 | CB41: =CB40+BP41-BU41 -> 0 | CC41: =CC40+BQ41-BV41 -> 0 | CD41: =CD40+BR41-BW41 -> 0 | CE41: =CE40+BS41-BX41 -> 0 | CF41: =CA41+CC41 -> 685 | CG41: =CB41+CD41+CE41 -> 0 | CH41: =CH40+AR41 -> 0 | CI41: =CI40+AS41 -> 0
A42: =MONTH(B42)&RIGHT(YEAR(B42),2) -> 209 | B42: 39852 | AT42: =AX42+AY42 -> 0 | AU42: =AZ42+BA42+BB42 -> 0 | AV42: =BC42+BD42 -> 0 | AW42: =BE42+BF42+BG42 -> 0 | BY42: =BT42+BV42 -> 0 | BZ42: =BU42+BW42+BX42 -> 0 | CA42: =CA41+BO42-BT42 -> 685 | CB42: =CB41+BP42-BU42 -> 0 | CC42: =CC41+BQ42-BV42 -> 0 | CD42: =CD41+BR42-BW42 -> 0 | CE42: =CE41+BS42-BX42 -> 0 | CF42: =CA42+CC42 -> 685 | CG42: =CB42+CD42+CE42 -> 0 | CH42: =CH41+AR42 -> 0 | CI42: =CI41+AS42 -> 0
A43: =MONTH(B43)&RIGHT(YEAR(B43),2) -> 209 | B43: 39853 | AT43: =AX43+AY43 -> 0 | AU43: =AZ43+BA43+BB43 -> 0 | AV43: =BC43+BD43 -> 0 | AW43: =BE43+BF43+BG43 -> 0 | BT43: 8 | BY43: =BT43+BV43 -> 8 | BZ43: =BU43+BW43+BX43 -> 0 | CA43: =CA42+BO43-BT43 -> 677 | CB43: =CB42+BP43-BU43 -> 0 | CC43: =CC42+BQ43-BV43 -> 0 | CD43: =CD42+BR43-BW43 -> 0 | CE43: =CE42+BS43-BX43 -> 0 | CF43: =CA43+CC43 -> 677 | CG43: =CB43+CD43+CE43 -> 0 | CH43: =CH42+AR43 -> 0 | CI43: =CI42+AS43 -> 0
A44: =MONTH(B44)&RIGHT(YEAR(B44),2) -> 209 | B44: 39854 | AT44: =AX44+AY44 -> 0 | AU44: =AZ44+BA44+BB44 -> 0 | AV44: =BC44+BD44 -> 0 | AW44: =BE44+BF44+BG44 -> 0 | BT44: 20 | BY44: =BT44+BV44 -> 20 | BZ44: =BU44+BW44+BX44 -> 0 | CA44: =CA43+BO44-BT44 -> 657 | CB44: =CB43+BP44-BU44 -> 0 | CC44: =CC43+BQ44-BV44 -> 0 | CD44: =CD43+BR44-BW44 -> 0 | CE44: =CE43+BS44-BX44 -> 0 | CF44: =CA44+CC44 -> 657 | CG44: =CB44+CD44+CE44 -> 0 | CH44: =CH43+AR44 -> 0 | CI44: =CI43+AS44 -> 0
A45: =MONTH(B45)&RIGHT(YEAR(B45),2) -> 209 | B45: 39855 | AT45: =AX45+AY45 -> 0 | AU45: =AZ45+BA45+BB45 -> 0 | AV45: =BC45+BD45 -> 0 | AW45: =BE45+BF45+BG45 -> 0 | BY45: =BT45+BV45 -> 0 | BZ45: =BU45+BW45+BX45 -> 0 | CA45: =CA44+BO45-BT45 -> 657 | CB45: =CB44+BP45-BU45 -> 0 | CC45: =CC44+BQ45-BV45 -> 0 | CD45: =CD44+BR45-BW45 -> 0 | CE45: =CE44+BS45-BX45 -> 0 | CF45: =CA45+CC45 -> 657 | CG45: =CB45+CD45+CE45 -> 0 | CH45: =CH44+AR45 -> 0 | CI45: =CI44+AS45 -> 0
A46: =MONTH(B46)&RIGHT(YEAR(B46),2) -> 209 | B46: 39856 | D46: 17 | E46: 17 | F46: 17 | H46: 17 | I46: 17 | M46: 17 | N46: 17 | O46: 17 | P46: 17 | Q46: 17 | R46: 17 | S46: 17 | T46: 17 | V46: 17 | W46: 17 | X46: 17 | Y46: 17 | Z46: 17 | AA46: 17 | AB46: 17 | AD46: 17 | AE46: 13 | AF46: 13 | AG46: 13 | AH46: 13 | AI46: 13 | AK46: 15 | AL46: 15 | AN46: 17 | AO46: 17 | AQ46: 17 | AR46: 17 | AT46: =AX46+AY46 -> 17 | AU46: =AZ46+BA46+BB46 -> 0 | AV46: =BC46+BD46 -> 0 | AW46: =BE46+BF46+BG46 -> 0 | AX46: 17 | BK46: 5 | BL46: 4 | BO46: 17 | BT46: 30 | BY46: =BT46+BV46 -> 30 | BZ46: =BU46+BW46+BX46 -> 0 | CA46: =CA45+BO46-BT46 -> 644 | CB46: =CB45+BP46-BU46 -> 0 | CC46: =CC45+BQ46-BV46 -> 0 | CD46: =CD45+BR46-BW46 -> 0 | CE46: =CE45+BS46-BX46 -> 0 | CF46: =CA46+CC46 -> 644 | CG46: =CB46+CD46+CE46 -> 0 | CH46: =CH45+AR46 -> 17 | CI46: =CI45+AS46 -> 0
A47: =MONTH(B47)&RIGHT(YEAR(B47),2) -> 209 | B47: 39857 | D47: 18 | E47: 18 | F47: 18 | H47: 18 | I47: 18 | M47: 18 | N47: 18 | O47: 18 | P47: 18 | Q47: 18 | R47: 18 | S47: 18 | T47: 18 | V47: 18 | W47: 18 | X47: 18 | Y47: 18 | Z47: 18 | AA47: 18 | AB47: 18 | AD47: 18 | AE47: 15 | AF47: 15 | AG47: 15 | AH47: 12 | AI47: 12 | AK47: 16 | AL47: 16 | AN47: 12 | AO47: 12 | AQ47: 12 | AR47: 12 | AT47: =AX47+AY47 -> 18 | AU47: =AZ47+BA47+BB47 -> 0 | AV47: =BC47+BD47 -> 0 | AW47: =BE47+BF47+BG47 -> 0 | AX47: 18 | BK47: 4 | BL47: 5 | BO47: 12 | BT47: 11 | BY47: =BT47+BV47 -> 11 | BZ47: =BU47+BW47+BX47 -> 0 | CA47: =CA46+BO47-BT47 -> 645 | CB47: =CB46+BP47-BU47 -> 0 | CC47: =CC46+BQ47-BV47 -> 0 | CD47: =CD46+BR47-BW47 -> 0 | CE47: =CE46+BS47-BX47 -> 0 | CF47: =CA47+CC47 -> 645 | CG47: =CB47+CD47+CE47 -> 0 | CH47: =CH46+AR47 -> 29 | CI47: =CI46+AS47 -> 0
A48: =MONTH(B48)&RIGHT(YEAR(B48),2) -> 209 | B48: 39858 | AT48: =AX48+AY48 -> 0 | AU48: =AZ48+BA48+BB48 -> 0 | AV48: =BC48+BD48 -> 0 | AW48: =BE48+BF48+BG48 -> 0 | BY48: =BT48+BV48 -> 0 | BZ48: =BU48+BW48+BX48 -> 0 | CA48: =CA47+BO48-BT48 -> 645 | CB48: =CB47+BP48-BU48 -> 0 | CC48: =CC47+BQ48-BV48 -> 0 | CD48: =CD47+BR48-BW48 -> 0 | CE48: =CE47+BS48-BX48 -> 0 | CF48: =CA48+CC48 -> 645 | CG48: =CB48+CD48+CE48 -> 0 | CH48: =CH47+AR48 -> 29 | CI48: =CI47+AS48 -> 0
A49: =MONTH(B49)&RIGHT(YEAR(B49),2) -> 209 | B49: 39859 | AT49: =AX49+AY49 -> 0 | AU49: =AZ49+BA49+BB49 -> 0 | AV49: =BC49+BD49 -> 0 | AW49: =BE49+BF49+BG49 -> 0 | BY49: =BT49+BV49 -> 0 | BZ49: =BU49+BW49+BX49 -> 0 | CA49: =CA48+BO49-BT49 -> 645 | CB49: =CB48+BP49-BU49 -> 0 | CC49: =CC48+BQ49-BV49 -> 0 | CD49: =CD48+BR49-BW49 -> 0 | CE49: =CE48+BS49-BX49 -> 0 | CF49: =CA49+CC49 -> 645 | CG49: =CB49+CD49+CE49 -> 0 | CH49: =CH48+AR49 -> 29 | CI49: =CI48+AS49 -> 0
A50: =MONTH(B50)&RIGHT(YEAR(B50),2) -> 209 | B50: 39860 | D50: 18 | E50: 18 | F50: 18 | H50: 18 | I50: 18 | M50: 18 | N50: 18 | O50: 19 | P50: 19 | Q50: 19 | R50: 19 | S50: 19 | T50: 19 | V50: 19 | W50: 19 | X50: 19 | Y50: 19 | Z50: 19 | AA50: 19 | AB50: 19 | AD50: 19 | AE50: 13 | AF50: 13 | AG50: 13 | AH50: 13 | AI50: 13 | AK50: 19 | AL50: 19 | AN50: 19 | AO50: 19 | AQ50: 19 | AR50: 19 | AT50: =AX50+AY50 -> 19 | AU50: =AZ50+BA50+BB50 -> 0 | AV50: =BC50+BD50 -> 0 | AW50: =BE50+BF50+BG50 -> 0 | AX50: 19 | BK50: 5 | BL50: 4 | BO50: 19 | BT50: 13 | BY50: =BT50+BV50 -> 13 | BZ50: =BU50+BW50+BX50 -> 0 | CA50: =CA49+BO50-BT50 -> 651 | CB50: =CB49+BP50-BU50 -> 0 | CC50: =CC49+BQ50-BV50 -> 0 | CD50: =CD49+BR50-BW50 -> 0 | CE50: =CE49+BS50-BX50 -> 0 | CF50: =CA50+CC50 -> 651 | CG50: =CB50+CD50+CE50 -> 0 | CH50: =CH49+AR50 -> 48 | CI50: =CI49+AS50 -> 0
A51: =MONTH(B51)&RIGHT(YEAR(B51),2) -> 209 | B51: 39861 | D51: 13 | E51: 13 | F51: 13 | H51: 13 | I51: 13 | M51: 13 | N51: 13 | O51: 13 | P51: 13 | Q51: 13 | R51: 13 | S51: 13 | T51: 13 | V51: 13 | W51: 13 | X51: 13 | Y51: 13 | Z51: 13 | AA51: 13 | AB51: 13 | AD51: 13 | AE51: 15 | AF51: 15 | AG51: 15 | AH51: 15 | AI51: 15 | AK51: 10 | AL51: 10 | AN51: 14 | AO51: 14 | AQ51: 14 | AR51: 14 | AT51: =AX51+AY51 -> 13 | AU51: =AZ51+BA51+BB51 -> 0 | AV51: =BC51+BD51 -> 0 | AW51: =BE51+BF51+BG51 -> 0 | AX51: 13 | BK51: 3 | BL51: 3 | BN51: 2 | BO51: 14 | BT51: 18 | BY51: =BT51+BV51 -> 18 | BZ51: =BU51+BW51+BX51 -> 0 | CA51: =CA50+BO51-BT51 -> 647 | CB51: =CB50+BP51-BU51 -> 0 | CC51: =CC50+BQ51-BV51 -> 0 | CD51: =CD50+BR51-BW51 -> 0 | CE51: =CE50+BS51-BX51 -> 0 | CF51: =CA51+CC51 -> 647 | CG51: =CB51+CD51+CE51 -> 0 | CH51: =CH50+AR51 -> 62 | CI51: =CI50+AS51 -> 0
A52: =MONTH(B52)&RIGHT(YEAR(B52),2) -> 209 | B52: 39862 | D52: 15 | E52: 15 | F52: 15 | H52: 15 | I52: 15 | M52: 3 | N52: 3 | O52: 15 | P52: 15 | Q52: 15 | R52: 15 | S52: 15 | T52: 15 | V52: 15 | W52: 15 | X52: 15 | Y52: 15 | Z52: 15 | AA52: 15 | AB52: 15 | AD52: 15 | AE52: 15 | AF52: 15 | AG52: 15 | AH52: 15 | AI52: 15 | AK52: 15 | AL52: 15 | AN52: 0 | AO52: 0 | AQ52: 15 | AR52: 15 | AT52: =AX52+AY52 -> 15 | AU52: =AZ52+BA52+BB52 -> 0 | AV52: =BC52+BD52 -> 0 | AW52: =BE52+BF52+BG52 -> 0 | AX52: 15 | BK52: 4 | BL52: 3 | BN52: 4 | BO52: 16 | BT52: 18 | BY52: =BT52+BV52 -> 18 | BZ52: =BU52+BW52+BX52 -> 0 | CA52: =CA51+BO52-BT52 -> 645 | CB52: =CB51+BP52-BU52 -> 0 | CC52: =CC51+BQ52-BV52 -> 0 | CD52: =CD51+BR52-BW52 -> 0 | CE52: =CE51+BS52-BX52 -> 0 | CF52: =CA52+CC52 -> 645 | CG52: =CB52+CD52+CE52 -> 0 | CH52: =CH51+AR52 -> 77 | CI52: =CI51+AS52 -> 0
A53: =MONTH(B53)&RIGHT(YEAR(B53),2) -> 209 | B53: 39863 | D53: 18 | E53: 18 | F53: 18 | H53: 18 | I53: 18 | M53: 18 | N53: 18 | O53: 18 | P53: 18 | Q53: 18 | R53: 18 | S53: 18 | T53: 18 | V53: 18 | W53: 18 | X53: 18 | Y53: 18 | Z53: 18 | AA53: 18 | AB53: 18 | AD53: 18 | AE53: 17 | AF53: 17 | AG53: 17 | AH53: 17 | AI53: 17 | AK53: 17 | AL53: 17 | AN53: 18 | AO53: 18 | AQ53: 18 | AR53: 18 | AT53: =AX53+AY53 -> 18 | AU53: =AZ53+BA53+BB53 -> 0 | AV53: =BC53+BD53 -> 0 | AW53: =BE53+BF53+BG53 -> 0 | AX53: 18 | BK53: 4 | BL53: 5 | BO53: 18 | BT53: 23 | BY53: =BT53+BV53 -> 23 | BZ53: =BU53+BW53+BX53 -> 0 | CA53: =CA52+BO53-BT53 -> 640 | CB53: =CB52+BP53-BU53 -> 0 | CC53: =CC52+BQ53-BV53 -> 0 | CD53: =CD52+BR53-BW53 -> 0 | CE53: =CE52+BS53-BX53 -> 0 | CF53: =CA53+CC53 -> 640 | CG53: =CB53+CD53+CE53 -> 0 | CH53: =CH52+AR53 -> 95 | CI53: =CI52+AS53 -> 0
A54: =MONTH(B54)&RIGHT(YEAR(B54),2) -> 209 | B54: 39864 | D54: 16 | E54: 16 | F54: 16 | H54: 16 | I54: 16 | M54: 16 | N54: 16 | O54: 16 | P54: 16 | Q54: 16 | R54: 16 | S54: 16 | T54: 16 | V54: 16 | W54: 16 | X54: 16 | Y54: 16 | Z54: 16 | AA54: 16 | AB54: 16 | AD54: 16 | AE54: 17 | AF54: 17 | AG54: 17 | AH54: 17 | AI54: 17 | AK54: 17 | AL54: 17 | AN54: 11 | AO54: 11 | AQ54: 11 | AR54: 11 | AT54: =AX54+AY54 -> 16 | AU54: =AZ54+BA54+BB54 -> 0 | AV54: =BC54+BD54 -> 0 | AW54: =BE54+BF54+BG54 -> 0 | AX54: 16 | BK54: 4 | BL54: 4 | BO54: 11 | BY54: =BT54+BV54 -> 0 | BZ54: =BU54+BW54+BX54 -> 0 | CA54: =CA53+BO54-BT54 -> 651 | CB54: =CB53+BP54-BU54 -> 0 | CC54: =CC53+BQ54-BV54 -> 0 | CD54: =CD53+BR54-BW54 -> 0 | CE54: =CE53+BS54-BX54 -> 0 | CF54: =CA54+CC54 -> 651 | CG54: =CB54+CD54+CE54 -> 0 | CH54: =CH53+AR54 -> 106 | CI54: =CI53+AS54 -> 0
A55: =MONTH(B55)&RIGHT(YEAR(B55),2) -> 209 | B55: 39865 | AT55: =AX55+AY55 -> 0 | AU55: =AZ55+BA55+BB55 -> 0 | AV55: =BC55+BD55 -> 0 | AW55: =BE55+BF55+BG55 -> 0 | BY55: =BT55+BV55 -> 0 | BZ55: =BU55+BW55+BX55 -> 0 | CA55: =CA54+BO55-BT55 -> 651 | CB55: =CB54+BP55-BU55 -> 0 | CC55: =CC54+BQ55-BV55 -> 0 | CD55: =CD54+BR55-BW55 -> 0 | CE55: =CE54+BS55-BX55 -> 0 | CF55: =CA55+CC55 -> 651 | CG55: =CB55+CD55+CE55 -> 0 | CH55: =CH54+AR55 -> 106 | CI55: =CI54+AS55 -> 0
A56: =MONTH(B56)&RIGHT(YEAR(B56),2) -> 209 | B56: 39866 | AT56: =AX56+AY56 -> 0 | AU56: =AZ56+BA56+BB56 -> 0 | AV56: =BC56+BD56 -> 0 | AW56: =BE56+BF56+BG56 -> 0 | BY56: =BT56+BV56 -> 0 | BZ56: =BU56+BW56+BX56 -> 0 | CA56: =CA55+BO56-BT56 -> 651 | CB56: =CB55+BP56-BU56 -> 0 | CC56: =CC55+BQ56-BV56 -> 0 | CD56: =CD55+BR56-BW56 -> 0 | CE56: =CE55+BS56-BX56 -> 0 | CF56: =CA56+CC56 -> 651 | CG56: =CB56+CD56+CE56 -> 0 | CH56: =CH55+AR56 -> 106 | CI56: =CI55+AS56 -> 0
A57: =MONTH(B57)&RIGHT(YEAR(B57),2) -> 209 | B57: 39867 | AT57: =AX57+AY57 -> 0 | AU57: =AZ57+BA57+BB57 -> 0 | AV57: =BC57+BD57 -> 0 | AW57: =BE57+BF57+BG57 -> 0 | BY57: =BT57+BV57 -> 0 | BZ57: =BU57+BW57+BX57 -> 0 | CA57: =CA56+BO57-BT57 -> 651 | CB57: =CB56+BP57-BU57 -> 0 | CC57: =CC56+BQ57-BV57 -> 0 | CD57: =CD56+BR57-BW57 -> 0 | CE57: =CE56+BS57-BX57 -> 0 | CF57: =CA57+CC57 -> 651 | CG57: =CB57+CD57+CE57 -> 0 | CH57: =CH56+AR57 -> 106 | CI57: =CI56+AS57 -> 0
A58: =MONTH(B58)&RIGHT(YEAR(B58),2) -> 209 | B58: 39868 | D58: 20 | E58: 20 | F58: 20 | H58: 20 | I58: 20 | M58: 20 | N58: 20 | O58: 20 | P58: 20 | Q58: 20 | R58: 20 | S58: 20 | T58: 20 | V58: 20 | W58: 20 | X58: 20 | Y58: 20 | Z58: 20 | AA58: 20 | AB58: 20 | AD58: 20 | AE58: 17 | AF58: 17 | AG58: 16 | AH58: 17 | AI58: 17 | AK58: 17 | AL58: 17 | AN58: 15 | AO58: 15 | AQ58: 15 | AR58: 15 | AT58: =AX58+AY58 -> 20 | AU58: =AZ58+BA58+BB58 -> 0 | AV58: =BC58+BD58 -> 0 | AW58: =BE58+BF58+BG58 -> 0 | AX58: 20 | BK58: 5 | BL58: 5 | BM58: 3 | BO58: 14 | BT58: 25 | BY58: =BT58+BV58 -> 25 | BZ58: =BU58+BW58+BX58 -> 0 | CA58: =CA57+BO58-BT58 -> 640 | CB58: =CB57+BP58-BU58 -> 0 | CC58: =CC57+BQ58-BV58 -> 0 | CD58: =CD57+BR58-BW58 -> 0 | CE58: =CE57+BS58-BX58 -> 0 | CF58: =CA58+CC58 -> 640 | CG58: =CB58+CD58+CE58 -> 0 | CH58: =CH57+AR58 -> 121 | CI58: =CI57+AS58 -> 0
A59: =MONTH(B59)&RIGHT(YEAR(B59),2) -> 209 | B59: 39869 | D59: 20 | E59: 20 | F59: 20 | H59: 20 | I59: 20 | M59: 20 | N59: 20 | O59: 20 | P59: 20 | Q59: 20 | R59: 20 | S59: 20 | T59: 20 | V59: 20 | W59: 20 | X59: 20 | Y59: 20 | Z59: 20 | AA59: 20 | AB59: 20 | AD59: 16 | AE59: 15 | AF59: 15 | AG59: 15 | AH59: 15 | AI59: 15 | AK59: 15 | AL59: 15 | AN59: 13 | AO59: 13 | AQ59: 13 | AR59: 13 | AT59: =AX59+AY59 -> 20 | AU59: =AZ59+BA59+BB59 -> 0 | AV59: =BC59+BD59 -> 0 | AW59: =BE59+BF59+BG59 -> 0 | AX59: 20 | BK59: 5 | BL59: 5 | BO59: 13 | BT59: 19 | BY59: =BT59+BV59 -> 19 | BZ59: =BU59+BW59+BX59 -> 0 | CA59: =CA58+BO59-BT59 -> 634 | CB59: =CB58+BP59-BU59 -> 0 | CC59: =CC58+BQ59-BV59 -> 0 | CD59: =CD58+BR59-BW59 -> 0 | CE59: =CE58+BS59-BX59 -> 0 | CF59: =CA59+CC59 -> 634 | CG59: =CB59+CD59+CE59 -> 0 | CH59: =CH58+AR59 -> 134 | CI59: =CI58+AS59 -> 0
A60: =MONTH(B60)&RIGHT(YEAR(B60),2) -> 209 | B60: 39870 | D60: 20 | E60: 20 | F60: 20 | H60: 20 | I60: 20 | M60: 20 | N60: 20 | O60: 20 | P60: 20 | Q60: 20 | R60: 20 | S60: 20 | T60: 20 | V60: 20 | W60: 20 | X60: 20 | Y60: 20 | Z60: 20 | AA60: 20 | AB60: 20 | AD60: 20 | AE60: 14 | AF60: 11 | AG60: 11 | AH60: 11 | AI60: 11 | AK60: 15 | AL60: 15 | AN60: 15 | AO60: 15 | AQ60: 15 | AR60: 15 | AT60: =AX60+AY60 -> 20 | AU60: =AZ60+BA60+BB60 -> 0 | AV60: =BC60+BD60 -> 0 | AW60: =BE60+BF60+BG60 -> 0 | AX60: 20 | BK60: 5 | BL60: 5 | BO60: 15 | BT60: 15 | BY60: =BT60+BV60 -> 15 | BZ60: =BU60+BW60+BX60 -> 0 | CA60: =CA59+BO60-BT60 -> 634 | CB60: =CB59+BP60-BU60 -> 0 | CC60: =CC59+BQ60-BV60 -> 0 | CD60: =CD59+BR60-BW60 -> 0 | CE60: =CE59+BS60-BX60 -> 0 | CF60: =CA60+CC60 -> 634 | CG60: =CB60+CD60+CE60 -> 0 | CH60: =CH59+AR60 -> 149 | CI60: =CI59+AS60 -> 0
A61: =MONTH(B61)&RIGHT(YEAR(B61),2) -> 209 | B61: 39871 | D61: 20 | E61: 20 | F61: 20 | H61: 20 | I61: 20 | M61: 20 | N61: 20 | O61: 20 | P61: 20 | Q61: 20 | R61: 20 | S61: 20 | T61: 20 | V61: 20 | W61: 20 | X61: 20 | Y61: 20 | Z61: 20 | AA61: 20 | AB61: 20 | AD61: 20 | AE61: 23 | AF61: 15 | AG61: 15 | AH61: 15 | AI61: 15 | AK61: 20 | AL61: 20 | AN61: 18 | AO61: 18 | AQ61: 18 | AR61: 18 | AT61: =AX61+AY61 -> 20 | AU61: =AZ61+BA61+BB61 -> 0 | AV61: =BC61+BD61 -> 0 | AW61: =BE61+BF61+BG61 -> 0 | AX61: 20 | BK61: 5 | BL61: 5 | BO61: 18 | BY61: =BT61+BV61 -> 0 | BZ61: =BU61+BW61+BX61 -> 0 | CA61: =CA60+BO61-BT61 -> 652 | CB61: =CB60+BP61-BU61 -> 0 | CC61: =CC60+BQ61-BV61 -> 0 | CD61: =CD60+BR61-BW61 -> 0 | CE61: =CE60+BS61-BX61 -> 0 | CF61: =CA61+CC61 -> 652 | CG61: =CB61+CD61+CE61 -> 0 | CH61: =CH60+AR61 -> 167 | CI61: =CI60+AS61 -> 0
A62: =MONTH(B62)&RIGHT(YEAR(B62),2) -> 209 | B62: 39872 | D62: 20 | E62: 20 | F62: 20 | H62: 20 | I62: 20 | M62: 20 | N62: 20 | O62: 20 | P62: 20 | Q62: 20 | R62: 20 | S62: 20 | T62: 20 | V62: 20 | W62: 20 | X62: 20 | Y62: 20 | Z62: 20 | AA62: 20 | AB62: 20 | AD62: 20 | AE62: 17 | AF62: 18 | AG62: 18 | AH62: 18 | AI62: 18 | AK62: 20 | AL62: 20 | AN62: 21 | AO62: 21 | AQ62: 21 | AR62: 21 | AT62: =AX62+AY62 -> 20 | AU62: =AZ62+BA62+BB62 -> 0 | AV62: =BC62+BD62 -> 0 | AW62: =BE62+BF62+BG62 -> 0 | AX62: 20 | BK62: 5 | BL62: 5 | BO62: 21 | BY62: =BT62+BV62 -> 0 | BZ62: =BU62+BW62+BX62 -> 0 | CA62: =CA61+BO62-BT62 -> 673 | CB62: =CB61+BP62-BU62 -> 0 | CC62: =CC61+BQ62-BV62 -> 0 | CD62: =CD61+BR62-BW62 -> 0 | CE62: =CE61+BS62-BX62 -> 0 | CF62: =CA62+CC62 -> 673 | CG62: =CB62+CD62+CE62 -> 0 | CH62: =CH61+AR62 -> 188 | CI62: =CI61+AS62 -> 0
A63: =MONTH(B63)&RIGHT(YEAR(B63),2) -> 309 | B63: 39873 | AT63: =AX63+AY63 -> 0 | AU63: =AZ63+BA63+BB63 -> 0 | AV63: =BC63+BD63 -> 0 | AW63: =BE63+BF63+BG63 -> 0 | BY63: =BT63+BV63 -> 0 | BZ63: =BU63+BW63+BX63 -> 0 | CA63: =CA62+BO63-BT63 -> 673 | CB63: =CB62+BP63-BU63 -> 0 | CC63: =CC62+BQ63-BV63 -> 0 | CD63: =CD62+BR63-BW63 -> 0 | CE63: =CE62+BS63-BX63 -> 0 | CF63: =CA63+CC63 -> 673 | CG63: =CB63+CD63+CE63 -> 0 | CH63: =CH62+AR63 -> 188 | CI63: =CI62+AS63 -> 0
A64: =MONTH(B64)&RIGHT(YEAR(B64),2) -> 309 | B64: 39874 | D64: 20 | E64: 20 | F64: 20 | H64: 20 | I64: 20 | M64: 20 | N64: 20 | O64: 20 | P64: 20 | Q64: 20 | R64: 20 | S64: 20 | T64: 20 | V64: 20 | W64: 20 | X64: 20 | Y64: 20 | Z64: 20 | AA64: 20 | AB64: 20 | AD64: 20 | AE64: 20 | AF64: 20 | AG64: 20 | AH64: 20 | AI64: 20 | AK64: 20 | AL64: 20 | AN64: 10 | AO64: 10 | AQ64: 10 | AR64: 10 | AT64: =AX64+AY64 -> 20 | AU64: =AZ64+BA64+BB64 -> 0 | AV64: =BC64+BD64 -> 0 | AW64: =BE64+BF64+BG64 -> 0 | AX64: 20 | BK64: 5 | BL64: 5 | BO64: 10 | BT64: 10 | BY64: =BT64+BV64 -> 10 | BZ64: =BU64+BW64+BX64 -> 0 | CA64: =CA63+BO64-BT64 -> 673 | CB64: =CB63+BP64-BU64 -> 0 | CC64: =CC63+BQ64-BV64 -> 0 | CD64: =CD63+BR64-BW64 -> 0 | CE64: =CE63+BS64-BX64 -> 0 | CF64: =CA64+CC64 -> 673 | CG64: =CB64+CD64+CE64 -> 0 | CH64: =CH63+AR64 -> 198 | CI64: =CI63+AS64 -> 0
A65: =MONTH(B65)&RIGHT(YEAR(B65),2) -> 309 | B65: 39875 | D65: 20 | E65: 20 | F65: 20 | H65: 20 | I65: 20 | M65: 20 | N65: 20 | O65: 20 | P65: 20 | Q65: 20 | R65: 20 | S65: 20 | T65: 20 | V65: 20 | W65: 20 | X65: 20 | Y65: 20 | Z65: 20 | AA65: 20 | AB65: 20 | AD65: 20 | AE65: 19 | AF65: 19 | AG65: 19 | AH65: 19 | AI65: 19 | AK65: 20 | AL65: 20 | AN65: 20 | AO65: 20 | AQ65: 20 | AR65: 20 | AT65: =AX65+AY65 -> 20 | AU65: =AZ65+BA65+BB65 -> 0 | AV65: =BC65+BD65 -> 0 | AW65: =BE65+BF65+BG65 -> 0 | AX65: 20 | BK65: 9 | BL65: 1 | BO65: 20 | BT65: 3 | BY65: =BT65+BV65 -> 3 | BZ65: =BU65+BW65+BX65 -> 0 | CA65: =CA64+BO65-BT65 -> 690 | CB65: =CB64+BP65-BU65 -> 0 | CC65: =CC64+BQ65-BV65 -> 0 | CD65: =CD64+BR65-BW65 -> 0 | CE65: =CE64+BS65-BX65 -> 0 | CF65: =CA65+CC65 -> 690 | CG65: =CB65+CD65+CE65 -> 0 | CH65: =CH64+AR65 -> 218 | CI65: =CI64+AS65 -> 0
A66: =MONTH(B66)&RIGHT(YEAR(B66),2) -> 309 | B66: 39876 | D66: 20 | E66: 20 | F66: 20 | H66: 20 | I66: 20 | M66: 20 | N66: 20 | O66: 20 | P66: 20 | Q66: 20 | R66: 20 | S66: 20 | T66: 20 | V66: 20 | W66: 20 | X66: 20 | Y66: 20 | Z66: 20 | AA66: 20 | AB66: 20 | AD66: 20 | AE66: 20 | AF66: 20 | AG66: 20 | AH66: 20 | AI66: 20 | AK66: 20 | AL66: 20 | AN66: 19 | AO66: 19 | AQ66: 19 | AR66: 19 | AT66: =AX66+AY66 -> 20 | AU66: =AZ66+BA66+BB66 -> 0 | AV66: =BC66+BD66 -> 0 | AW66: =BE66+BF66+BG66 -> 0 | AX66: 20 | BK66: 9 | BL66: 1 | BO66: 19 | BT66: 3 | BY66: =BT66+BV66 -> 3 | BZ66: =BU66+BW66+BX66 -> 0 | CA66: =CA65+BO66-BT66 -> 706 | CB66: =CB65+BP66-BU66 -> 0 | CC66: =CC65+BQ66-BV66 -> 0 | CD66: =CD65+BR66-BW66 -> 0 | CE66: =CE65+BS66-BX66 -> 0 | CF66: =CA66+CC66 -> 706 | CG66: =CB66+CD66+CE66 -> 0 | CH66: =CH65+AR66 -> 237 | CI66: =CI65+AS66 -> 0
A67: =MONTH(B67)&RIGHT(YEAR(B67),2) -> 309 | B67: 39877 | D67: 20 | E67: 20 | F67: 20 | H67: 20 | I67: 20 | M67: 20 | N67: 20 | O67: 20 | P67: 20 | Q67: 20 | R67: 20 | S67: 20 | T67: 20 | V67: 20 | W67: 20 | X67: 20 | Y67: 20 | Z67: 20 | AA67: 20 | AB67: 20 | AD67: 20 | AE67: 23 | AF67: 20 | AG67: 20 | AH67: 20 | AI67: 20 | AK67: 20 | AL67: 20 | AN67: 25 | AO67: 25 | AQ67: 25 | AR67: 25 | AT67: =AX67+AY67 -> 20 | AU67: =AZ67+BA67+BB67 -> 0 | AV67: =BC67+BD67 -> 0 | AW67: =BE67+BF67+BG67 -> 0 | AX67: 20 | BK67: 10 | BO67: 25 | BY67: =BT67+BV67 -> 0 | BZ67: =BU67+BW67+BX67 -> 0 | CA67: =CA66+BO67-BT67 -> 731 | CB67: =CB66+BP67-BU67 -> 0 | CC67: =CC66+BQ67-BV67 -> 0 | CD67: =CD66+BR67-BW67 -> 0 | CE67: =CE66+BS67-BX67 -> 0 | CF67: =CA67+CC67 -> 731 | CG67: =CB67+CD67+CE67 -> 0 | CH67: =CH66+AR67 -> 262 | CI67: =CI66+AS67 -> 0
A68: =MONTH(B68)&RIGHT(YEAR(B68),2) -> 309 | B68: 39878 | D68: 11 | E68: 12 | F68: 13 | H68: 16 | I68: 17 | M68: 15 | N68: 15 | O68: 10 | P68: 11 | Q68: 12 | R68: 13 | S68: 14 | V68: 15 | W68: 16 | X68: 17 | Y68: 18 | Z68: 18 | AA68: 18 | AB68: 18 | AD68: 18 | AE68: 19 | AF68: 20 | AG68: 20 | AH68: 20 | AI68: 20 | AK68: 20 | AL68: 20 | AN68: 21 | AO68: 21 | AQ68: 21 | AR68: 21 | AT68: =AX68+AY68 -> 18 | AU68: =AZ68+BA68+BB68 -> 0 | AV68: =BC68+BD68 -> 0 | AW68: =BE68+BF68+BG68 -> 0 | AX68: 18 | BK68: 9 | BO68: 21 | BY68: =BT68+BV68 -> 0 | BZ68: =BU68+BW68+BX68 -> 0 | CA68: =CA67+BO68-BT68 -> 752 | CB68: =CB67+BP68-BU68 -> 0 | CC68: =CC67+BQ68-BV68 -> 0 | CD68: =CD67+BR68-BW68 -> 0 | CE68: =CE67+BS68-BX68 -> 0 | CF68: =CA68+CC68 -> 752 | CG68: =CB68+CD68+CE68 -> 0 | CH68: =CH67+AR68 -> 283 | CI68: =CI67+AS68 -> 0
A69: =MONTH(B69)&RIGHT(YEAR(B69),2) -> 309 | B69: 39879 | AT69: =AX69+AY69 -> 0 | AU69: =AZ69+BA69+BB69 -> 0 | AV69: =BC69+BD69 -> 0 | AW69: =BE69+BF69+BG69 -> 0 | BY69: =BT69+BV69 -> 0 | BZ69: =BU69+BW69+BX69 -> 0 | CA69: =CA68+BO69-BT69 -> 752 | CB69: =CB68+BP69-BU69 -> 0 | CC69: =CC68+BQ69-BV69 -> 0 | CD69: =CD68+BR69-BW69 -> 0 | CE69: =CE68+BS69-BX69 -> 0 | CF69: =CA69+CC69 -> 752 | CG69: =CB69+CD69+CE69 -> 0 | CH69: =CH68+AR69 -> 283 | CI69: =CI68+AS69 -> 0
A70: =MONTH(B70)&RIGHT(YEAR(B70),2) -> 309 | B70: 39880 | AT70: =AX70+AY70 -> 0 | AU70: =AZ70+BA70+BB70 -> 0 | AV70: =BC70+BD70 -> 0 | AW70: =BE70+BF70+BG70 -> 0 | BY70: =BT70+BV70 -> 0 | BZ70: =BU70+BW70+BX70 -> 0 | CA70: =CA69+BO70-BT70 -> 752 | CB70: =CB69+BP70-BU70 -> 0 | CC70: =CC69+BQ70-BV70 -> 0 | CD70: =CD69+BR70-BW70 -> 0 | CE70: =CE69+BS70-BX70 -> 0 | CF70: =CA70+CC70 -> 752 | CG70: =CB70+CD70+CE70 -> 0 | CH70: =CH69+AR70 -> 283 | CI70: =CI69+AS70 -> 0
A71: =MONTH(B71)&RIGHT(YEAR(B71),2) -> 309 | B71: 39881 | AT71: =AX71+AY71 -> 0 | AU71: =AZ71+BA71+BB71 -> 0 | AV71: =BC71+BD71 -> 0 | AW71: =BE71+BF71+BG71 -> 0 | BY71: =BT71+BV71 -> 0 | BZ71: =BU71+BW71+BX71 -> 0 | CA71: =CA70+BO71-BT71 -> 752 | CB71: =CB70+BP71-BU71 -> 0 | CC71: =CC70+BQ71-BV71 -> 0 | CD71: =CD70+BR71-BW71 -> 0 | CE71: =CE70+BS71-BX71 -> 0 | CF71: =CA71+CC71 -> 752 | CG71: =CB71+CD71+CE71 -> 0 | CH71: =CH70+AR71 -> 283 | CI71: =CI70+AS71 -> 0
A72: =MONTH(B72)&RIGHT(YEAR(B72),2) -> 309 | B72: 39882 | O72: 8 | P72: 7 | Q72: 6 | R72: 5 | S72: 4 | U72: 4 | V72: 4 | W72: 3 | X72: 0 | Y72: 0 | Z72: 0 | AA72: 0 | AC72: 0 | AD72: 20 | AE72: 20 | AF72: 20 | AG72: 20 | AH72: 20 | AI72: 20 | AK72: 20 | AL72: 20 | AN72: 11 | AO72: 11 | AQ72: 11 | AR72: 11 | AT72: =AX72+AY72 -> 0 | AU72: =AZ72+BA72+BB72 -> 0 | AV72: =BC72+BD72 -> 0 | AW72: =BE72+BF72+BG72 -> 0 | AZ72: 0 | BO72: 11 | BY72: =BT72+BV72 -> 0 | BZ72: =BU72+BW72+BX72 -> 0 | CA72: =CA71+BO72-BT72 -> 763 | CB72: =CB71+BP72-BU72 -> 0 | CC72: =CC71+BQ72-BV72 -> 0 | CD72: =CD71+BR72-BW72 -> 0 | CE72: =CE71+BS72-BX72 -> 0 | CF72: =CA72+CC72 -> 763 | CG72: =CB72+CD72+CE72 -> 0 | CH72: =CH71+AR72 -> 294 | CI72: =CI71+AS72 -> 0
A73: =MONTH(B73)&RIGHT(YEAR(B73),2) -> 309 | B73: 39883 | C73: 9 | D73: 9 | E73: 9 | F73: 9 | I73: 9 | J73: 9 | M73: 3 | N73: 3 | O73: 9 | P73: 9 | Q73: 9 | R73: 9 | S73: 9 | U73: 9 | V73: 8 | W73: 8 | X73: 10 | Y73: 10 | Z73: 10 | AA73: 9 | AC73: 9 | AD73: 9 | AE73: 9 | AF73: 9 | AG73: 9 | AH73: 9 | AI73: 9 | AK73: 9 | AL73: 9 | AN73: 21 | AO73: 21 | AQ73: 21 | AR73: 21 | AT73: =AX73+AY73 -> 0 | AU73: =AZ73+BA73+BB73 -> 9 | AV73: =BC73+BD73 -> 0 | AW73: =BE73+BF73+BG73 -> 0 | AZ73: 9 | BO73: 21 | BY73: =BT73+BV73 -> 0 | BZ73: =BU73+BW73+BX73 -> 0 | CA73: =CA72+BO73-BT73 -> 784 | CB73: =CB72+BP73-BU73 -> 0 | CC73: =CC72+BQ73-BV73 -> 0 | CD73: =CD72+BR73-BW73 -> 0 | CE73: =CE72+BS73-BX73 -> 0 | CF73: =CA73+CC73 -> 784 | CG73: =CB73+CD73+CE73 -> 0 | CH73: =CH72+AR73 -> 315 | CI73: =CI72+AS73 -> 0
A74: =MONTH(B74)&RIGHT(YEAR(B74),2) -> 309 | B74: 39884 | D74: 15 | E74: 15 | F74: 15 | H74: 15 | I74: 15 | M74: 15 | N74: 15 | O74: 15 | P74: 15 | Q74: 15 | R74: 15 | S74: 15 | U74: 15 | V74: 15 | W74: 15 | X74: 15 | Y74: 15 | Z74: 15 | AA74: 15 | AC74: 15 | AD74: 20 | AE74: 20 | AF74: 17 | AG74: 17 | AH74: 17 | AJ74: 17 | AK74: 17 | AL74: 17 | AN74: 20 | AO74: 20 | AQ74: 20 | AR74: 20 | AT74: =AX74+AY74 -> 0 | AU74: =AZ74+BA74+BB74 -> 15 | AV74: =BC74+BD74 -> 0 | AW74: =BE74+BF74+BG74 -> 0 | AZ74: 15 | BO74: 20 | BY74: =BT74+BV74 -> 0 | BZ74: =BU74+BW74+BX74 -> 0 | CA74: =CA73+BO74-BT74 -> 804 | CB74: =CB73+BP74-BU74 -> 0 | CC74: =CC73+BQ74-BV74 -> 0 | CD74: =CD73+BR74-BW74 -> 0 | CE74: =CE73+BS74-BX74 -> 0 | CF74: =CA74+CC74 -> 804 | CG74: =CB74+CD74+CE74 -> 0 | CH74: =CH73+AR74 -> 335 | CI74: =CI73+AS74 -> 0
A75: =MONTH(B75)&RIGHT(YEAR(B75),2) -> 309 | B75: 39885 | D75: 12 | E75: 12 | F75: 12 | H75: 12 | I75: 12 | M75: 12 | N75: 12 | O75: 12 | P75: 12 | Q75: 12 | R75: 12 | S75: 12 | U75: 12 | V75: 12 | W75: 12 | X75: 12 | Y75: 11 | Z75: 11 | AA75: 11 | AC75: 11 | AD75: 11 | AE75: 12 | AF75: 15 | AG75: 15 | AH75: 15 | AJ75: 15 | AK75: 15 | AM75: 15 | AN75: 10 | AO75: 4 | AP75: 6 | AQ75: 10 | AR75: 4 | AS75: 6 | AT75: =AX75+AY75 -> 0 | AU75: =AZ75+BA75+BB75 -> 11 | AV75: =BC75+BD75 -> 0 | AW75: =BE75+BF75+BG75 -> 0 | AZ75: 11 | BO75: 4 | BP75: 6 | BY75: =BT75+BV75 -> 0 | BZ75: =BU75+BW75+BX75 -> 0 | CA75: =CA74+BO75-BT75 -> 808 | CB75: =CB74+BP75-BU75 -> 6 | CC75: =CC74+BQ75-BV75 -> 0 | CD75: =CD74+BR75-BW75 -> 0 | CE75: =CE74+BS75-BX75 -> 0 | CF75: =CA75+CC75 -> 808 | CG75: =CB75+CD75+CE75 -> 6 | CH75: =CH74+AR75 -> 339 | CI75: =CI74+AS75 -> 6
A76: =MONTH(B76)&RIGHT(YEAR(B76),2) -> 309 | B76: 39886 | AT76: =AX76+AY76 -> 0 | AU76: =AZ76+BA76+BB76 -> 0 | AV76: =BC76+BD76 -> 0 | AW76: =BE76+BF76+BG76 -> 0 | BY76: =BT76+BV76 -> 0 | BZ76: =BU76+BW76+BX76 -> 0 | CA76: =CA75+BO76-BT76 -> 808 | CB76: =CB75+BP76-BU76 -> 6 | CC76: =CC75+BQ76-BV76 -> 0 | CD76: =CD75+BR76-BW76 -> 0 | CE76: =CE75+BS76-BX76 -> 0 | CF76: =CA76+CC76 -> 808 | CG76: =CB76+CD76+CE76 -> 6 | CH76: =CH75+AR76 -> 339 | CI76: =CI75+AS76 -> 6
A77: =MONTH(B77)&RIGHT(YEAR(B77),2) -> 309 | B77: 39887 | AT77: =AX77+AY77 -> 0 | AU77: =AZ77+BA77+BB77 -> 0 | AV77: =BC77+BD77 -> 0 | AW77: =BE77+BF77+BG77 -> 0 | BY77: =BT77+BV77 -> 0 | BZ77: =BU77+BW77+BX77 -> 0 | CA77: =CA76+BO77-BT77 -> 808 | CB77: =CB76+BP77-BU77 -> 6 | CC77: =CC76+BQ77-BV77 -> 0 | CD77: =CD76+BR77-BW77 -> 0 | CE77: =CE76+BS77-BX77 -> 0 | CF77: =CA77+CC77 -> 808 | CG77: =CB77+CD77+CE77 -> 6 | CH77: =CH76+AR77 -> 339 | CI77: =CI76+AS77 -> 6
A78: =MONTH(B78)&RIGHT(YEAR(B78),2) -> 309 | B78: 39888 | D78: 17 | E78: 17 | F78: 17 | H78: 17 | I78: 17 | M78: 17 | N78: 17 | O78: 17 | P78: 17 | Q78: 17 | R78: 17 | S78: 17 | U78: 17 | V78: 17 | W78: 17 | X78: 17 | Y78: 17 | Z78: 17 | AA78: 17 | AC78: 17 | AD78: 17 | AE78: 17 | AF78: 17 | AG78: 17 | AH78: 17 | AJ78: 17 | AK78: 17 | AM78: 17 | AN78: 18 | AP78: 18 | AQ78: 18 | AS78: 18 | AT78: =AX78+AY78 -> 0 | AU78: =AZ78+BA78+BB78 -> 17 | AV78: =BC78+BD78 -> 0 | AW78: =BE78+BF78+BG78 -> 0 | AZ78: 17 | BY78: =BT78+BV78 -> 0 | BZ78: =BU78+BW78+BX78 -> 0 | CA78: =CA77+BO78-BT78 -> 808 | CB78: =CB77+BP78-BU78 -> 6 | CC78: =CC77+BQ78-BV78 -> 0 | CD78: =CD77+BR78-BW78 -> 0 | CE78: =CE77+BS78-BX78 -> 0 | CF78: =CA78+CC78 -> 808 | CG78: =CB78+CD78+CE78 -> 6 | CH78: =CH77+AR78 -> 339 | CI78: =CI77+AS78 -> 24
A79: =MONTH(B79)&RIGHT(YEAR(B79),2) -> 309 | B79: 39889 | AT79: =AX79+AY79 -> 0 | AU79: =AZ79+BA79+BB79 -> 0 | AV79: =BC79+BD79 -> 0 | AW79: =BE79+BF79+BG79 -> 0 | BY79: =BT79+BV79 -> 0 | BZ79: =BU79+BW79+BX79 -> 0 | CA79: =CA78+BO79-BT79 -> 808 | CB79: =CB78+BP79-BU79 -> 6 | CC79: =CC78+BQ79-BV79 -> 0 | CD79: =CD78+BR79-BW79 -> 0 | CE79: =CE78+BS79-BX79 -> 0 | CF79: =CA79+CC79 -> 808 | CG79: =CB79+CD79+CE79 -> 6 | CH79: =CH78+AR79 -> 339 | CI79: =CI78+AS79 -> 24
A80: =MONTH(B80)&RIGHT(YEAR(B80),2) -> 309 | B80: 39890 | AT80: =AX80+AY80 -> 0 | AU80: =AZ80+BA80+BB80 -> 0 | AV80: =BC80+BD80 -> 0 | AW80: =BE80+BF80+BG80 -> 0 | BY80: =BT80+BV80 -> 0 | BZ80: =BU80+BW80+BX80 -> 0 | CA80: =CA79+BO80-BT80 -> 808 | CB80: =CB79+BP80-BU80 -> 6 | CC80: =CC79+BQ80-BV80 -> 0 | CD80: =CD79+BR80-BW80 -> 0 | CE80: =CE79+BS80-BX80 -> 0 | CF80: =CA80+CC80 -> 808 | CG80: =CB80+CD80+CE80 -> 6 | CH80: =CH79+AR80 -> 339 | CI80: =CI79+AS80 -> 24
A81: =MONTH(B81)&RIGHT(YEAR(B81),2) -> 309 | B81: 39891 | AT81: =AX81+AY81 -> 0 | AU81: =AZ81+BA81+BB81 -> 0 | AV81: =BC81+BD81 -> 0 | AW81: =BE81+BF81+BG81 -> 0 | BY81: =BT81+BV81 -> 0 | BZ81: =BU81+BW81+BX81 -> 0 | CA81: =CA80+BO81-BT81 -> 808 | CB81: =CB80+BP81-BU81 -> 6 | CC81: =CC80+BQ81-BV81 -> 0 | CD81: =CD80+BR81-BW81 -> 0 | CE81: =CE80+BS81-BX81 -> 0 | CF81: =CA81+CC81 -> 808 | CG81: =CB81+CD81+CE81 -> 6 | CH81: =CH80+AR81 -> 339 | CI81: =CI80+AS81 -> 24
A82: =MONTH(B82)&RIGHT(YEAR(B82),2) -> 309 | B82: 39892 | AT82: =AX82+AY82 -> 0 | AU82: =AZ82+BA82+BB82 -> 0 | AV82: =BC82+BD82 -> 0 | AW82: =BE82+BF82+BG82 -> 0 | BY82: =BT82+BV82 -> 0 | BZ82: =BU82+BW82+BX82 -> 0 | CA82: =CA81+BO82-BT82 -> 808 | CB82: =CB81+BP82-BU82 -> 6 | CC82: =CC81+BQ82-BV82 -> 0 | CD82: =CD81+BR82-BW82 -> 0 | CE82: =CE81+BS82-BX82 -> 0 | CF82: =CA82+CC82 -> 808 | CG82: =CB82+CD82+CE82 -> 6 | CH82: =CH81+AR82 -> 339 | CI82: =CI81+AS82 -> 24
A83: =MONTH(B83)&RIGHT(YEAR(B83),2) -> 309 | B83: 39893 | AT83: =AX83+AY83 -> 0 | AU83: =AZ83+BA83+BB83 -> 0 | AV83: =BC83+BD83 -> 0 | AW83: =BE83+BF83+BG83 -> 0 | BY83: =BT83+BV83 -> 0 | BZ83: =BU83+BW83+BX83 -> 0 | CA83: =CA82+BO83-BT83 -> 808 | CB83: =CB82+BP83-BU83 -> 6 | CC83: =CC82+BQ83-BV83 -> 0 | CD83: =CD82+BR83-BW83 -> 0 | CE83: =CE82+BS83-BX83 -> 0 | CF83: =CA83+CC83 -> 808 | CG83: =CB83+CD83+CE83 -> 6 | CH83: =CH82+AR83 -> 339 | CI83: =CI82+AS83 -> 24
A84: =MONTH(B84)&RIGHT(YEAR(B84),2) -> 309 | B84: 39894 | AT84: =AX84+AY84 -> 0 | AU84: =AZ84+BA84+BB84 -> 0 | AV84: =BC84+BD84 -> 0 | AW84: =BE84+BF84+BG84 -> 0 | BY84: =BT84+BV84 -> 0 | BZ84: =BU84+BW84+BX84 -> 0 | CA84: =CA83+BO84-BT84 -> 808 | CB84: =CB83+BP84-BU84 -> 6 | CC84: =CC83+BQ84-BV84 -> 0 | CD84: =CD83+BR84-BW84 -> 0 | CE84: =CE83+BS84-BX84 -> 0 | CF84: =CA84+CC84 -> 808 | CG84: =CB84+CD84+CE84 -> 6 | CH84: =CH83+AR84 -> 339 | CI84: =CI83+AS84 -> 24
A85: =MONTH(B85)&RIGHT(YEAR(B85),2) -> 309 | B85: 39895 | AT85: =AX85+AY85 -> 0 | AU85: =AZ85+BA85+BB85 -> 0 | AV85: =BC85+BD85 -> 0 | AW85: =BE85+BF85+BG85 -> 0 | BY85: =BT85+BV85 -> 0 | BZ85: =BU85+BW85+BX85 -> 0 | CA85: =CA84+BO85-BT85 -> 808 | CB85: =CB84+BP85-BU85 -> 6 | CC85: =CC84+BQ85-BV85 -> 0 | CD85: =CD84+BR85-BW85 -> 0 | CE85: =CE84+BS85-BX85 -> 0 | CF85: =CA85+CC85 -> 808 | CG85: =CB85+CD85+CE85 -> 6 | CH85: =CH84+AR85 -> 339 | CI85: =CI84+AS85 -> 24
A86: =MONTH(B86)&RIGHT(YEAR(B86),2) -> 309 | B86: 39896 | AT86: =AX86+AY86 -> 0 | AU86: =AZ86+BA86+BB86 -> 0 | AV86: =BC86+BD86 -> 0 | AW86: =BE86+BF86+BG86 -> 0 | BY86: =BT86+BV86 -> 0 | BZ86: =BU86+BW86+BX86 -> 0 | CA86: =CA85+BO86-BT86 -> 808 | CB86: =CB85+BP86-BU86 -> 6 | CC86: =CC85+BQ86-BV86 -> 0 | CD86: =CD85+BR86-BW86 -> 0 | CE86: =CE85+BS86-BX86 -> 0 | CF86: =CA86+CC86 -> 808 | CG86: =CB86+CD86+CE86 -> 6 | CH86: =CH85+AR86 -> 339 | CI86: =CI85+AS86 -> 24
A87: =MONTH(B87)&RIGHT(YEAR(B87),2) -> 309 | B87: 39897 | AT87: =AX87+AY87 -> 0 | AU87: =AZ87+BA87+BB87 -> 0 | AV87: =BC87+BD87 -> 0 | AW87: =BE87+BF87+BG87 -> 0 | BY87: =BT87+BV87 -> 0 | BZ87: =BU87+BW87+BX87 -> 0 | CA87: =CA86+BO87-BT87 -> 808 | CB87: =CB86+BP87-BU87 -> 6 | CC87: =CC86+BQ87-BV87 -> 0 | CD87: =CD86+BR87-BW87 -> 0 | CE87: =CE86+BS87-BX87 -> 0 | CF87: =CA87+CC87 -> 808 | CG87: =CB87+CD87+CE87 -> 6 | CH87: =CH86+AR87 -> 339 | CI87: =CI86+AS87 -> 24
A88: =MONTH(B88)&RIGHT(YEAR(B88),2) -> 309 | B88: 39898 | AT88: =AX88+AY88 -> 0 | AU88: =AZ88+BA88+BB88 -> 0 | AV88: =BC88+BD88 -> 0 | AW88: =BE88+BF88+BG88 -> 0 | BY88: =BT88+BV88 -> 0 | BZ88: =BU88+BW88+BX88 -> 0 | CA88: =CA87+BO88-BT88 -> 808 | CB88: =CB87+BP88-BU88 -> 6 | CC88: =CC87+BQ88-BV88 -> 0 | CD88: =CD87+BR88-BW88 -> 0 | CE88: =CE87+BS88-BX88 -> 0 | CF88: =CA88+CC88 -> 808 | CG88: =CB88+CD88+CE88 -> 6 | CH88: =CH87+AR88 -> 339 | CI88: =CI87+AS88 -> 24
A89: =MONTH(B89)&RIGHT(YEAR(B89),2) -> 309 | B89: 39899 | AT89: =AX89+AY89 -> 0 | AU89: =AZ89+BA89+BB89 -> 0 | AV89: =BC89+BD89 -> 0 | AW89: =BE89+BF89+BG89 -> 0 | BY89: =BT89+BV89 -> 0 | BZ89: =BU89+BW89+BX89 -> 0 | CA89: =CA88+BO89-BT89 -> 808 | CB89: =CB88+BP89-BU89 -> 6 | CC89: =CC88+BQ89-BV89 -> 0 | CD89: =CD88+BR89-BW89 -> 0 | CE89: =CE88+BS89-BX89 -> 0 | CF89: =CA89+CC89 -> 808 | CG89: =CB89+CD89+CE89 -> 6 | CH89: =CH88+AR89 -> 339 | CI89: =CI88+AS89 -> 24
A90: =MONTH(B90)&RIGHT(YEAR(B90),2) -> 309 | B90: 39900 | AT90: =AX90+AY90 -> 0 | AU90: =AZ90+BA90+BB90 -> 0 | AV90: =BC90+BD90 -> 0 | AW90: =BE90+BF90+BG90 -> 0 | BY90: =BT90+BV90 -> 0 | BZ90: =BU90+BW90+BX90 -> 0 | CA90: =CA89+BO90-BT90 -> 808 | CB90: =CB89+BP90-BU90 -> 6 | CC90: =CC89+BQ90-BV90 -> 0 | CD90: =CD89+BR90-BW90 -> 0 | CE90: =CE89+BS90-BX90 -> 0 | CF90: =CA90+CC90 -> 808 | CG90: =CB90+CD90+CE90 -> 6 | CH90: =CH89+AR90 -> 339 | CI90: =CI89+AS90 -> 24
... A369: =MONTH(B369)&RIGHT(YEAR(B369),2) -> 110 | B369: 40179 | AT369: =AX369+AY369 -> 0 | AU369: =AZ369+BA369+BB369 -> 0 | AV369: =BC369+BD369 -> 0 | AW369: =BE369+BF369+BG369 -> 0 | BY369: =BT369+BV369 -> 0 | BZ369: =BU369+BW369+BX369 -> 0 | CA369: =CA368+BO369-BT369 -> 808 | CB369: =CB368+BP369-BU369 -> 6 | CC369: =CC368+BQ369-BV369 -> 0 | CD369: =CD368+BR369-BW369 -> 0 | CE369: =CE368+BS369-BX369 -> 0 | CF369: =CA369+CC369 -> 808 | CG369: =CB369+CD369+CE369 -> 6 | CH369: =CH368+AR369 -> 339 | CI369: =CI368+AS369 -> 24

Sheet Отчет на дату полн
B1: =MONTH(B2)&RIGHT(YEAR(B2),2) -> 309 | C1: 1 | D1: =MONTH(B2) -> 3 | E1: =YEAR(B2) -> 2009 | F1: =C1&"."&D1&"."&E1 -> 1.3.2009 | G1: =DATEVALUE(F1) -> 39873
A2: Дата | B2: =Календарь!B3 -> 39888
D4: День | H4: На текущую дату | N4: План месяца | O4: Выполнение | P4: Ожидаемый остаток
D5: Вх. остаток | E5: План | F5: Факт | G5: Исх.остаток | H5: Вх. остаток | I5: План | J5: Факт | K5: Отклонение | L5: Выполнение | M5: Исх.остаток
B7: Тракторокомплекты | C7: 1221 | D7: =SUMIF(Остатки_производство!$C$6:$C$371,$B$2-1,Остатки_производство!$G$6:$G$371) -> 213 | E7: =SUMIF(Остатки_производство!$C$6:$C$371,$B$2,Остатки_производство!D$6:D$371) -> 0 | F7: =SUMIF(Остатки_производство!$C$6:$C$371,$B$2,Остатки_производство!E$6:E$371) -> 0 | G7: =D7+F7-F12 -> 213 | H7: =SUMIF(Остатки_производство!$C$6:$C$371,$G$1-1,Остатки_производство!$G$6:$G$371) -> 281 | I7: {=SUM(IF($B$1=Остатки_производство!$B$6:$B$371,IF($B$2>=Остатки_производство!$C$6:$C$371,Остатки_производство!D$6:D$371,0),0))} -> 0 | J7: {=SUM(IF($B$1=Остатки_производство!$B$6:$B$371,IF($B$2>=Остатки_производство!$C$6:$C$371,Остатки_производство!E$6:E$371,0),0))} -> 30 | K7: =I7-J7 -> -30 | L7: =IF(I7<>0,(J7)/I7,"-") -> - | M7: =H7+J7-J46 -> 160 | N7: =SUMIF(Остатки_производство!$B$6:$B$371,$B$1,Остатки_производство!$D$6:$D$371) -> 150 | O7: =IF(N7<>0,(J7)/N7,"-") -> 0.2 | P7: =H7+N7-N46 -> 331
C8: 826 | D8: =SUMIF(Остатки_производство!$C$6:$C$371,$B$2-1,Остатки_производство!$K$6:$K$371) -> 215 | E8: =SUMIF(Остатки_производство!$C$6:$C$371,$B$2,Остатки_производство!H6:H371) -> 25 | F8: =SUMIF(Остатки_производство!$C$6:$C$371,$B$2,Остатки_производство!I6:I371) -> 0 | G8: =D8+F8-F16 -> 198 | H8: =SUMIF(Остатки_производство!$C$6:$C$371,$G$1-1,Остатки_производство!$K$6:$K$371) -> 200 | I8: {=SUM(IF($B$1=Остатки_производство!$B$6:$B$371,IF($B$2>=Остатки_производство!$C$6:$C$371,Остатки_производство!H$6:H$371,0),0))} -> 125 | J8: {=SUM(IF($B$1=Остатки_производство!$B$6:$B$371,IF($B$2>=Остатки_производство!$C$6:$C$371,Остатки_производство!I$6:I$371,0),0))} -> 50 | K8: =I8-J8 -> 75 | L8: =IF(I8<>0,(J8)/I8,"-") -> 0.4 | M8: =H8+J8-J47 -> 226 | N8: =SUMIF(Остатки_производство!$B$6:$B$371,$B$1,Остатки_производство!$H$6:$H$371) -> 300 | O8: =IF(N8<>0,(J8)/N8,"-") -> 0.16666667 | P8: =H8+N8-N47 -> 100
B9: Всего тракторокомплектов | D9: =SUM(D7:D8) -> 428 | E9: =SUM(E7:E8) -> 25 | F9: =SUM(F7:F8) -> 0 | G9: =SUM(G7:G8) -> 411 | H9: =SUM(H7:H8) -> 481 | I9: =SUM(I7:I8) -> 125 | J9: =SUM(J7:J8) -> 80 | K9: =SUM(K7:K8) -> 45 | L9: =IF(I9<>0,(J9)/I9,"-") -> 0.64 | M9: =SUM(M7:M8) -> 386 | N9: =SUM(N7:N8) -> 450 | O9: =IF(N9<>0,(J9)/N9,"-") -> 0.17777778 | P9: =SUM(P7:P8) -> 431
B10: Производство 1221 | C10: трактор | E10: =SUMIF(Произв_План!$B$4:$B$369,$B$2,Произв_План!$AX$4:$AX$369) -> 0 | F10: =SUMIF(Произв_Факт!$B$4:$B$369,$B$2,Произв_Факт!$AX$4:$AX$369) -> 0 | I10: {=SUM(IF($B$1=Произв_План!$A$4:$A$369,IF($B$2>=Произв_План!$B$4:$B$369,Произв_План!$AX$4:$AX$369,0),0))} -> 100 | J10: {=SUM(IF($B$1=Произв_Факт!$A$4:$A$369,IF($B$2>=Произв_Факт!$B$4:$B$369,Произв_Факт!$AX$4:$AX$369,0),0))} -> 98 | K10: =I10-J10 -> 2 | L10: =IF(I10<>0,(J10)/I10,"-") -> 0.98 | N10: =SUMIF(Произв_План!$A$4:$A$369,$B$1,Произв_План!$AX$4:$AX$369) -> 100 | O10: =IF(N10<>0,(J10)/N10,"-") -> 0.98
C11: погрузчик | E11: =SUMIF(Произв_План!$B$4:$B$369,$B$2,Произв_План!$AY$4:$AY$369) -> 0 | F11: =SUMIF(Произв_Факт!$B$4:$B$369,$B$2,Произв_Факт!$AY$4:$AY$369) -> 0 | I11: {=SUM(IF($B$1=Произв_План!$A$4:$A$369,IF($B$2>=Произв_План!$B$4:$B$369,Произв_План!$AY$4:$AY$369,0),0))} -> 0 | J11: {=SUM(IF($B$1=Произв_Факт!$A$4:$A$369,IF($B$2>=Произв_Факт!$B$4:$B$369,Произв_Факт!$AY$4:$AY$369,0),0))} -> 0 | K11: =I11-J11 -> 0 | L11: =IF(I11<>0,(J11)/I11,"-") -> - | N11: =SUMIF(Произв_План!$A$4:$A$369,$B$1,Произв_План!$AY$4:$AY$369) -> 0 | O11: =IF(N11<>0,(J11)/N11,"-") -> -
B12: Итого 1221 | E12: =SUM(E10:E11) -> 0 | F12: =SUM(F10:F11) -> 0 | I12: =SUM(I10:I11) -> 100 | J12: =SUM(J10:J11) -> 98 | K12: =SUM(K10:K11) -> 2 | L12: =IF(I12<>0,(J12)/I12,"-") -> 0.98 | N12: =SUM(N10:N11) -> 100 | O12: =IF(N12<>0,(J12)/N12,"-") -> 0.98
B13: Производство 826 | C13: трактор | E13: =SUMIF(Произв_План!$B$4:$B$369,$B$2,Произв_План!$AZ$4:$AZ$369) -> 25 | F13: =SUMIF(Произв_Факт!$B$4:$B$369,$B$2,Произв_Факт!$AZ$4:$AZ$369) -> 17 | I13: {=SUM(IF($B$1=Произв_План!$A$4:$A$369,IF($B$2>=Произв_План!$B$4:$B$369,Произв_План!$AZ$4:$AZ$369,0),0))} -> 125 | J13: {=SUM(IF($B$1=Произв_Факт!$A$4:$A$369,IF($B$2>=Произв_Факт!$B$4:$B$369,Произв_Факт!$AZ$4:$AZ$369,0),0))} -> 52 | K13: =I13-J13 -> 73 | L13: =IF(I13<>0,(J13)/I13,"-") -> 0.416 | N13: =SUMIF(Произв_План!$A$4:$A$369,$B$1,Произв_План!$AZ$4:$AZ$369) -> 400 | O13: =IF(N13<>0,(J13)/N13,"-") -> 0.13
C14: погрузчик | E14: =SUMIF(Произв_План!$B$4:$B$369,$B$2,Произв_План!$BA$4:$BA$369) -> 0 | F14: =SUMIF(Произв_Факт!$B$4:$B$369,$B$2,Произв_Факт!$BA$4:$BA$369) -> 0 | I14: {=SUM(IF($B$1=Произв_План!$A$4:$A$369,IF($B$2>=Произв_План!$B$4:$B$369,Произв_План!$BA$4:$BA$369,0),0))} -> 0 | J14: {=SUM(IF($B$1=Произв_Факт!$A$4:$A$369,IF($B$2>=Произв_Факт!$B$4:$B$369,Произв_Факт!$BA$4:$BA$369,0),0))} -> 0 | K14: =I14-J14 -> 0 | L14: =IF(I14<>0,(J14)/I14,"-") -> - | N14: =SUMIF(Произв_План!$A$4:$A$369,$B$1,Произв_План!$BA$4:$BA$369) -> 0 | O14: =IF(N14<>0,(J14)/N14,"-") -> -
C15: экскаватор | E15: =SUMIF(Произв_План!$B$4:$B$369,$B$2,Произв_План!$BB$4:$BB$369) -> 0 | F15: =SUMIF(Произв_Факт!$B$4:$B$369,$B$2,Произв_Факт!$BB$4:$BB$369) -> 0 | I15: {=SUM(IF($B$1=Произв_План!$A$4:$A$369,IF($B$2>=Произв_План!$B$4:$B$369,Произв_План!$BB$4:$BB$369,0),0))} -> 0 | J15: {=SUM(IF($B$1=Произв_Факт!$A$4:$A$369,IF($B$2>=Произв_Факт!$B$4:$B$369,Произв_Факт!$BB$4:$BB$369,0),0))} -> 0 | K15: =I15-J15 -> 0 | L15: =IF(I15<>0,(J15)/I15,"-") -> - | N15: =SUMIF(Произв_План!$A$4:$A$369,$B$1,Произв_План!$BB$4:$BB$369) -> 0 | O15: =IF(N15<>0,(J15)/N15,"-") -> -
B16: Итого 826 | E16: =SUM(E13:E15) -> 25 | F16: =SUM(F13:F15) -> 17 | I16: =SUM(I13:I15) -> 125 | J16: =SUM(J13:J15) -> 52 | K16: =SUM(K13:K15) -> 73 | L16: =IF(I16<>0,(J16)/I16,"-") -> 0.416 | N16: =SUM(N13:N15) -> 400 | O16: =IF(N16<>0,(J16)/N16,"-") -> 0.13
B17: Всего | E17: =E12+E16 -> 25 | F17: =F12+F16 -> 17 | I17: =I12+I16 -> 225 | J17: =J12+J16 -> 150 | K17: =K12+K16 -> 75 | L17: =IF(I17<>0,(J17)/I17,"-") -> 0.66666667 | O17: =IF(N17<>0,(J17)/N17,"-") -> -
B19: Пост №1 | E19: =SUMIF(Произв_План!$B$4:$B$369,$B$2,Произв_План!$O$4:$O$369) -> 25 | F19: =SUMIF(Произв_Факт!$B$4:$B$369,$B$2,Произв_Факт!$O$4:$O$369) -> 17 | I19: {=SUM(IF($B$1=Произв_План!$A$4:$A$369,IF($B$2>=Произв_План!$B$4:$B$369,Произв_План!$O$4:$O$369,0),0))} -> 225 | J19: {=SUM(IF($B$1=Произв_Факт!$A$4:$A$369,IF($B$2>=Произв_Факт!$B$4:$B$369,Произв_Факт!$O$4:$O$369,0),0))} -> 151 | K19: =I19-J19 -> 74 | L19: =IF(I19<>0,(J19)/I19,"-") -> 0.67111111 | N19: =SUMIF(Произв_План!$A$4:$A$369,$B$1,Произв_План!$O$4:$O$369) -> 500 | O19: =IF(N19<>0,(J19)/N19,"-") -> 0.302
B20: Пост №2 | E20: =SUMIF(Произв_План!$B$4:$B$369,$B$2,Произв_План!$P$4:$P$369) -> 25 | F20: =SUMIF(Произв_Факт!$B$4:$B$369,$B$2,Произв_Факт!$P$4:$P$369) -> 17 | I20: {=SUM(IF($B$1=Произв_План!$A$4:$A$369,IF($B$2>=Произв_План!$B$4:$B$369,Произв_План!$P$4:$P$369,0),0))} -> 225 | J20: {=SUM(IF($B$1=Произв_Факт!$A$4:$A$369,IF($B$2>=Произв_Факт!$B$4:$B$369,Произв_Факт!$P$4:$P$369,0),0))} -> 151 | K20: =I20-J20 -> 74 | L20: =IF(I20<>0,(J20)/I20,"-") -> 0.67111111 | N20: =SUMIF(Произв_План!$A$4:$A$369,$B$1,Произв_План!$P$4:$P$369) -> 500 | O20: =IF(N20<>0,(J20)/N20,"-") -> 0.302
B21: Пост №3 | E21: =SUMIF(Произв_План!$B$4:$B$369,$B$2,Произв_План!$Q$4:$Q$369) -> 25 | F21: =SUMIF(Произв_Факт!$B$4:$B$369,$B$2,Произв_Факт!$Q$4:$Q$369) -> 17 | I21: {=SUM(IF($B$1=Произв_План!$A$4:$A$369,IF($B$2>=Произв_План!$B$4:$B$369,Произв_План!$Q$4:$Q$369,0),0))} -> 225 | J21: {=SUM(IF($B$1=Произв_Факт!$A$4:$A$369,IF($B$2>=Произв_Факт!$B$4:$B$369,Произв_Факт!$Q$4:$Q$369,0),0))} -> 151 | K21: =I21-J21 -> 74 | L21: =IF(I21<>0,(J21)/I21,"-") -> 0.67111111 | N21: =SUMIF(Произв_План!$A$4:$A$369,$B$1,Произв_План!$Q$4:$Q$369) -> 500 | O21: =IF(N21<>0,(J21)/N21,"-") -> 0.302
B22: Пост №4 | E22: =SUMIF(Произв_План!$B$4:$B$369,$B$2,Произв_План!$R$4:$R$369) -> 25 | F22: =SUMIF(Произв_Факт!$B$4:$B$369,$B$2,Произв_Факт!$R$4:$R$369) -> 17 | I22: {=SUM(IF($B$1=Произв_План!$A$4:$A$369,IF($B$2>=Произв_План!$B$4:$B$369,Произв_План!$R$4:$R$369,0),0))} -> 225 | J22: {=SUM(IF($B$1=Произв_Факт!$A$4:$A$369,IF($B$2>=Произв_Факт!$B$4:$B$369,Произв_Факт!$R$4:$R$369,0),0))} -> 151 | K22: =I22-J22 -> 74 | L22: =IF(I22<>0,(J22)/I22,"-") -> 0.67111111 | N22: =SUMIF(Произв_План!$A$4:$A$369,$B$1,Произв_План!$R$4:$R$369) -> 500 | O22: =IF(N22<>0,(J22)/N22,"-") -> 0.302
B23: Пост №5 | E23: =SUMIF(Произв_План!$B$4:$B$369,$B$2,Произв_План!$S$4:$S$369) -> 25 | F23: =SUMIF(Произв_Факт!$B$4:$B$369,$B$2,Произв_Факт!$S$4:$S$369) -> 17 | I23: {=SUM(IF($B$1=Произв_План!$A$4:$A$369,IF($B$2>=Произв_План!$B$4:$B$369,Произв_План!$S$4:$S$369,0),0))} -> 225 | J23: {=SUM(IF($B$1=Произв_Факт!$A$4:$A$369,IF($B$2>=Произв_Факт!$B$4:$B$369,Произв_Факт!$S$4:$S$369,0),0))} -> 151 | K23: =I23-J23 -> 74 | L23: =IF(I23<>0,(J23)/I23,"-") -> 0.67111111 | N23: =SUMIF(Произв_План!$A$4:$A$369,$B$1,Произв_План!$S$4:$S$369) -> 500 | O23: =IF(N23<>0,(J23)/N23,"-") -> 0.302
B24: Прошло моделей | C24: 1221 | E24: =SUMIF(Произв_План!$B$4:$B$369,$B$2,Произв_План!$T$4:$T$369) -> 0 | F24: =SUMIF(Произв_Факт!$B$4:$B$369,$B$2,Произв_Факт!$T$4:$T$369) -> 0 | I24: {=SUM(IF($B$1=Произв_План!$A$4:$A$369,IF($B$2>=Произв_План!$B$4:$B$369,Произв_План!$T$4:$T$369,0),0))} -> 100 | J24: {=SUM(IF($B$1=Произв_Факт!$A$4:$A$369,IF($B$2>=Произв_Факт!$B$4:$B$369,Произв_Факт!$T$4:$T$369,0),0))} -> 80 | K24: =I24-J24 -> 20 | L24: =IF(I24<>0,(J24)/I24,"-") -> 0.8 | N24: =SUMIF(Произв_План!$A$4:$A$369,$B$1,Произв_План!$T$4:$T$369) -> 100 | O24: =IF(N24<>0,(J24)/N24,"-") -> 0.8
C25: 826 | E25: =SUMIF(Произв_План!$B$4:$B$369,$B$2,Произв_План!$U$4:$U$369) -> 25 | F25: =SUMIF(Произв_Факт!$B$4:$B$369,$B$2,Произв_Факт!$U$4:$U$369) -> 17 | I25: {=SUM(IF($B$1=Произв_План!$A$4:$A$369,IF($B$2>=Произв_План!$B$4:$B$369,Произв_План!$U$4:$U$369,0),0))} -> 125 | J25: {=SUM(IF($B$1=Произв_Факт!$A$4:$A$369,IF($B$2>=Произв_Факт!$B$4:$B$369,Произв_Факт!$U$4:$U$369,0),0))} -> 57 | K25: =I25-J25 -> 68 | L25: =IF(I25<>0,(J25)/I25,"-") -> 0.456 | N25: =SUMIF(Произв_План!$A$4:$A$369,$B$1,Произв_План!$U$4:$U$369) -> 400 | O25: =IF(N25<>0,(J25)/N25,"-") -> 0.1425
B26: Пост Т1 | E26: =SUMIF(Произв_План!$B$4:$B$369,$B$2,Произв_План!$V$4:$V$369) -> 25 | F26: =SUMIF(Произв_Факт!$B$4:$B$369,$B$2,Произв_Факт!$V$4:$V$369) -> 17 | I26: {=SUM(IF($B$1=Произв_План!$A$4:$A$369,IF($B$2>=Произв_План!$B$4:$B$369,Произв_План!$V$4:$V$369,0),0))} -> 225 | J26: {=SUM(IF($B$1=Произв_Факт!$A$4:$A$369,IF($B$2>=Произв_Факт!$B$4:$B$369,Произв_Факт!$V$4:$V$369,0),0))} -> 151 | K26: =I26-J26 -> 74 | L26: =IF(I26<>0,(J26)/I26,"-") -> 0.67111111 | N26: =SUMIF(Произв_План!$A$4:$A$369,$B$1,Произв_План!$V$4:$V$369) -> 500 | O26: =IF(N26<>0,(J26)/N26,"-") -> 0.302
B27: Пост №6 | E27: =SUMIF(Произв_План!$B$4:$B$369,$B$2,Произв_План!$W$4:$W$369) -> 25 | F27: =SUMIF(Произв_Факт!$B$4:$B$369,$B$2,Произв_Факт!$W$4:$W$369) -> 17 | I27: {=SUM(IF($B$1=Произв_План!$A$4:$A$369,IF($B$2>=Произв_План!$B$4:$B$369,Произв_План!$W$4:$W$369,0),0))} -> 225 | J27: {=SUM(IF($B$1=Произв_Факт!$A$4:$A$369,IF($B$2>=Произв_Факт!$B$4:$B$369,Произв_Факт!$W$4:$W$369,0),0))} -> 151 | K27: =I27-J27 -> 74 | L27: =IF(I27<>0,(J27)/I27,"-") -> 0.67111111 | N27: =SUMIF(Произв_План!$A$4:$A$369,$B$1,Произв_План!$W$4:$W$369) -> 500 | O27: =IF(N27<>0,(J27)/N27,"-") -> 0.302
B28: Пост №7 | E28: =SUMIF(Произв_План!$B$4:$B$369,$B$2,Произв_План!$X$4:$X$369) -> 25 | F28: =SUMIF(Произв_Факт!$B$4:$B$369,$B$2,Произв_Факт!$X$4:$X$369) -> 17 | I28: {=SUM(IF($B$1=Произв_План!$A$4:$A$369,IF($B$2>=Произв_План!$B$4:$B$369,Произв_План!$X$4:$X$369,0),0))} -> 225 | J28: {=SUM(IF($B$1=Произв_Факт!$A$4:$A$369,IF($B$2>=Произв_Факт!$B$4:$B$369,Произв_Факт!$X$4:$X$369,0),0))} -> 151 | K28: =I28-J28 -> 74 | L28: =IF(I28<>0,(J28)/I28,"-") -> 0.67111111 | N28: =SUMIF(Произв_План!$A$4:$A$369,$B$1,Произв_План!$X$4:$X$369) -> 500 | O28: =IF(N28<>0,(J28)/N28,"-") -> 0.302
B29: Пост №8 | E29: =SUMIF(Произв_План!$B$4:$B$369,$B$2,Произв_План!$Y$4:$Y$369) -> 25 | F29: =SUMIF(Произв_Факт!$B$4:$B$369,$B$2,Произв_Факт!$Y$4:$Y$369) -> 17 | I29: {=SUM(IF($B$1=Произв_План!$A$4:$A$369,IF($B$2>=Произв_План!$B$4:$B$369,Произв_План!$Y$4:$Y$369,0),0))} -> 225 | J29: {=SUM(IF($B$1=Произв_Факт!$A$4:$A$369,IF($B$2>=Произв_Факт!$B$4:$B$369,Произв_Факт!$Y$4:$Y$369,0),0))} -> 151 | K29: =I29-J29 -> 74 | L29: =IF(I29<>0,(J29)/I29,"-") -> 0.67111111 | N29: =SUMIF(Произв_План!$A$4:$A$369,$B$1,Произв_План!$Y$4:$Y$369) -> 500 | O29: =IF(N29<>0,(J29)/N29,"-") -> 0.302
B30: Пост №9 | E30: =SUMIF(Произв_План!$B$4:$B$369,$B$2,Произв_План!$Z$4:$Z$369) -> 25 | F30: =SUMIF(Произв_Факт!$B$4:$B$369,$B$2,Произв_Факт!$Z$4:$Z$369) -> 17 | I30: {=SUM(IF($B$1=Произв_План!$A$4:$A$369,IF($B$2>=Произв_План!$B$4:$B$369,Произв_План!$Z$4:$Z$369,0),0))} -> 225 | J30: {=SUM(IF($B$1=Произв_Факт!$A$4:$A$369,IF($B$2>=Произв_Факт!$B$4:$B$369,Произв_Факт!$Z$4:$Z$369,0),0))} -> 151 | K30: =I30-J30 -> 74 | L30: =IF(I30<>0,(J30)/I30,"-") -> 0.67111111 | N30: =SUMIF(Произв_План!$A$4:$A$369,$B$1,Произв_План!$Z$4:$Z$369) -> 500 | O30: =IF(N30<>0,(J30)/N30,"-") -> 0.302
B31: Пост №10 | E31: =SUMIF(Произв_План!$B$4:$B$369,$B$2,Произв_План!$AA$4:$AA$369) -> 25 | F31: =SUMIF(Произв_Факт!$B$4:$B$369,$B$2,Произв_Факт!$AA$4:$AA$369) -> 17 | I31: {=SUM(IF($B$1=Произв_План!$A$4:$A$369,IF($B$2>=Произв_План!$B$4:$B$369,Произв_План!$AA$4:$AA$369,0),0))} -> 225 | J31: {=SUM(IF($B$1=Произв_Факт!$A$4:$A$369,IF($B$2>=Произв_Факт!$B$4:$B$369,Произв_Факт!$AA$4:$AA$369,0),0))} -> 150 | K31: =I31-J31 -> 75 | L31: =IF(I31<>0,(J31)/I31,"-") -> 0.66666667 | N31: =SUMIF(Произв_План!$A$4:$A$369,$B$1,Произв_План!$AA$4:$AA$369) -> 500 | O31: =IF(N31<>0,(J31)/N31,"-") -> 0.3
B32: Прошло моделей | C32: 1221 | E32: =SUMIF(Произв_План!$B$4:$B$369,$B$2,Произв_План!$AB$4:$AB$369) -> 0 | F32: =SUMIF(Произв_Факт!$B$4:$B$369,$B$2,Произв_Факт!$AB$4:$AB$369) -> 0 | I32: {=SUM(IF($B$1=Произв_План!$A$4:$A$369,IF($B$2>=Произв_План!$B$4:$B$369,Произв_План!$AB$4:$AB$369,0),0))} -> 100 | J32: {=SUM(IF($B$1=Произв_Факт!$A$4:$A$369,IF($B$2>=Произв_Факт!$B$4:$B$369,Произв_Факт!$AB$4:$AB$369,0),0))} -> 98 | K32: =I32-J32 -> 2 | L32: =IF(I32<>0,(J32)/I32,"-") -> 0.98 | N32: =SUMIF(Произв_План!$A$4:$A$369,$B$1,Произв_План!$AB$4:$AB$369) -> 100 | O32: =IF(N32<>0,(J32)/N32,"-") -> 0.98
C33: 826 | E33: =SUMIF(Произв_План!$B$4:$B$369,$B$2,Произв_План!$AC$4:$AC$369) -> 25 | F33: =SUMIF(Произв_Факт!$B$4:$B$369,$B$2,Произв_Факт!$AC$4:$AC$369) -> 17 | I33: {=SUM(IF($B$1=Произв_План!$A$4:$A$369,IF($B$2>=Произв_План!$B$4:$B$369,Произв_План!$AC$4:$AC$369,0),0))} -> 125 | J33: {=SUM(IF($B$1=Произв_Факт!$A$4:$A$369,IF($B$2>=Произв_Факт!$B$4:$B$369,Произв_Факт!$AC$4:$AC$369,0),0))} -> 52 | K33: =I33-J33 -> 73 | L33: =IF(I33<>0,(J33)/I33,"-") -> 0.416 | N33: =SUMIF(Произв_План!$A$4:$A$369,$B$1,Произв_План!$AC$4:$AC$369) -> 400 | O33: =IF(N33<>0,(J33)/N33,"-") -> 0.13
B34: Пост Т2 | E34: =SUMIF(Произв_План!$B$4:$B$369,$B$2,Произв_План!$AD$4:$AD$369) -> 25 | F34: =SUMIF(Произв_Факт!$B$4:$B$369,$B$2,Произв_Факт!$AD$4:$AD$369) -> 17 | I34: {=SUM(IF($B$1=Произв_План!$A$4:$A$369,IF($B$2>=Произв_План!$B$4:$B$369,Произв_План!$AD$4:$AD$369,0),0))} -> 225 | J34: {=SUM(IF($B$1=Произв_Факт!$A$4:$A$369,IF($B$2>=Произв_Факт!$B$4:$B$369,Произв_Факт!$AD$4:$AD$369,0),0))} -> 175 | K34: =I34-J34 -> 50 | L34: =IF(I34<>0,(J34)/I34,"-") -> 0.77777778 | N34: =SUMIF(Произв_План!$A$4:$A$369,$B$1,Произв_План!$AD$4:$AD$369) -> 500 | O34: =IF(N34<>0,(J34)/N34,"-") -> 0.35
B35: Пост №11 | E35: =SUMIF(Произв_План!$B$4:$B$369,$B$2,Произв_План!$AE$4:$AE$369) -> 25 | F35: =SUMIF(Произв_Факт!$B$4:$B$369,$B$2,Произв_Факт!$AE$4:$AE$369) -> 17 | I35: {=SUM(IF($B$1=Произв_План!$A$4:$A$369,IF($B$2>=Произв_План!$B$4:$B$369,Произв_План!$AE$4:$AE$369,0),0))} -> 225 | J35: {=SUM(IF($B$1=Произв_Факт!$A$4:$A$369,IF($B$2>=Произв_Факт!$B$4:$B$369,Произв_Факт!$AE$4:$AE$369,0),0))} -> 179 | K35: =I35-J35 -> 46 | L35: =IF(I35<>0,(J35)/I35,"-") -> 0.79555556 | N35: =SUMIF(Произв_План!$A$4:$A$369,$B$1,Произв_План!$AE$4:$AE$369) -> 500 | O35: =IF(N35<>0,(J35)/N35,"-") -> 0.358
B36: Пост №12 | E36: =SUMIF(Произв_План!$B$4:$B$369,$B$2,Произв_План!$AF$4:$AF$369) -> 25 | F36: =SUMIF(Произв_Факт!$B$4:$B$369,$B$2,Произв_Факт!$AF$4:$AF$369) -> 17 | I36: {=SUM(IF($B$1=Произв_План!$A$4:$A$369,IF($B$2>=Произв_План!$B$4:$B$369,Произв_План!$AF$4:$AF$369,0),0))} -> 225 | J36: {=SUM(IF($B$1=Произв_Факт!$A$4:$A$369,IF($B$2>=Произв_Факт!$B$4:$B$369,Произв_Факт!$AF$4:$AF$369,0),0))} -> 177 | K36: =I36-J36 -> 48 | L36: =IF(I36<>0,(J36)/I36,"-") -> 0.78666667 | N36: =SUMIF(Произв_План!$A$4:$A$369,$B$1,Произв_План!$AF$4:$AF$369) -> 500 | O36: =IF(N36<>0,(J36)/N36,"-") -> 0.354
B37: Пост №13 | E37: =SUMIF(Произв_План!$B$4:$B$369,$B$2,Произв_План!$AG$4:$AG$369) -> 25 | F37: =SUMIF(Произв_Факт!$B$4:$B$369,$B$2,Произв_Факт!$AG$4:$AG$369) -> 17 | I37: {=SUM(IF($B$1=Произв_План!$A$4:$A$369,IF($B$2>=Произв_План!$B$4:$B$369,Произв_План!$AG$4:$AG$369,0),0))} -> 225 | J37: {=SUM(IF($B$1=Произв_Факт!$A$4:$A$369,IF($B$2>=Произв_Факт!$B$4:$B$369,Произв_Факт!$AG$4:$AG$369,0),0))} -> 177 | K37: =I37-J37 -> 48 | L37: =IF(I37<>0,(J37)/I37,"-") -> 0.78666667 | N37: =SUMIF(Произв_План!$A$4:$A$369,$B$1,Произв_План!$AG$4:$AG$369) -> 500 | O37: =IF(N37<>0,(J37)/N37,"-") -> 0.354
B38: Пост №14 | E38: =SUMIF(Произв_План!$B$4:$B$369,$B$2,Произв_План!$AH$4:$AH$369) -> 25 | F38: =SUMIF(Произв_Факт!$B$4:$B$369,$B$2,Произв_Факт!$AH$4:$AH$369) -> 17 | I38: {=SUM(IF($B$1=Произв_План!$A$4:$A$369,IF($B$2>=Произв_План!$B$4:$B$369,Произв_План!$AH$4:$AH$369,0),0))} -> 225 | J38: {=SUM(IF($B$1=Произв_Факт!$A$4:$A$369,IF($B$2>=Произв_Факт!$B$4:$B$369,Произв_Факт!$AH$4:$AH$369,0),0))} -> 177 | K38: =I38-J38 -> 48 | L38: =IF(I38<>0,(J38)/I38,"-") -> 0.78666667 | N38: =SUMIF(Произв_План!$A$4:$A$369,$B$1,Произв_План!$AH$4:$AH$369) -> 500 | O38: =IF(N38<>0,(J38)/N38,"-") -> 0.354
B39: Прошло моделей | C39: 1221 | E39: =SUMIF(Произв_План!$B$4:$B$369,$B$2,Произв_План!$AI$4:$AI$369) -> 0 | F39: =SUMIF(Произв_Факт!$B$4:$B$369,$B$2,Произв_Факт!$AI$4:$AI$369) -> 0 | I39: {=SUM(IF($B$1=Произв_План!$A$4:$A$369,IF($B$2>=Произв_План!$B$4:$B$369,Произв_План!$AI$4:$AI$369,0),0))} -> 100 | J39: {=SUM(IF($B$1=Произв_Факт!$A$4:$A$369,IF($B$2>=Произв_Факт!$B$4:$B$369,Произв_Факт!$AI$4:$AI$369,0),0))} -> 128 | K39: =I39-J39 -> -28 | L39: =IF(I39<>0,(J39)/I39,"-") -> 1.28 | N39: =SUMIF(Произв_План!$A$4:$A$369,$B$1,Произв_План!$AI$4:$AI$369) -> 100 | O39: =IF(N39<>0,(J39)/N39,"-") -> 1.28
C40: 826 | E40: =SUMIF(Произв_План!$B$4:$B$369,$B$2,Произв_План!$AJ$4:$AJ$369) -> 25 | F40: =SUMIF(Произв_Факт!$B$4:$B$369,$B$2,Произв_Факт!$AJ$4:$AJ$369) -> 17 | I40: {=SUM(IF($B$1=Произв_План!$A$4:$A$369,IF($B$2>=Произв_План!$B$4:$B$369,Произв_План!$AJ$4:$AJ$369,0),0))} -> 125 | J40: {=SUM(IF($B$1=Произв_Факт!$A$4:$A$369,IF($B$2>=Произв_Факт!$B$4:$B$369,Произв_Факт!$AJ$4:$AJ$369,0),0))} -> 49 | K40: =I40-J40 -> 76 | L40: =IF(I40<>0,(J40)/I40,"-") -> 0.392 | N40: =SUMIF(Произв_План!$A$4:$A$369,$B$1,Произв_План!$AJ$4:$AJ$369) -> 400 | O40: =IF(N40<>0,(J40)/N40,"-") -> 0.1225
B41: Пост №15 | E41: =SUMIF(Произв_План!$B$4:$B$369,$B$2,Произв_План!$AK$4:$AK$369) -> 25 | F41: =SUMIF(Произв_Факт!$B$4:$B$369,$B$2,Произв_Факт!$AK$4:$AK$369) -> 17 | I41: {=SUM(IF($B$1=Произв_План!$A$4:$A$369,IF($B$2>=Произв_План!$B$4:$B$369,Произв_План!$AK$4:$AK$369,0),0))} -> 225 | J41: {=SUM(IF($B$1=Произв_Факт!$A$4:$A$369,IF($B$2>=Произв_Факт!$B$4:$B$369,Произв_Факт!$AK$4:$AK$369,0),0))} -> 178 | K41: =I41-J41 -> 47 | L41: =IF(I41<>0,(J41)/I41,"-") -> 0.79111111 | N41: =SUMIF(Произв_План!$A$4:$A$369,$B$1,Произв_План!$AK$4:$AK$369) -> 500 | O41: =IF(N41<>0,(J41)/N41,"-") -> 0.356
B42: Пост №16 | E42: =SUMIF(Произв_План!$B$4:$B$369,$B$2,Произв_План!$AN$4:$AN$369) -> 25 | F42: =SUMIF(Произв_Факт!$B$4:$B$369,$B$2,Произв_Факт!$AN$4:$AN$369) -> 18 | I42: {=SUM(IF($B$1=Произв_План!$A$4:$A$369,IF($B$2>=Произв_План!$B$4:$B$369,Произв_План!$AN$4:$AN$369,0),0))} -> 225 | J42: {=SUM(IF($B$1=Произв_Факт!$A$4:$A$369,IF($B$2>=Произв_Факт!$B$4:$B$369,Произв_Факт!$AN$4:$AN$369,0),0))} -> 175 | K42: =I42-J42 -> 50 | L42: =IF(I42<>0,(J42)/I42,"-") -> 0.77777778 | N42: =SUMIF(Произв_План!$A$4:$A$369,$B$1,Произв_План!$AN$4:$AN$369) -> 500 | O42: =IF(N42<>0,(J42)/N42,"-") -> 0.35
B43: Прошло моделей | C43: 1221 | E43: =SUMIF(Произв_План!$B$4:$B$369,$B$2,Произв_План!$AO$4:$AO$369) -> 0 | F43: =SUMIF(Произв_Факт!$B$4:$B$369,$B$2,Произв_Факт!$AO$4:$AO$369) -> 0 | I43: {=SUM(IF($B$1=Произв_План!$A$4:$A$369,IF($B$2>=Произв_План!$B$4:$B$369,Произв_План!$AO$4:$AO$369,0),0))} -> 100 | J43: {=SUM(IF($B$1=Произв_Факт!$A$4:$A$369,IF($B$2>=Произв_Факт!$B$4:$B$369,Произв_Факт!$AO$4:$AO$369,0),0))} -> 151 | K43: =I43-J43 -> -51 | L43: =IF(I43<>0,(J43)/I43,"-") -> 1.51 | N43: =SUMIF(Произв_План!$A$4:$A$369,$B$1,Произв_План!$AO$4:$AO$369) -> 100 | O43: =IF(N43<>0,(J43)/N43,"-") -> 1.51
C44: 826 | E44: =SUMIF(Произв_План!$B$4:$B$369,$B$2,Произв_План!$AP$4:$AP$369) -> 25 | F44: =SUMIF(Произв_Факт!$B$4:$B$369,$B$2,Произв_Факт!$AP$4:$AP$369) -> 18 | I44: {=SUM(IF($B$1=Произв_План!$A$4:$A$369,IF($B$2>=Произв_План!$B$4:$B$369,Произв_План!$AP$4:$AP$369,0),0))} -> 125 | J44: {=SUM(IF($B$1=Произв_Факт!$A$4:$A$369,IF($B$2>=Произв_Факт!$B$4:$B$369,Произв_Факт!$AP$4:$AP$369,0),0))} -> 24 | K44: =I44-J44 -> 101 | L44: =IF(I44<>0,(J44)/I44,"-") -> 0.192 | N44: =SUMIF(Произв_План!$A$4:$A$369,$B$1,Произв_План!$AP$4:$AP$369) -> 400 | O44: =IF(N44<>0,(J44)/N44,"-") -> 0.06
B45: Пост №17 (ОТК) | E45: =SUMIF(Произв_План!$B$4:$B$369,$B$2,Произв_План!$AQ$4:$AQ$369) -> 25 | F45: =SUMIF(Произв_Факт!$B$4:$B$369,$B$2,Произв_Факт!$AQ$4:$AQ$369) -> 18 | I45: {=SUM(IF($B$1=Произв_План!$A$4:$A$369,IF($B$2>=Произв_План!$B$4:$B$369,Произв_План!$AQ$4:$AQ$369,0),0))} -> 225 | J45: {=SUM(IF($B$1=Произв_Факт!$A$4:$A$369,IF($B$2>=Произв_Факт!$B$4:$B$369,Произв_Факт!$AQ$4:$AQ$369,0),0))} -> 175 | K45: =I45-J45 -> 50 | L45: =IF(I45<>0,(J45)/I45,"-") -> 0.77777778 | N45: =SUMIF(Произв_План!$A$4:$A$369,$B$1,Произв_План!$AQ$4:$AQ$369) -> 500 | O45: =IF(N45<>0,(J45)/N45,"-") -> 0.35
B46: Прошло моделей | C46: 1221 | D46: =SUMIF(Произв_Факт!$B$4:$B$369,$B$2-1,Произв_Факт!$CH$4:$CH$369) -> 339 | E46: =SUMIF(Произв_План!$B$4:$B$369,$B$2,Произв_План!$AR$4:$AR$369) -> 0 | F46: =SUMIF(Произв_Факт!$B$4:$B$369,$B$2,Произв_Факт!$AR$4:$AR$369) -> 0 | G46: =D46+F46-F74 -> 339 | H46: =SUMIF(Произв_Факт!$B$4:$B$369,$G$1-1,Произв_Факт!$CH$4:$CH$369) -> 188 | I46: {=SUM(IF($B$1=Произв_План!$A$4:$A$369,IF($B$2>=Произв_План!$B$4:$B$369,Произв_План!$AR$4:$AR$369,0),0))} -> 100 | J46: {=SUM(IF($B$1=Произв_Факт!$A$4:$A$369,IF($B$2>=Произв_Факт!$B$4:$B$369,Произв_Факт!$AR$4:$AR$369,0),0))} -> 151 | K46: =I46-J46 -> -51 | L46: =IF(I46<>0,(J46)/I46,"-") -> 1.51 | M46: =H46+J46-J74 -> 188 | N46: =SUMIF(Произв_План!$A$4:$A$369,$B$1,Произв_План!$AR$4:$AR$369) -> 100 | O46: =IF(N46<>0,(J46)/N46,"-") -> 1.51 | P46: =H46+N46-N74 -> 168
C47: 826 | D47: =SUMIF(Произв_Факт!$B$4:$B$369,$B$2-1,Произв_Факт!$CI$4:$CI$369) -> 6 | E47: =SUMIF(Произв_План!$B$4:$B$369,$B$2,Произв_План!$AS$4:$AS$369) -> 25 | F47: =SUMIF(Произв_Факт!$B$4:$B$369,$B$2,Произв_Факт!$AS$4:$AS$369) -> 18 | G47: =D47+F47-F78 -> 24 | H47: =SUMIF(Произв_Факт!$B$4:$B$369,$G$1-1,Произв_Факт!$CI$4:$CI$369) -> 0 | I47: {=SUM(IF($B$1=Произв_План!$A$4:$A$369,IF($B$2>=Произв_План!$B$4:$B$369,Произв_План!$AS$4:$AS$369,0),0))} -> 125 | J47: {=SUM(IF($B$1=Произв_Факт!$A$4:$A$369,IF($B$2>=Произв_Факт!$B$4:$B$369,Произв_Факт!$AS$4:$AS$369,0),0))} -> 24 | K47: =I47-J47 -> 101 | L47: =IF(I47<>0,(J47)/I47,"-") -> 0.192 | M47: =H47+J47-J78 -> 18 | N47: =SUMIF(Произв_План!$A$4:$A$369,$B$1,Произв_План!$AS$4:$AS$369) -> 400 | O47: =IF(N47<>0,(J47)/N47,"-") -> 0.06 | P47: =H47+N47-N78 -> 25
B49: Подсборка | C49: Пост1 | E49: =SUMIF(Произв_План!$B$4:$B$369,$B$2,Произв_План!$C$4:$C$369) -> 0 | F49: =SUMIF(Произв_Факт!$B$4:$B$369,$B$2,Произв_Факт!$C$4:$C$369) -> 0 | I49: {=SUM(IF($B$1=Произв_План!$A$4:$A$369,IF($B$2>=Произв_План!$B$4:$B$369,Произв_План!$C$4:$C$369,0),0))} -> 0 | J49: {=SUM(IF($B$1=Произв_Факт!$A$4:$A$369,IF($B$2>=Произв_Факт!$B$4:$B$369,Произв_Факт!$C$4:$C$369,0),0))} -> 9 | K49: =I49-J49 -> -9 | L49: =IF(I49<>0,(J49)/I49,"-") -> - | N49: =SUMIF(Произв_План!$A$4:$A$369,$B$1,Произв_План!$C$4:$C$369) -> 0 | O49: =IF(N49<>0,(J49)/N49,"-") -> -
C50: Пост2 | E50: =SUMIF(Произв_План!$B$4:$B$369,$B$2,Произв_План!$D$4:$D$369) -> 25 | F50: =SUMIF(Произв_Факт!$B$4:$B$369,$B$2,Произв_Факт!$D$4:$D$369) -> 17 | I50: {=SUM(IF($B$1=Произв_План!$A$4:$A$369,IF($B$2>=Произв_План!$B$4:$B$369,Произв_План!$D$4:$D$369,0),0))} -> 225 | J50: {=SUM(IF($B$1=Произв_Факт!$A$4:$A$369,IF($B$2>=Произв_Факт!$B$4:$B$369,Произв_Факт!$D$4:$D$369,0),0))} -> 144 | K50: =I50-J50 -> 81 | L50: =IF(I50<>0,(J50)/I50,"-") -> 0.64 | N50: =SUMIF(Произв_План!$A$4:$A$369,$B$1,Произв_План!$D$4:$D$369) -> 500 | O50: =IF(N50<>0,(J50)/N50,"-") -> 0.288
C51: Пост3 | E51: =SUMIF(Произв_План!$B$4:$B$369,$B$2,Произв_План!$E$4:$E$369) -> 0 | F51: =SUMIF(Произв_Факт!$B$4:$B$369,$B$2,Произв_Факт!$E$4:$E$369) -> 17 | I51: {=SUM(IF($B$1=Произв_План!$A$4:$A$369,IF($B$2>=Произв_План!$B$4:$B$369,Произв_План!$E$4:$E$369,0),0))} -> 100 | J51: {=SUM(IF($B$1=Произв_Факт!$A$4:$A$369,IF($B$2>=Произв_Факт!$B$4:$B$369,Произв_Факт!$E$4:$E$369,0),0))} -> 145 | K51: =I51-J51 -> -45 | L51: =IF(I51<>0,(J51)/I51,"-") -> 1.45 | N51: =SUMIF(Произв_План!$A$4:$A$369,$B$1,Произв_План!$E$4:$E$369) -> 100 | O51: =IF(N51<>0,(J51)/N51,"-") -> 1.45
C52: Пост4 | E52: =SUMIF(Произв_План!$B$4:$B$369,$B$2,Произв_План!$F$4:$F$369) -> 0 | F52: =SUMIF(Произв_Факт!$B$4:$B$369,$B$2,Произв_Факт!$F$4:$F$369) -> 17 | I52: {=SUM(IF($B$1=Произв_План!$A$4:$A$369,IF($B$2>=Произв_План!$B$4:$B$369,Произв_План!$F$4:$F$369,0),0))} -> 100 | J52: {=SUM(IF($B$1=Произв_Факт!$A$4:$A$369,IF($B$2>=Произв_Факт!$B$4:$B$369,Произв_Факт!$F$4:$F$369,0),0))} -> 146 | K52: =I52-J52 -> -46 | L52: =IF(I52<>0,(J52)/I52,"-") -> 1.46 | N52: =SUMIF(Произв_План!$A$4:$A$369,$B$1,Произв_План!$F$4:$F$369) -> 100 | O52: =IF(N52<>0,(J52)/N52,"-") -> 1.46
C53: Пост5 | E53: =SUMIF(Произв_План!$B$4:$B$369,$B$2,Произв_План!$G$4:$G$369) -> 0 | F53: =SUMIF(Произв_Факт!$B$4:$B$369,$B$2,Произв_Факт!$G$4:$G$369) -> 0 | I53: {=SUM(IF($B$1=Произв_План!$A$4:$A$369,IF($B$2>=Произв_План!$B$4:$B$369,Произв_План!$G$4:$G$369,0),0))} -> 0 | J53: {=SUM(IF($B$1=Произв_Факт!$A$4:$A$369,IF($B$2>=Произв_Факт!$B$4:$B$369,Произв_Факт!$G$4:$G$369,0),0))} -> 0 | K53: =I53-J53 -> 0 | L53: =IF(I53<>0,(J53)/I53,"-") -> - | N53: =SUMIF(Произв_План!$A$4:$A$369,$B$1,Произв_План!$G$4:$G$369) -> 0 | O53: =IF(N53<>0,(J53)/N53,"-") -> -
C54: Пост6 | E54: =SUMIF(Произв_План!$B$4:$B$369,$B$2,Произв_План!$H$4:$H$369) -> 0 | F54: =SUMIF(Произв_Факт!$B$4:$B$369,$B$2,Произв_Факт!$H$4:$H$369) -> 17 | I54: {=SUM(IF($B$1=Произв_План!$A$4:$A$369,IF($B$2>=Произв_План!$B$4:$B$369,Произв_План!$H$4:$H$369,0),0))} -> 100 | J54: {=SUM(IF($B$1=Произв_Факт!$A$4:$A$369,IF($B$2>=Произв_Факт!$B$4:$B$369,Произв_Факт!$H$4:$H$369,0),0))} -> 140 | K54: =I54-J54 -> -40 | L54: =IF(I54<>0,(J54)/I54,"-") -> 1.4 | N54: =SUMIF(Произв_План!$A$4:$A$369,$B$1,Произв_План!$H$4:$H$369) -> 100 | O54: =IF(N54<>0,(J54)/N54,"-") -> 1.4
C55: Пост7 | E55: =SUMIF(Произв_План!$B$4:$B$369,$B$2,Произв_План!$I$4:$I$369) -> 0 | F55: =SUMIF(Произв_Факт!$B$4:$B$369,$B$2,Произв_Факт!$I$4:$I$369) -> 17 | I55: {=SUM(IF($B$1=Произв_План!$A$4:$A$369,IF($B$2>=Произв_План!$B$4:$B$369,Произв_План!$I$4:$I$369,0),0))} -> 100 | J55: {=SUM(IF($B$1=Произв_Факт!$A$4:$A$369,IF($B$2>=Произв_Факт!$B$4:$B$369,Произв_Факт!$I$4:$I$369,0),0))} -> 150 | K55: =I55-J55 -> -50 | L55: =IF(I55<>0,(J55)/I55,"-") -> 1.5 | N55: =SUMIF(Произв_План!$A$4:$A$369,$B$1,Произв_План!$I$4:$I$369) -> 100 | O55: =IF(N55<>0,(J55)/N55,"-") -> 1.5
C56: Пост8 | E56: =SUMIF(Произв_План!$B$4:$B$369,$B$2,Произв_План!$J$4:$J$369) -> 0 | F56: =SUMIF(Произв_Факт!$B$4:$B$369,$B$2,Произв_Факт!$J$4:$J$369) -> 0 | I56: {=SUM(IF($B$1=Произв_План!$A$4:$A$369,IF($B$2>=Произв_План!$B$4:$B$369,Произв_План!$J$4:$J$369,0),0))} -> 0 | J56: {=SUM(IF($B$1=Произв_Факт!$A$4:$A$369,IF($B$2>=Произв_Факт!$B$4:$B$369,Произв_Факт!$J$4:$J$369,0),0))} -> 9 | K56: =I56-J56 -> -9 | L56: =IF(I56<>0,(J56)/I56,"-") -> - | N56: =SUMIF(Произв_План!$A$4:$A$369,$B$1,Произв_План!$J$4:$J$369) -> 0 | O56: =IF(N56<>0,(J56)/N56,"-") -> -
C57: Пост9 | E57: =SUMIF(Произв_План!$B$4:$B$369,$B$2,Произв_План!$K$4:$K$369) -> 0 | F57: =SUMIF(Произв_Факт!$B$4:$B$369,$B$2,Произв_Факт!$K$4:$K$369) -> 0 | I57: {=SUM(IF($B$1=Произв_План!$A$4:$A$369,IF($B$2>=Произв_План!$B$4:$B$369,Произв_План!$K$4:$K$369,0),0))} -> 0 | J57: {=SUM(IF($B$1=Произв_Факт!$A$4:$A$369,IF($B$2>=Произв_Факт!$B$4:$B$369,Произв_Факт!$K$4:$K$369,0),0))} -> 0 | K57: =I57-J57 -> 0 | L57: =IF(I57<>0,(J57)/I57,"-") -> - | N57: =SUMIF(Произв_План!$A$4:$A$369,$B$1,Произв_План!$K$4:$K$369) -> 0 | O57: =IF(N57<>0,(J57)/N57,"-") -> -
C58: Пост10 | E58: =SUMIF(Произв_План!$B$4:$B$369,$B$2,Произв_План!$L$4:$L$369) -> 0 | F58: =SUMIF(Произв_Факт!$B$4:$B$369,$B$2,Произв_Факт!$L$4:$L$369) -> 0 | I58: {=SUM(IF($B$1=Произв_План!$A$4:$A$369,IF($B$2>=Произв_План!$B$4:$B$369,Произв_План!$L$4:$L$369,0),0))} -> 0 | J58: {=SUM(IF($B$1=Произв_Факт!$A$4:$A$369,IF($B$2>=Произв_Факт!$B$4:$B$369,Произв_Факт!$L$4:$L$369,0),0))} -> 0 | K58: =I58-J58 -> 0 | L58: =IF(I58<>0,(J58)/I58,"-") -> - | N58: =SUMIF(Произв_План!$A$4:$A$369,$B$1,Произв_План!$L$4:$L$369) -> 0 | O58: =IF(N58<>0,(J58)/N58,"-") -> -
C59: Сборка кабин | E59: =SUMIF(Произв_План!$B$4:$B$369,$B$2,Произв_План!$M$4:$M$369) -> 0 | F59: =SUMIF(Произв_Факт!$B$4:$B$369,$B$2,Произв_Факт!$M$4:$M$369) -> 17 | I59: {=SUM(IF($B$1=Произв_План!$A$4:$A$369,IF($B$2>=Произв_План!$B$4:$B$369,Произв_План!$M$4:$M$369,0),0))} -> 100 | J59: {=SUM(IF($B$1=Произв_Факт!$A$4:$A$369,IF($B$2>=Произв_Факт!$B$4:$B$369,Произв_Факт!$M$4:$M$369,0),0))} -> 142 | K59: =I59-J59 -> -42 | L59: =IF(I59<>0,(J59)/I59,"-") -> 1.42 | N59: =SUMIF(Произв_План!$A$4:$A$369,$B$1,Произв_План!$M$4:$M$369) -> 100 | O59: =IF(N59<>0,(J59)/N59,"-") -> 1.42
C60: Сборка капотов | E60: =SUMIF(Произв_План!$B$4:$B$369,$B$2,Произв_План!$N$4:$N$369) -> 0 | F60: =SUMIF(Произв_Факт!$B$4:$B$369,$B$2,Произв_Факт!$N$4:$N$369) -> 17 | I60: {=SUM(IF($B$1=Произв_План!$A$4:$A$369,IF($B$2>=Произв_План!$B$4:$B$369,Произв_План!$N$4:$N$369,0),0))} -> 100 | J60: {=SUM(IF($B$1=Произв_Факт!$A$4:$A$369,IF($B$2>=Произв_Факт!$B$4:$B$369,Произв_Факт!$N$4:$N$369,0),0))} -> 142 | K60: =I60-J60 -> -42 | L60: =IF(I60<>0,(J60)/I60,"-") -> 1.42 | N60: =SUMIF(Произв_План!$A$4:$A$369,$B$1,Произв_План!$N$4:$N$369) -> 100 | O60: =IF(N60<>0,(J60)/N60,"-") -> 1.42
B62: Установка передних спаренных колес | E62: =SUMIF(Произв_План!$B$4:$B$369,$B$2,Произв_План!$BH$4:$BH$369) -> 0 | F62: =SUMIF(Произв_Факт!$B$4:$B$369,$B$2,Произв_Факт!$BH$4:$BH$369) -> 0 | I62: {=SUM(IF($B$1=Произв_План!$A$4:$A$369,IF($B$2>=Произв_План!$B$4:$B$369,Произв_План!$BH$4:$BH$369,0),0))} -> 0 | J62: {=SUM(IF($B$1=Произв_Факт!$A$4:$A$369,IF($B$2>=Произв_Факт!$B$4:$B$369,Произв_Факт!$BH$4:$BH$369,0),0))} -> 0 | K62: =I62-J62 -> 0 | L62: =IF(I62<>0,(J62)/I62,"-") -> - | N62: =SUMIF(Произв_План!$A$4:$A$369,$B$1,Произв_План!$BH$4:$BH$369) -> 0 | O62: =IF(N62<>0,(J62)/N62,"-") -> -
B63: Установка задних спаренных колес | E63: =SUMIF(Произв_План!$B$4:$B$369,$B$2,Произв_План!$BI$4:$BI$369) -> 0 | F63: =SUMIF(Произв_Факт!$B$4:$B$369,$B$2,Произв_Факт!$BI$4:$BI$369) -> 0 | I63: {=SUM(IF($B$1=Произв_План!$A$4:$A$369,IF($B$2>=Произв_План!$B$4:$B$369,Произв_План!$BI$4:$BI$369,0),0))} -> 0 | J63: {=SUM(IF($B$1=Произв_Факт!$A$4:$A$369,IF($B$2>=Произв_Факт!$B$4:$B$369,Произв_Факт!$BI$4:$BI$369,0),0))} -> 0 | K63: =I63-J63 -> 0 | L63: =IF(I63<>0,(J63)/I63,"-") -> - | N63: =SUMIF(Произв_План!$A$4:$A$369,$B$1,Произв_План!$BI$4:$BI$369) -> 0 | O63: =IF(N63<>0,(J63)/N63,"-") -> -
B64: Установка устройства облегчающего запуск | E64: =SUMIF(Произв_План!$B$4:$B$369,$B$2,Произв_План!$BJ$4:$BJ$369) -> 0 | F64: =SUMIF(Произв_Факт!$B$4:$B$369,$B$2,Произв_Факт!$BJ$4:$BJ$369) -> 0 | I64: {=SUM(IF($B$1=Произв_План!$A$4:$A$369,IF($B$2>=Произв_План!$B$4:$B$369,Произв_План!$BJ$4:$BJ$369,0),0))} -> 0 | J64: {=SUM(IF($B$1=Произв_Факт!$A$4:$A$369,IF($B$2>=Произв_Факт!$B$4:$B$369,Произв_Факт!$BJ$4:$BJ$369,0),0))} -> 0 | K64: =I64-J64 -> 0 | L64: =IF(I64<>0,(J64)/I64,"-") -> - | N64: =SUMIF(Произв_План!$A$4:$A$369,$B$1,Произв_План!$BJ$4:$BJ$369) -> 0 | O64: =IF(N64<>0,(J64)/N64,"-") -> -
B65: Установка капотных кондиционеров | E65: =SUMIF(Произв_План!$B$4:$B$369,$B$2,Произв_План!$BK$4:$BK$369) -> 0 | F65: =SUMIF(Произв_Факт!$B$4:$B$369,$B$2,Произв_Факт!$BK$4:$BK$369) -> 0 | I65: {=SUM(IF($B$1=Произв_План!$A$4:$A$369,IF($B$2>=Произв_План!$B$4:$B$369,Произв_План!$BK$4:$BK$369,0),0))} -> 25 | J65: {=SUM(IF($B$1=Произв_Факт!$A$4:$A$369,IF($B$2>=Произв_Факт!$B$4:$B$369,Произв_Факт!$BK$4:$BK$369,0),0))} -> 42 | K65: =I65-J65 -> -17 | L65: =IF(I65<>0,(J65)/I65,"-") -> 1.68 | N65: =SUMIF(Произв_План!$A$4:$A$369,$B$1,Произв_План!$BK$4:$BK$369) -> 25 | O65: =IF(N65<>0,(J65)/N65,"-") -> 1.68
B66: Установка накрышных кондиционеров | E66: =SUMIF(Произв_План!$B$4:$B$369,$B$2,Произв_План!$BL$4:$BL$369) -> 0 | F66: =SUMIF(Произв_Факт!$B$4:$B$369,$B$2,Произв_Факт!$BL$4:$BL$369) -> 0 | I66: {=SUM(IF($B$1=Произв_План!$A$4:$A$369,IF($B$2>=Произв_План!$B$4:$B$369,Произв_План!$BL$4:$BL$369,0),0))} -> 25 | J66: {=SUM(IF($B$1=Произв_Факт!$A$4:$A$369,IF($B$2>=Произв_Факт!$B$4:$B$369,Произв_Факт!$BL$4:$BL$369,0),0))} -> 7 | K66: =I66-J66 -> 18 | L66: =IF(I66<>0,(J66)/I66,"-") -> 0.28 | N66: =SUMIF(Произв_План!$A$4:$A$369,$B$1,Произв_План!$BL$4:$BL$369) -> 25 | O66: =IF(N66<>0,(J66)/N66,"-") -> 0.28
B67: Сборка колес | E67: =SUMIF(Произв_План!$B$4:$B$369,$B$2,Произв_План!$BM$4:$BM$369) -> 0 | F67: =SUMIF(Произв_Факт!$B$4:$B$369,$B$2,Произв_Факт!$BM$4:$BM$369) -> 0 | I67: {=SUM(IF($B$1=Произв_План!$A$4:$A$369,IF($B$2>=Произв_План!$B$4:$B$369,Произв_План!$BM$4:$BM$369,0),0))} -> 0 | J67: {=SUM(IF($B$1=Произв_Факт!$A$4:$A$369,IF($B$2>=Произв_Факт!$B$4:$B$369,Произв_Факт!$BM$4:$BM$369,0),0))} -> 0 | K67: =I67-J67 -> 0 | L67: =IF(I67<>0,(J67)/I67,"-") -> - | N67: =SUMIF(Произв_План!$A$4:$A$369,$B$1,Произв_План!$BM$4:$BM$369) -> 0 | O67: =IF(N67<>0,(J67)/N67,"-") -> -
B68: Ремонт колес | E68: =SUMIF(Произв_План!$B$4:$B$369,$B$2,Произв_План!$BN$4:$BN$369) -> 0 | F68: =SUMIF(Произв_Факт!$B$4:$B$369,$B$2,Произв_Факт!$BN$4:$BN$369) -> 0 | I68: {=SUM(IF($B$1=Произв_План!$A$4:$A$369,IF($B$2>=Произв_План!$B$4:$B$369,Произв_План!$BN$4:$BN$369,0),0))} -> 0 | J68: {=SUM(IF($B$1=Произв_Факт!$A$4:$A$369,IF($B$2>=Произв_Факт!$B$4:$B$369,Произв_Факт!$BN$4:$BN$369,0),0))} -> 0 | K68: =I68-J68 -> 0 | L68: =IF(I68<>0,(J68)/I68,"-") -> - | N68: =SUMIF(Произв_План!$A$4:$A$369,$B$1,Произв_План!$BN$4:$BN$369) -> 0 | O68: =IF(N68<>0,(J68)/N68,"-") -> -
B70: Ремонт тракторов
B72: Сдача 1221 | C72: трактор | D72: =SUMIF(Произв_Факт!$B$4:$B$369,$B$2-1,Произв_Факт!$CA$4:$CA$369) -> 808 | E72: =SUMIF(Произв_План!$B$4:$B$369,$B$2,Произв_План!$BO$4:$BO$369) -> 0 | F72: =SUMIF(Произв_Факт!$B$4:$B$369,$B$2,Произв_Факт!$BO$4:$BO$369) -> 0 | G72: =D72+F72-F81 -> 808 | H72: =SUMIF(Произв_Факт!$B$4:$B$369,$G$1-1,Произв_Факт!$CA$4:$CA$369) -> 673 | I72: {=SUM(IF($B$1=Произв_План!$A$4:$A$369,IF($B$2>=Произв_План!$B$4:$B$369,Произв_План!$BO$4:$BO$369,0),0))} -> 120 | J72: {=SUM(IF($B$1=Произв_Факт!$A$4:$A$369,IF($B$2>=Произв_Факт!$B$4:$B$369,Произв_Факт!$BO$4:$BO$369,0),0))} -> 151 | K72: =I72-J72 -> -31 | L72: =IF(I72<>0,(J72)/I72,"-") -> 1.2583333 | M72: =H72+J72-J81 -> 808 | N72: =SUMIF(Произв_План!$A$4:$A$369,$B$1,Произв_План!$BO$4:$BO$369) -> 120 | O72: =IF(N72<>0,(J72)/N72,"-") -> 1.2583333 | P72: =H72+N72-N81 -> 793
C73: погрузчик | D73: =SUMIF(Произв_Факт!$B$4:$B$369,$B$2-1,Произв_Факт!$CB$4:$CB$369) -> 6 | E73: =SUMIF(Произв_План!$B$4:$B$369,$B$2,Произв_План!$BQ$4:$BQ$369) -> 0 | F73: =SUMIF(Произв_Факт!$B$4:$B$369,$B$2,Произв_Факт!$BQ$4:$BQ$369) -> 0 | G73: =D73+F73-F82 -> 6 | H73: =SUMIF(Произв_Факт!$B$4:$B$369,$G$1-1,Произв_Факт!$CB$4:$CB$369) -> 0 | I73: {=SUM(IF($B$1=Произв_План!$A$4:$A$369,IF($B$2>=Произв_План!$B$4:$B$369,Произв_План!$BQ$4:$BQ$369,0),0))} -> 0 | J73: {=SUM(IF($B$1=Произв_Факт!$A$4:$A$369,IF($B$2>=Произв_Факт!$B$4:$B$369,Произв_Факт!$BQ$4:$BQ$369,0),0))} -> 0 | K73: =I73-J73 -> 0 | L73: =IF(I73<>0,(J73)/I73,"-") -> - | M73: =H73+J73-J82 -> 0 | N73: =SUMIF(Произв_План!$A$4:$A$369,$B$1,Произв_План!$BQ$4:$BQ$369) -> 0 | O73: =IF(N73<>0,(J73)/N73,"-") -> - | P73: =H73+N73-N82 -> 0
B74: Итого 1221 | D74: =SUM(D72:D73) -> 814 | E74: =SUM(E72:E73) -> 0 | F74: =SUM(F72:F73) -> 0 | G74: =SUM(G72:G73) -> 814 | H74: =SUM(H72:H73) -> 673 | I74: =SUM(I72:I73) -> 120 | J74: =SUM(J72:J73) -> 151 | K74: =SUM(K72:K73) -> -31 | L74: =IF(I74<>0,(J74)/I74,"-") -> 1.2583333 | M74: =H74+J74-J83 -> 808 | N74: =SUM(N72:N73) -> 120 | O74: =IF(N74<>0,(J74)/N74,"-") -> 1.2583333 | P74: =H74+N74-N83 -> 793
B75: Сдача 826 | C75: трактор | D75: =SUMIF(Произв_Факт!$B$4:$B$369,$B$2-1,Произв_Факт!$CC$4:$CC$369) -> 0 | E75: =SUMIF(Произв_План!$B$4:$B$369,$B$2,Произв_План!$BP$4:$BP$369) -> 25 | F75: =SUMIF(Произв_Факт!$B$4:$B$369,$B$2,Произв_Факт!$BP$4:$BP$369) -> 0 | G75: =D75+F75-F84 -> 0 | H75: =SUMIF(Произв_Факт!$B$4:$B$369,$G$1-1,Произв_Факт!$CC$4:$CC$369) -> 0 | I75: {=SUM(IF($B$1=Произв_План!$A$4:$A$369,IF($B$2>=Произв_План!$B$4:$B$369,Произв_План!$BP$4:$BP$369,0),0))} -> 100 | J75: {=SUM(IF($B$1=Произв_Факт!$A$4:$A$369,IF($B$2>=Произв_Факт!$B$4:$B$369,Произв_Факт!$BP$4:$BP$369,0),0))} -> 6 | K75: =I75-J75 -> 94 | L75: =IF(I75<>0,(J75)/I75,"-") -> 0.06 | M75: =H75+J75-J84 -> 6 | N75: =SUMIF(Произв_План!$A$4:$A$369,$B$1,Произв_План!$BP$4:$BP$369) -> 375 | O75: =IF(N75<>0,(J75)/N75,"-") -> 0.016 | P75: =H75+N75-N84 -> 375
C76: погрузчик | D76: =SUMIF(Произв_Факт!$B$4:$B$369,$B$2-1,Произв_Факт!$CD$4:$CD$369) -> 0 | E76: =SUMIF(Произв_План!$B$4:$B$369,$B$2,Произв_План!$BR$4:$BR$369) -> 0 | F76: =SUMIF(Произв_Факт!$B$4:$B$369,$B$2,Произв_Факт!$BR$4:$BR$369) -> 0 | G76: =D76+F76-F85 -> 0 | H76: =SUMIF(Произв_Факт!$B$4:$B$369,$G$1-1,Произв_Факт!$CD$4:$CD$369) -> 0 | I76: {=SUM(IF($B$1=Произв_План!$A$4:$A$369,IF($B$2>=Произв_План!$B$4:$B$369,Произв_План!$BR$4:$BR$369,0),0))} -> 0 | J76: {=SUM(IF($B$1=Произв_Факт!$A$4:$A$369,IF($B$2>=Произв_Факт!$B$4:$B$369,Произв_Факт!$BR$4:$BR$369,0),0))} -> 0 | K76: =I76-J76 -> 0 | L76: =IF(I76<>0,(J76)/I76,"-") -> - | M76: =H76+J76-J85 -> 0 | N76: =SUMIF(Произв_План!$A$4:$A$369,$B$1,Произв_План!$BR$4:$BR$369) -> 0 | O76: =IF(N76<>0,(J76)/N76,"-") -> - | P76: =H76+N76-N85 -> 0
C77: экскаватор | D77: =SUMIF(Произв_Факт!$B$4:$B$369,$B$2-1,Произв_Факт!$CE$4:$CE$369) -> 0 | E77: =SUMIF(Произв_План!$B$4:$B$369,$B$2,Произв_План!$BS$4:$BS$369) -> 0 | F77: =SUMIF(Произв_Факт!$B$4:$B$369,$B$2,Произв_Факт!$BS$4:$BS$369) -> 0 | G77: =D77+F77-F86 -> 0 | H77: =SUMIF(Произв_Факт!$B$4:$B$369,$G$1-1,Произв_Факт!$CE$4:$CE$369) -> 0 | I77: {=SUM(IF($B$1=Произв_План!$A$4:$A$369,IF($B$2>=Произв_План!$B$4:$B$369,Произв_План!$BS$4:$BS$369,0),0))} -> 0 | J77: {=SUM(IF($B$1=Произв_Факт!$A$4:$A$369,IF($B$2>=Произв_Факт!$B$4:$B$369,Произв_Факт!$BS$4:$BS$369,0),0))} -> 0 | K77: =I77-J77 -> 0 | L77: =IF(I77<>0,(J77)/I77,"-") -> - | M77: =H77+J77-J86 -> 0 | N77: =SUMIF(Произв_План!$A$4:$A$369,$B$1,Произв_План!$BS$4:$BS$369) -> 0 | O77: =IF(N77<>0,(J77)/N77,"-") -> - | P77: =H77+N77-N86 -> 0
B78: Итого 826 | D78: =SUM(D75:D77) -> 0 | E78: =SUM(E75:E77) -> 25 | F78: =SUM(F75:F77) -> 0 | G78: =SUM(G75:G77) -> 0 | H78: =SUM(H75:H77) -> 0 | I78: =SUM(I75:I77) -> 100 | J78: =SUM(J75:J77) -> 6 | K78: =SUM(K75:K77) -> 94 | L78: =IF(I78<>0,(J78)/I78,"-") -> 0.06 | M78: =H78+J78-J87 -> 6 | N78: =SUM(N75:N77) -> 375 | O78: =IF(N78<>0,(J78)/N78,"-") -> 0.016 | P78: =H78+N78-N87 -> 375
B79: Всего | D79: =D74+D78 -> 814 | E79: =E74+E78 -> 25 | F79: =F74+F78 -> 0 | G79: =G74+G78 -> 814 | H79: =H74+H78 -> 673 | I79: =I74+I78 -> 220 | J79: =J74+J78 -> 157 | K79: =K74+K78 -> 63 | L79: =IF(I79<>0,(J79)/I79,"-") -> 0.71363636 | M79: =H79+J79-J88 -> 814 | N79: =N74+N78 -> 495 | O79: =IF(N79<>0,(J79)/N79,"-") -> 0.31717172 | P79: =H79+N79-N88 -> 1168
B81: Отгружено 1221 | C81: трактор | E81: =SUMIF(Произв_План!$B$4:$B$369,$B$2,Произв_План!$BT$4:$BT$369) -> 0 | F81: =SUMIF(Произв_Факт!$B$4:$B$369,$B$2,Произв_Факт!$BT$4:$BT$369) -> 0 | I81: {=SUM(IF($B$1=Произв_План!$A$4:$A$369,IF($B$2>=Произв_План!$B$4:$B$369,Произв_План!$BT$4:$BT$369,0),0))} -> 0 | J81: {=SUM(IF($B$1=Произв_Факт!$A$4:$A$369,IF($B$2>=Произв_Факт!$B$4:$B$369,Произв_Факт!$BT$4:$BT$369,0),0))} -> 16 | K81: =I81-J81 -> -16 | L81: =IF(I81<>0,(J81)/I81,"-") -> - | N81: =SUMIF(Произв_План!$A$4:$A$369,$B$1,Произв_План!$BT$4:$BT$369) -> 0 | O81: =IF(N81<>0,(J81)/N81,"-") -> -
C82: погрузчик | E82: =SUMIF(Произв_План!$B$4:$B$369,$B$2,Произв_План!$BV$4:$BV$369) -> 0 | F82: =SUMIF(Произв_Факт!$B$4:$B$369,$B$2,Произв_Факт!$BV$4:$BV$369) -> 0 | I82: {=SUM(IF($B$1=Произв_План!$A$4:$A$369,IF($B$2>=Произв_План!$B$4:$B$369,Произв_План!$BV$4:$BV$369,0),0))} -> 0 | J82: {=SUM(IF($B$1=Произв_Факт!$A$4:$A$369,IF($B$2>=Произв_Факт!$B$4:$B$369,Произв_Факт!$BV$4:$BV$369,0),0))} -> 0 | K82: =I82-J82 -> 0 | L82: =IF(I82<>0,(J82)/I82,"-") -> - | N82: =SUMIF(Произв_План!$A$4:$A$369,$B$1,Произв_План!$BV$4:$BV$369) -> 0 | O82: =IF(N82<>0,(J82)/N82,"-") -> -
B83: Итого 1221 | E83: =SUM(E81:E82) -> 0 | F83: =SUM(F81:F82) -> 0 | I83: =SUM(I81:I82) -> 0 | J83: =SUM(J81:J82) -> 16 | K83: =SUM(K81:K82) -> -16 | L83: =IF(I83<>0,(J83)/I83,"-") -> - | N83: =SUM(N81:N82) -> 0 | O83: =IF(N83<>0,(J83)/N83,"-") -> -
B84: Отгружено 826 | C84: трактор | E84: =SUMIF(Произв_План!$B$4:$B$369,$B$2,Произв_План!$BU$4:$BU$369) -> 0 | F84: =SUMIF(Произв_Факт!$B$4:$B$369,$B$2,Произв_Факт!$BU$4:$BU$369) -> 0 | I84: {=SUM(IF($B$1=Произв_План!$A$4:$A$369,IF($B$2>=Произв_План!$B$4:$B$369,Произв_План!$BU$4:$BU$369,0),0))} -> 0 | J84: {=SUM(IF($B$1=Произв_Факт!$A$4:$A$369,IF($B$2>=Произв_Факт!$B$4:$B$369,Произв_Факт!$BU$4:$BU$369,0),0))} -> 0 | K84: =I84-J84 -> 0 | L84: =IF(I84<>0,(J84)/I84,"-") -> - | N84: =SUMIF(Произв_План!$A$4:$A$369,$B$1,Произв_План!$BU$4:$BU$369) -> 0 | O84: =IF(N84<>0,(J84)/N84,"-") -> -
C85: погрузчик | E85: =SUMIF(Произв_План!$B$4:$B$369,$B$2,Произв_План!$BW$4:$BW$369) -> 0 | F85: =SUMIF(Произв_Факт!$B$4:$B$369,$B$2,Произв_Факт!$BW$4:$BW$369) -> 0 | I85: {=SUM(IF($B$1=Произв_План!$A$4:$A$369,IF($B$2>=Произв_План!$B$4:$B$369,Произв_План!$BW$4:$BW$369,0),0))} -> 0 | J85: {=SUM(IF($B$1=Произв_Факт!$A$4:$A$369,IF($B$2>=Произв_Факт!$B$4:$B$369,Произв_Факт!$BW$4:$BW$369,0),0))} -> 0 | K85: =I85-J85 -> 0 | L85: =IF(I85<>0,(J85)/I85,"-") -> - | N85: =SUMIF(Произв_План!$A$4:$A$369,$B$1,Произв_План!$BW$4:$BW$369) -> 0 | O85: =IF(N85<>0,(J85)/N85,"-") -> -
C86: экскаватор | E86: =SUMIF(Произв_План!$B$4:$B$369,$B$2,Произв_План!$BX$4:$BX$369) -> 0 | F86: =SUMIF(Произв_Факт!$B$4:$B$369,$B$2,Произв_Факт!$BX$4:$BX$369) -> 0 | I86: {=SUM(IF($B$1=Произв_План!$A$4:$A$369,IF($B$2>=Произв_План!$B$4:$B$369,Произв_План!$BX$4:$BX$369,0),0))} -> 0 | J86: {=SUM(IF($B$1=Произв_Факт!$A$4:$A$369,IF($B$2>=Произв_Факт!$B$4:$B$369,Произв_Факт!$BX$4:$BX$369,0),0))} -> 0 | K86: =I86-J86 -> 0 | L86: =IF(I86<>0,(J86)/I86,"-") -> - | N86: =SUMIF(Произв_План!$A$4:$A$369,$B$1,Произв_План!$BX$4:$BX$369) -> 0 | O86: =IF(N86<>0,(J86)/N86,"-") -> -
B87: Итого 826 | E87: =SUM(E84:E86) -> 0 | F87: =SUM(F84:F86) -> 0 | I87: =SUM(I84:I86) -> 0 | J87: =SUM(J84:J86) -> 0 | K87: =SUM(K84:K86) -> 0 | L87: =IF(I87<>0,(J87)/I87,"-") -> - | N87: =SUM(N84:N86) -> 0 | O87: =IF(N87<>0,(J87)/N87,"-") -> -
B88: Всего | E88: =E87+E83 -> 0 | F88: =F87+F83 -> 0 | I88: =I87+I83 -> 0 | J88: =J87+J83 -> 16 | K88: =K87+K83 -> -16 | L88: =IF(I88<>0,(J88)/I88,"-") -> - | N88: =N87+N83 -> 0 | O88: =IF(N88<>0,(J88)/N88,"-") -> -

Sheet Отчет на дату
B1: =MONTH(B2)&RIGHT(YEAR(B2),2) -> 309 | C1: 1 | D1: =MONTH(B2) -> 3 | E1: =YEAR(B2) -> 2009 | F1: =C1&"."&D1&"."&E1 -> 1.3.2009 | G1: =DATEVALUE(F1) -> 39873
A2: Дата | B2: =Календарь!B3 -> 39888
D4: День | H4: На текущую дату | N4: План месяца | O4: Выполнение | P4: Ожидаемый остаток
D5: Вх. остаток | E5: План | F5: Факт | G5: Исх.остаток | H5: Вх. остаток | I5: План | J5: Факт | K5: Отклонение | L5: Выполнение | M5: Исх.остаток
B7: Тракторокомплекты | C7: 1221 | D7: =SUMIF(Остатки_производство!$C$6:$C$371,$B$2-1,Остатки_производство!$G$6:$G$371) -> 213 | E7: =SUMIF(Остатки_производство!$C$6:$C$371,$B$2,Остатки_производство!D$6:D$371) -> 0 | F7: =SUMIF(Остатки_производство!$C$6:$C$371,$B$2,Остатки_производство!E$6:E$371) -> 0 | G7: =D7+F7-F12 -> 213 | H7: =SUMIF(Остатки_производство!$C$6:$C$371,$G$1-1,Остатки_производство!$G$6:$G$371) -> 281 | I7: {=SUM(IF($B$1=Остатки_производство!$B$6:$B$371,IF($B$2>=Остатки_производство!$C$6:$C$371,Остатки_производство!D$6:D$371,0),0))} -> 0 | J7: {=SUM(IF($B$1=Остатки_производство!$B$6:$B$371,IF($B$2>=Остатки_производство!$C$6:$C$371,Остатки_производство!E$6:E$371,0),0))} -> 30 | K7: =I7-J7 -> -30 | L7: =IF(I7<>0,(J7)/I7,"-") -> - | M7: =H7+J7-J19 -> 160 | N7: =SUMIF(Остатки_производство!$B$6:$B$371,$B$1,Остатки_производство!$D$6:$D$371) -> 150 | O7: =IF(N7<>0,(J7)/N7,"-") -> 0.2 | P7: =H7+N7-N19 -> 331
C8: 826 | D8: =SUMIF(Остатки_производство!$C$6:$C$371,$B$2-1,Остатки_производство!$K$6:$K$371) -> 215 | E8: =SUMIF(Остатки_производство!$C$6:$C$371,$B$2,Остатки_производство!H6:H371) -> 25 | F8: =SUMIF(Остатки_производство!$C$6:$C$371,$B$2,Остатки_производство!I6:I371) -> 0 | G8: =D8+F8-F16 -> 198 | H8: {=SUMIF(Остатки_производство!$C$6:$C$371,$G$1-1,Остатки_производство!$K$6:$K$371)} -> 200 | I8: {=SUM(IF($B$1=Остатки_производство!$B$6:$B$371,IF($B$2>=Остатки_производство!$C$6:$C$371,Остатки_производство!H$6:H$371,0),0))} -> 125 | J8: {=SUM(IF($B$1=Остатки_производство!$B$6:$B$371,IF($B$2>=Остатки_производство!$C$6:$C$371,Остатки_производство!I$6:I$371,0),0))} -> 50 | K8: =I8-J8 -> 75 | L8: =IF(I8<>0,(J8)/I8,"-") -> 0.4 | M8: =H8+J8-J20 -> 226 | N8: =SUMIF(Остатки_производство!$B$6:$B$371,$B$1,Остатки_производство!$H$6:$H$371) -> 300 | O8: =IF(N8<>0,(J8)/N8,"-") -> 0.16666667 | P8: =H8+N8-N20 -> 100
B9: Всего тракторокомплектов | D9: =SUM(D7:D8) -> 428 | E9: =SUM(E7:E8) -> 25 | F9: =SUM(F7:F8) -> 0 | G9: =SUM(G7:G8) -> 411 | H9: =SUM(H7:H8) -> 481 | I9: =SUM(I7:I8) -> 125 | J9: =SUM(J7:J8) -> 80 | K9: =SUM(K7:K8) -> 45 | L9: =IF(I9<>0,(J9)/I9,"-") -> 0.64 | M9: =SUM(M7:M8) -> 386 | N9: =SUM(N7:N8) -> 450 | O9: =IF(N9<>0,(J9)/N9,"-") -> 0.17777778 | P9: =SUM(P7:P8) -> 431
A10: сборка | B10: Производство 1221 | C10: трактор | E10: =SUMIF(Произв_План!$B$4:$B$369,$B$2,Произв_План!$AX$4:$AX$369) -> 0 | F10: =SUMIF(Произв_Факт!$B$4:$B$369,$B$2,Произв_Факт!$AX$4:$AX$369) -> 0 | I10: {=SUM(IF($B$1=Произв_План!$A$4:$A$369,IF($B$2>=Произв_План!$B$4:$B$369,Произв_План!$AX$4:$AX$369,0),0))} -> 100 | J10: {=SUM(IF($B$1=Произв_Факт!$A$4:$A$369,IF($B$2>=Произв_Факт!$B$4:$B$369,Произв_Факт!$AX$4:$AX$369,0),0))} -> 98 | K10: =I10-J10 -> 2 | L10: =IF(I10<>0,(J10)/I10,"-") -> 0.98 | N10: =SUMIF(Произв_План!$A$4:$A$369,$B$1,Произв_План!$AX$4:$AX$369) -> 100 | O10: =IF(N10<>0,(J10)/N10,"-") -> 0.98
C11: погрузчик | E11: =SUMIF(Произв_План!$B$4:$B$369,$B$2,Произв_План!$AY$4:$AY$369) -> 0 | F11: =SUMIF(Произв_Факт!$B$4:$B$369,$B$2,Произв_Факт!$AY$4:$AY$369) -> 0 | I11: {=SUM(IF($B$1=Произв_План!$A$4:$A$369,IF($B$2>=Произв_План!$B$4:$B$369,Произв_План!$AY$4:$AY$369,0),0))} -> 0 | J11: {=SUM(IF($B$1=Произв_Факт!$A$4:$A$369,IF($B$2>=Произв_Факт!$B$4:$B$369,Произв_Факт!$AY$4:$AY$369,0),0))} -> 0 | K11: =I11-J11 -> 0 | L11: =IF(I11<>0,(J11)/I11,"-") -> - | N11: =SUMIF(Произв_План!$A$4:$A$369,$B$1,Произв_План!$AY$4:$AY$369) -> 0 | O11: =IF(N11<>0,(J11)/N11,"-") -> -
B12: Итого 1221 | E12: =SUM(E10:E11) -> 0 | F12: =SUM(F10:F11) -> 0 | I12: =SUM(I10:I11) -> 100 | J12: =SUM(J10:J11) -> 98 | K12: =SUM(K10:K11) -> 2 | L12: =IF(I12<>0,(J12)/I12,"-") -> 0.98 | N12: =SUM(N10:N11) -> 100 | O12: =IF(N12<>0,(J12)/N12,"-") -> 0.98
B13: Производство 826 | C13: трактор | E13: =SUMIF(Произв_План!$B$4:$B$369,$B$2,Произв_План!$AZ$4:$AZ$369) -> 25 | F13: =SUMIF(Произв_Факт!$B$4:$B$369,$B$2,Произв_Факт!$AZ$4:$AZ$369) -> 17 | I13: {=SUM(IF($B$1=Произв_План!$A$4:$A$369,IF($B$2>=Произв_План!$B$4:$B$369,Произв_План!$AZ$4:$AZ$369,0),0))} -> 125 | J13: {=SUM(IF($B$1=Произв_Факт!$A$4:$A$369,IF($B$2>=Произв_Факт!$B$4:$B$369,Произв_Факт!$AZ$4:$AZ$369,0),0))} -> 52 | K13: =I13-J13 -> 73 | L13: =IF(I13<>0,(J13)/I13,"-") -> 0.416 | N13: =SUMIF(Произв_План!$A$4:$A$369,$B$1,Произв_План!$AZ$4:$AZ$369) -> 400 | O13: =IF(N13<>0,(J13)/N13,"-") -> 0.13
C14: погрузчик | E14: =SUMIF(Произв_План!$B$4:$B$369,$B$2,Произв_План!$BA$4:$BA$369) -> 0 | F14: =SUMIF(Произв_Факт!$B$4:$B$369,$B$2,Произв_Факт!$BA$4:$BA$369) -> 0 | I14: {=SUM(IF($B$1=Произв_План!$A$4:$A$369,IF($B$2>=Произв_План!$B$4:$B$369,Произв_План!$BA$4:$BA$369,0),0))} -> 0 | J14: {=SUM(IF($B$1=Произв_Факт!$A$4:$A$369,IF($B$2>=Произв_Факт!$B$4:$B$369,Произв_Факт!$BA$4:$BA$369,0),0))} -> 0 | K14: =I14-J14 -> 0 | L14: =IF(I14<>0,(J14)/I14,"-") -> - | N14: =SUMIF(Произв_План!$A$4:$A$369,$B$1,Произв_План!$BA$4:$BA$369) -> 0 | O14: =IF(N14<>0,(J14)/N14,"-") -> -
C15: экскаватор | E15: =SUMIF(Произв_План!$B$4:$B$369,$B$2,Произв_План!$BB$4:$BB$369) -> 0 | F15: =SUMIF(Произв_Факт!$B$4:$B$369,$B$2,Произв_Факт!$BB$4:$BB$369) -> 0 | I15: {=SUM(IF($B$1=Произв_План!$A$4:$A$369,IF($B$2>=Произв_План!$B$4:$B$369,Произв_План!$BB$4:$BB$369,0),0))} -> 0 | J15: {=SUM(IF($B$1=Произв_Факт!$A$4:$A$369,IF($B$2>=Произв_Факт!$B$4:$B$369,Произв_Факт!$BB$4:$BB$369,0),0))} -> 0 | K15: =I15-J15 -> 0 | L15: =IF(I15<>0,(J15)/I15,"-") -> - | N15: =SUMIF(Произв_План!$A$4:$A$369,$B$1,Произв_План!$BB$4:$BB$369) -> 0 | O15: =IF(N15<>0,(J15)/N15,"-") -> -
B16: Итого 826 | E16: =SUM(E13:E15) -> 25 | F16: =SUM(F13:F15) -> 17 | I16: =SUM(I13:I15) -> 125 | J16: =SUM(J13:J15) -> 52 | K16: =SUM(K13:K15) -> 73 | L16: =IF(I16<>0,(J16)/I16,"-") -> 0.416 | N16: =SUM(N13:N15) -> 400 | O16: =IF(N16<>0,(J16)/N16,"-") -> 0.13
B17: Всего | E17: =E12+E16 -> 25 | F17: =F12+F16 -> 17 | I17: =I12+I16 -> 225 | J17: =J12+J16 -> 150 | K17: =K12+K16 -> 75 | L17: =IF(I17<>0,(J17)/I17,"-") -> 0.66666667 | O17: =IF(N17<>0,(J17)/N17,"-") -> -
A19: сдача | B19: Прошло моделей | C19: 1221 | D19: =SUMIF(Произв_Факт!$B$4:$B$369,$B$2-1,Произв_Факт!$CH$4:$CH$369) -> 339 | E19: =SUMIF(Произв_План!$B$4:$B$369,$B$2,Произв_План!$AR$4:$AR$369) -> 0 | F19: =SUMIF(Произв_Факт!$B$4:$B$369,$B$2,Произв_Факт!$AR$4:$AR$369) -> 0 | G19: =D19+F19-F34 -> 339 | H19: =SUMIF(Произв_Факт!$B$4:$B$369,$G$1-1,Произв_Факт!$CH$4:$CH$369) -> 188 | I19: {=SUM(IF($B$1=Произв_План!$A$4:$A$369,IF($B$2>=Произв_План!$B$4:$B$369,Произв_План!$AR$4:$AR$369,0),0))} -> 100 | J19: {=SUM(IF($B$1=Произв_Факт!$A$4:$A$369,IF($B$2>=Произв_Факт!$B$4:$B$369,Произв_Факт!$AR$4:$AR$369,0),0))} -> 151 | K19: =I19-J19 -> -51 | L19: =IF(I19<>0,(J19)/I19,"-") -> 1.51 | M19: =H19+J19-J34 -> 188 | N19: =SUMIF(Произв_План!$A$4:$A$369,$B$1,Произв_План!$AR$4:$AR$369) -> 100 | O19: =IF(N19<>0,(J19)/N19,"-") -> 1.51 | P19: =H19+N19-N34 -> 168
C20: 826 | D20: =SUMIF(Произв_Факт!$B$4:$B$369,$B$2-1,Произв_Факт!$CI$4:$CI$369) -> 6 | E20: =SUMIF(Произв_План!$B$4:$B$369,$B$2,Произв_План!$AS$4:$AS$369) -> 25 | F20: =SUMIF(Произв_Факт!$B$4:$B$369,$B$2,Произв_Факт!$AS$4:$AS$369) -> 18 | G20: =D20+F20-F38 -> 24 | H20: =SUMIF(Произв_Факт!$B$4:$B$369,$G$1-1,Произв_Факт!$CI$4:$CI$369) -> 0 | I20: {=SUM(IF($B$1=Произв_План!$A$4:$A$369,IF($B$2>=Произв_План!$B$4:$B$369,Произв_План!$AS$4:$AS$369,0),0))} -> 125 | J20: {=SUM(IF($B$1=Произв_Факт!$A$4:$A$369,IF($B$2>=Произв_Факт!$B$4:$B$369,Произв_Факт!$AS$4:$AS$369,0),0))} -> 24 | K20: =I20-J20 -> 101 | L20: =IF(I20<>0,(J20)/I20,"-") -> 0.192 | M20: =H20+J20-J38 -> 18 | N20: =SUMIF(Произв_План!$A$4:$A$369,$B$1,Произв_План!$AS$4:$AS$369) -> 400 | O20: =IF(N20<>0,(J20)/N20,"-") -> 0.06 | P20: =H20+N20-N38 -> 25
A22: дополнительное оборудование | B22: Установка передних спаренных колес | E22: =SUMIF(Произв_План!$B$4:$B$369,$B$2,Произв_План!$BH$4:$BH$369) -> 0 | F22: =SUMIF(Произв_Факт!$B$4:$B$369,$B$2,Произв_Факт!$BH$4:$BH$369) -> 0 | I22: {=SUM(IF($B$1=Произв_План!$A$4:$A$369,IF($B$2>=Произв_План!$B$4:$B$369,Произв_План!$BH$4:$BH$369,0),0))} -> 0 | J22: {=SUM(IF($B$1=Произв_Факт!$A$4:$A$369,IF($B$2>=Произв_Факт!$B$4:$B$369,Произв_Факт!$BH$4:$BH$369,0),0))} -> 0 | K22: =I22-J22 -> 0 | L22: =IF(I22<>0,(J22)/I22,"-") -> - | N22: =SUMIF(Произв_План!$A$4:$A$369,$B$1,Произв_План!$BH$4:$BH$369) -> 0 | O22: =IF(N22<>0,(J22)/N22,"-") -> -
B23: Установка задних спаренных колес | E23: =SUMIF(Произв_План!$B$4:$B$369,$B$2,Произв_План!$BI$4:$BI$369) -> 0 | F23: =SUMIF(Произв_Факт!$B$4:$B$369,$B$2,Произв_Факт!$BI$4:$BI$369) -> 0 | I23: {=SUM(IF($B$1=Произв_План!$A$4:$A$369,IF($B$2>=Произв_План!$B$4:$B$369,Произв_План!$BI$4:$BI$369,0),0))} -> 0 | J23: {=SUM(IF($B$1=Произв_Факт!$A$4:$A$369,IF($B$2>=Произв_Факт!$B$4:$B$369,Произв_Факт!$BI$4:$BI$369,0),0))} -> 0 | K23: =I23-J23 -> 0 | L23: =IF(I23<>0,(J23)/I23,"-") -> - | N23: =SUMIF(Произв_План!$A$4:$A$369,$B$1,Произв_План!$BI$4:$BI$369) -> 0 | O23: =IF(N23<>0,(J23)/N23,"-") -> -
B24: Установка устройства облегчающего запуск | E24: =SUMIF(Произв_План!$B$4:$B$369,$B$2,Произв_План!$BJ$4:$BJ$369) -> 0 | F24: =SUMIF(Произв_Факт!$B$4:$B$369,$B$2,Произв_Факт!$BJ$4:$BJ$369) -> 0 | I24: {=SUM(IF($B$1=Произв_План!$A$4:$A$369,IF($B$2>=Произв_План!$B$4:$B$369,Произв_План!$BJ$4:$BJ$369,0),0))} -> 0 | J24: {=SUM(IF($B$1=Произв_Факт!$A$4:$A$369,IF($B$2>=Произв_Факт!$B$4:$B$369,Произв_Факт!$BJ$4:$BJ$369,0),0))} -> 0 | K24: =I24-J24 -> 0 | L24: =IF(I24<>0,(J24)/I24,"-") -> - | N24: =SUMIF(Произв_План!$A$4:$A$369,$B$1,Произв_План!$BJ$4:$BJ$369) -> 0 | O24: =IF(N24<>0,(J24)/N24,"-") -> -
B25: Установка капотных кондиционеров | E25: =SUMIF(Произв_План!$B$4:$B$369,$B$2,Произв_План!$BK$4:$BK$369) -> 0 | F25: =SUMIF(Произв_Факт!$B$4:$B$369,$B$2,Произв_Факт!$BK$4:$BK$369) -> 0 | I25: {=SUM(IF($B$1=Произв_План!$A$4:$A$369,IF($B$2>=Произв_План!$B$4:$B$369,Произв_План!$BK$4:$BK$369,0),0))} -> 25 | J25: {=SUM(IF($B$1=Произв_Факт!$A$4:$A$369,IF($B$2>=Произв_Факт!$B$4:$B$369,Произв_Факт!$BK$4:$BK$369,0),0))} -> 42 | K25: =I25-J25 -> -17 | L25: =IF(I25<>0,(J25)/I25,"-") -> 1.68 | N25: =SUMIF(Произв_План!$A$4:$A$369,$B$1,Произв_План!$BK$4:$BK$369) -> 25 | O25: =IF(N25<>0,(J25)/N25,"-") -> 1.68
B26: Установка накрышных кондиционеров | E26: =SUMIF(Произв_План!$B$4:$B$369,$B$2,Произв_План!$BL$4:$BL$369) -> 0 | F26: =SUMIF(Произв_Факт!$B$4:$B$369,$B$2,Произв_Факт!$BL$4:$BL$369) -> 0 | I26: {=SUM(IF($B$1=Произв_План!$A$4:$A$369,IF($B$2>=Произв_План!$B$4:$B$369,Произв_План!$BL$4:$BL$369,0),0))} -> 25 | J26: {=SUM(IF($B$1=Произв_Факт!$A$4:$A$369,IF($B$2>=Произв_Факт!$B$4:$B$369,Произв_Факт!$BL$4:$BL$369,0),0))} -> 7 | K26: =I26-J26 -> 18 | L26: =IF(I26<>0,(J26)/I26,"-") -> 0.28 | N26: =SUMIF(Произв_План!$A$4:$A$369,$B$1,Произв_План!$BL$4:$BL$369) -> 25 | O26: =IF(N26<>0,(J26)/N26,"-") -> 0.28
A27: доп работы | B27: Сборка колес | E27: =SUMIF(Произв_План!$B$4:$B$369,$B$2,Произв_План!$BM$4:$BM$369) -> 0 | F27: =SUMIF(Произв_Факт!$B$4:$B$369,$B$2,Произв_Факт!$BM$4:$BM$369) -> 0 | I27: {=SUM(IF($B$1=Произв_План!$A$4:$A$369,IF($B$2>=Произв_План!$B$4:$B$369,Произв_План!$BM$4:$BM$369,0),0))} -> 0 | J27: {=SUM(IF($B$1=Произв_Факт!$A$4:$A$369,IF($B$2>=Произв_Факт!$B$4:$B$369,Произв_Факт!$BM$4:$BM$369,0),0))} -> 0 | K27: =I27-J27 -> 0 | L27: =IF(I27<>0,(J27)/I27,"-") -> - | N27: =SUMIF(Произв_План!$A$4:$A$369,$B$1,Произв_План!$BM$4:$BM$369) -> 0 | O27: =IF(N27<>0,(J27)/N27,"-") -> -
B28: Ремонт колес | E28: =SUMIF(Произв_План!$B$4:$B$369,$B$2,Произв_План!$BN$4:$BN$369) -> 0 | F28: =SUMIF(Произв_Факт!$B$4:$B$369,$B$2,Произв_Факт!$BN$4:$BN$369) -> 0 | I28: {=SUM(IF($B$1=Произв_План!$A$4:$A$369,IF($B$2>=Произв_План!$B$4:$B$369,Произв_План!$BN$4:$BN$369,0),0))} -> 0 | J28: {=SUM(IF($B$1=Произв_Факт!$A$4:$A$369,IF($B$2>=Произв_Факт!$B$4:$B$369,Произв_Факт!$BN$4:$BN$369,0),0))} -> 0 | K28: =I28-J28 -> 0 | L28: =IF(I28<>0,(J28)/I28,"-") -> - | N28: =SUMIF(Произв_План!$A$4:$A$369,$B$1,Произв_План!$BN$4:$BN$369) -> 0 | O28: =IF(N28<>0,(J28)/N28,"-") -> -
B30: Ремонт тракторов
A32: приемка на склад готовой продукции | B32: Сдача 1221 | C32: трактор | D32: =SUMIF(Произв_Факт!$B$4:$B$369,$B$2-1,Произв_Факт!$CA$4:$CA$369) -> 808 | E32: =SUMIF(Произв_План!$B$4:$B$369,$B$2,Произв_План!$BO$4:$BO$369) -> 0 | F32: =SUMIF(Произв_Факт!$B$4:$B$369,$B$2,Произв_Факт!$BO$4:$BO$369) -> 0 | G32: =D32+F32-F41 -> 808 | H32: =SUMIF(Произв_Факт!$B$4:$B$369,$G$1-1,Произв_Факт!$CA$4:$CA$369) -> 673 | I32: {=SUM(IF($B$1=Произв_План!$A$4:$A$369,IF($B$2>=Произв_План!$B$4:$B$369,Произв_План!$BO$4:$BO$369,0),0))} -> 120 | J32: {=SUM(IF($B$1=Произв_Факт!$A$4:$A$369,IF($B$2>=Произв_Факт!$B$4:$B$369,Произв_Факт!$BO$4:$BO$369,0),0))} -> 151 | K32: =I32-J32 -> -31 | L32: =IF(I32<>0,(J32)/I32,"-") -> 1.2583333 | M32: =H32+J32-J41 -> 808 | N32: =SUMIF(Произв_План!$A$4:$A$369,$B$1,Произв_План!$BO$4:$BO$369) -> 120 | O32: =IF(N32<>0,(J32)/N32,"-") -> 1.2583333 | P32: =H32+N32-N41 -> 793
C33: погрузчик | D33: =SUMIF(Произв_Факт!$B$4:$B$369,$B$2-1,Произв_Факт!$CB$4:$CB$369) -> 6 | E33: =SUMIF(Произв_План!$B$4:$B$369,$B$2,Произв_План!$BQ$4:$BQ$369) -> 0 | F33: =SUMIF(Произв_Факт!$B$4:$B$369,$B$2,Произв_Факт!$BQ$4:$BQ$369) -> 0 | G33: =D33+F33-F42 -> 6 | H33: =SUMIF(Произв_Факт!$B$4:$B$369,$G$1-1,Произв_Факт!$CB$4:$CB$369) -> 0 | I33: {=SUM(IF($B$1=Произв_План!$A$4:$A$369,IF($B$2>=Произв_План!$B$4:$B$369,Произв_План!$BQ$4:$BQ$369,0),0))} -> 0 | J33: {=SUM(IF($B$1=Произв_Факт!$A$4:$A$369,IF($B$2>=Произв_Факт!$B$4:$B$369,Произв_Факт!$BQ$4:$BQ$369,0),0))} -> 0 | K33: =I33-J33 -> 0 | L33: =IF(I33<>0,(J33)/I33,"-") -> - | M33: =H33+J33-J42 -> 0 | N33: =SUMIF(Произв_План!$A$4:$A$369,$B$1,Произв_План!$BQ$4:$BQ$369) -> 0 | O33: =IF(N33<>0,(J33)/N33,"-") -> - | P33: =H33+N33-N42 -> 0
B34: Итого 1221 | D34: =SUM(D32:D33) -> 814 | E34: =SUM(E32:E33) -> 0 | F34: =SUM(F32:F33) -> 0 | G34: =SUM(G32:G33) -> 814 | H34: =SUM(H32:H33) -> 673 | I34: =SUM(I32:I33) -> 120 | J34: =SUM(J32:J33) -> 151 | K34: =SUM(K32:K33) -> -31 | L34: =IF(I34<>0,(J34)/I34,"-") -> 1.2583333 | M34: =H34+J34-J43 -> 808 | N34: =SUM(N32:N33) -> 120 | O34: =IF(N34<>0,(J34)/N34,"-") -> 1.2583333 | P34: =H34+N34-N43 -> 793
B35: Сдача 826 | C35: трактор | D35: =SUMIF(Произв_Факт!$B$4:$B$369,$B$2-1,Произв_Факт!$CC$4:$CC$369) -> 0 | E35: =SUMIF(Произв_План!$B$4:$B$369,$B$2,Произв_План!$BP$4:$BP$369) -> 25 | F35: =SUMIF(Произв_Факт!$B$4:$B$369,$B$2,Произв_Факт!$BP$4:$BP$369) -> 0 | G35: =D35+F35-F44 -> 0 | H35: =SUMIF(Произв_Факт!$B$4:$B$369,$G$1-1,Произв_Факт!$CC$4:$CC$369) -> 0 | I35: {=SUM(IF($B$1=Произв_План!$A$4:$A$369,IF($B$2>=Произв_План!$B$4:$B$369,Произв_План!$BP$4:$BP$369,0),0))} -> 100 | J35: {=SUM(IF($B$1=Произв_Факт!$A$4:$A$369,IF($B$2>=Произв_Факт!$B$4:$B$369,Произв_Факт!$BP$4:$BP$369,0),0))} -> 6 | K35: =I35-J35 -> 94 | L35: =IF(I35<>0,(J35)/I35,"-") -> 0.06 | M35: =H35+J35-J44 -> 6 | N35: =SUMIF(Произв_План!$A$4:$A$369,$B$1,Произв_План!$BP$4:$BP$369) -> 375 | O35: =IF(N35<>0,(J35)/N35,"-") -> 0.016 | P35: =H35+N35-N44 -> 375
C36: погрузчик | D36: =SUMIF(Произв_Факт!$B$4:$B$369,$B$2-1,Произв_Факт!$CD$4:$CD$369) -> 0 | E36: =SUMIF(Произв_План!$B$4:$B$369,$B$2,Произв_План!$BR$4:$BR$369) -> 0 | F36: =SUMIF(Произв_Факт!$B$4:$B$369,$B$2,Произв_Факт!$BR$4:$BR$369) -> 0 | G36: =D36+F36-F45 -> 0 | H36: =SUMIF(Произв_Факт!$B$4:$B$369,$G$1-1,Произв_Факт!$CD$4:$CD$369) -> 0 | I36: {=SUM(IF($B$1=Произв_План!$A$4:$A$369,IF($B$2>=Произв_План!$B$4:$B$369,Произв_План!$BR$4:$BR$369,0),0))} -> 0 | J36: {=SUM(IF($B$1=Произв_Факт!$A$4:$A$369,IF($B$2>=Произв_Факт!$B$4:$B$369,Произв_Факт!$BR$4:$BR$369,0),0))} -> 0 | K36: =I36-J36 -> 0 | L36: =IF(I36<>0,(J36)/I36,"-") -> - | M36: =H36+J36-J45 -> 0 | N36: =SUMIF(Произв_План!$A$4:$A$369,$B$1,Произв_План!$BR$4:$BR$369) -> 0 | O36: =IF(N36<>0,(J36)/N36,"-") -> - | P36: =H36+N36-N45 -> 0
