Workbook

Sheet Календарь
A1: Дата отчетов | B1: =IF(WEEKDAY(B2,2)=1,B2-3,B2-1) -> 39888
A2: Текущая дата | B2: =TODAY() -> 39889
A3: Дата расчета | B3: =IF(B4=0,B1,B5) -> 39888
A4: Расчет в ручную
A5: Дата отчетов вручную | B5: =IF(WEEKDAY(B4,2)=1,B4-3,B4-1) -> -1
A6: день | B6: =DAY(B3) -> 16
A7: месяц | B7: =MONTH(B3) -> 3
A8: год | B8: =YEAR(B3) -> 2009
A9: год сокращенный | B9: =RIGHT(B8,2) -> 09
A10: день недели | B10: =WEEKDAY(B3,2) -> 1
A11: номер недели | B11: =WEEKNUM(B3) -> 12 | C11: =WEEKNUM(B3,1) -> 12
A13: индекс | B13: =B7&B9 -> 309
B14: =MONTH(B3)&RIGHT(YEAR(B3),2) -> 309
A16: предыдущая рабочая дата | B16: =IF(B10=6,B3-2,IF(B10=7,B3-3,B3-1)) -> 39887
A17: начало месяца текущего | B17: =DATE(B8,B7,1) -> 39873
A18: Конец месяца предыдущего | B18: =$B$1-DAY($B$1) -> 39872
A19: Отработано рабочих дней | B19: =NETWORKDAYS(B17,B3) -> 11
H21: 39778

Sheet Кадры_производство (2)
B2: Факт
C3: Смена №1 | D3: Смена №1 | E3: Смена №1 | F3: Смена №1 | G3: Смена №1 | H3: Смена №1 | I3: Смена №1 | J3: Смена №1 | K3: Смена №1 | L3: Смена №1 | M3: Смена №1 | N3: Смена №1 | O3: Смена №1 | P3: Смена №1 | Q3: Смена №1 | R3: Смена №1 | S3: Смена №1 | T3: Смена №1
C4: Прошло по посту №1 | D4: Прошло по посту №2 | E4: Прошло по посту №3 | F4: Прошло по посту №4 | G4: Прошло по посту №5 | H4: Прошло по посту № Т1 | I4: Прошло по посту №6 | J4: Прошло по посту №7 | K4: Прошло по посту №8 | L4: Прошло по посту №9 | M4: Прошло по посту № Т2 | N4: Прошло по посту №10 | O4: Прошло по посту №11 | P4: Прошло по посту №12 | Q4: Прошло по посту №14 | R4: Консервация | S4: Сборка кабин | T4: Сборка капотов
A6: =MONTH(B6)&RIGHT(YEAR(B6),2) -> 1108 | B6: 39753
A7: =MONTH(B7)&RIGHT(YEAR(B7),2) -> 1108 | B7: 39754
A8: =MONTH(B8)&RIGHT(YEAR(B8),2) -> 1108 | B8: 39755
A9: =MONTH(B9)&RIGHT(YEAR(B9),2) -> 1108 | B9: 39756
A10: =MONTH(B10)&RIGHT(YEAR(B10),2) -> 1108 | B10: 39757
A11: =MONTH(B11)&RIGHT(YEAR(B11),2) -> 1108 | B11: 39758
A12: =MONTH(B12)&RIGHT(YEAR(B12),2) -> 1108 | B12: 39759
A13: =MONTH(B13)&RIGHT(YEAR(B13),2) -> 1108 | B13: 39760
A14: =MONTH(B14)&RIGHT(YEAR(B14),2) -> 1108 | B14: 39761
A15: =MONTH(B15)&RIGHT(YEAR(B15),2) -> 1108 | B15: 39762 | C15: 3 | D15: 4 | E15: 5 | F15: 5 | G15: 1 | H15: 2 | I15: 2 | J15: 5 | K15: 4 | L15: 2 | Q15: 1 | R15: 6
A16: =MONTH(B16)&RIGHT(YEAR(B16),2) -> 1108 | B16: 39763 | C16: 3 | D16: 2 | E16: 5 | F16: 5 | G16: 1 | H16: 2 | I16: 3 | J16: 5 | K16: 4 | L16: 2
A17: =MONTH(B17)&RIGHT(YEAR(B17),2) -> 1108 | B17: 39764 | C17: 3 | D17: 4 | E17: 5 | F17: 5 | G17: 2 | H17: 2 | I17: 3 | J17: 5 | K17: 4 | L17: 2
A18: =MONTH(B18)&RIGHT(YEAR(B18),2) -> 1108 | B18: 39765
A19: =MONTH(B19)&RIGHT(YEAR(B19),2) -> 1108 | B19: 39766 | C19: 3 | D19: 4 | E19: 5 | F19: 5 | G19: 2 | H19: 2 | I19: 3 | J19: 5 | K19: 4 | L19: 2
A20: =MONTH(B20)&RIGHT(YEAR(B20),2) -> 1108 | B20: 39767
A21: =MONTH(B21)&RIGHT(YEAR(B21),2) -> 1108 | B21: 39768
A22: =MONTH(B22)&RIGHT(YEAR(B22),2) -> 1108 | B22: 39769 | C22: 3 | D22: 4 | E22: 5 | F22: 5 | G22: 2 | H22: 2 | I22: 3 | J22: 5 | K22: 4 | L22: 2 | N22: 2 | O22: 2 | P22: 1 | Q22: 1 | R22: 6
A23: =MONTH(B23)&RIGHT(YEAR(B23),2) -> 1108 | B23: 39770 | C23: 3 | D23: 4 | E23: 5 | F23: 5 | G23: 2 | H23: 2 | I23: 3 | J23: 5 | K23: 4 | L23: 2 | N23: 2 | O23: 2 | P23: 1 | Q23: 1 | R23: 6
A24: =MONTH(B24)&RIGHT(YEAR(B24),2) -> 1108 | B24: 39771 | C24: 3 | D24: 4 | E24: 5 | F24: 5 | G24: 2 | H24: 2 | I24: 3 | J24: 5 | K24: 4 | L24: 2 | N24: 2 | O24: 1 | P24: 1 | Q24: 2 | R24: 6
A25: =MONTH(B25)&RIGHT(YEAR(B25),2) -> 1108 | B25: 39772 | C25: 3 | D25: 4 | E25: 5 | F25: 5 | G25: 2 | H25: 2 | I25: 3 | J25: 5 | K25: 4 | L25: 2 | N25: 2 | O25: 1 | P25: 1 | Q25: 2 | R25: 6
A26: =MONTH(B26)&RIGHT(YEAR(B26),2) -> 1108 | B26: 39773 | C26: 3 | D26: 4 | E26: 5 | F26: 5 | G26: 2 | H26: 2 | I26: 3 | J26: 5 | K26: 5 | L26: 2 | N26: 2 | O26: 1 | P26: 1 | Q26: 2 | R26: 5
A27: =MONTH(B27)&RIGHT(YEAR(B27),2) -> 1108 | B27: 39774
A28: =MONTH(B28)&RIGHT(YEAR(B28),2) -> 1108 | B28: 39775
A29: =MONTH(B29)&RIGHT(YEAR(B29),2) -> 1108 | B29: 39776 | C29: 3 | D29: 4 | E29: 5 | F29: 5 | G29: 1 | H29: 2 | I29: 3 | J29: 5 | K29: 5 | L29: 2 | N29: 2 | O29: 1 | P29: 2 | Q29: 3 | R29: 6
A30: =MONTH(B30)&RIGHT(YEAR(B30),2) -> 1108 | B30: 39777 | C30: 3 | D30: 4 | E30: 5 | F30: 5 | G30: 2 | H30: 2 | I30: 4 | J30: 6 | K30: 4 | L30: 2 | N30: 2 | O30: 1 | P30: 2 | Q30: 3 | R30: 6
A31: =MONTH(B31)&RIGHT(YEAR(B31),2) -> 1108 | B31: 39778 | C31: 3 | D31: 4 | E31: 5 | F31: 5 | G31: 2 | H31: 2 | I31: 3 | J31: 6 | K31: 4 | L31: 2 | N31: 2 | O31: 1 | P31: 2 | Q31: 3 | R31: 6
A32: =MONTH(B32)&RIGHT(YEAR(B32),2) -> 1108 | B32: 39779 | C32: 3 | D32: 4 | E32: 5 | F32: 5 | G32: 2 | H32: 2 | I32: 4 | J32: 6 | K32: 4 | L32: 2 | N32: 2 | O32: 1 | P32: 2 | Q32: 3 | R32: 6
A33: =MONTH(B33)&RIGHT(YEAR(B33),2) -> 1108 | B33: 39780 | C33: 3 | D33: 4 | E33: 5 | F33: 5 | G33: 2 | H33: 2 | I33: 4 | J33: 6 | K33: 4 | L33: 2 | N33: 2 | O33: 1 | P33: 2 | Q33: 3 | R33: 6
A34: =MONTH(B34)&RIGHT(YEAR(B34),2) -> 1108 | B34: 39781
A35: =MONTH(B35)&RIGHT(YEAR(B35),2) -> 1108 | B35: 39782
A36: =MONTH(B36)&RIGHT(YEAR(B36),2) -> 1208 | B36: 39783 | C36: 3 | D36: 4 | E36: 5 | F36: 5 | G36: 2 | H36: 2 | I36: 3 | J36: 6 | K36: 4 | L36: 2 | N36: 2 | O36: 1 | P36: 1 | Q36: 3
A37: =MONTH(B37)&RIGHT(YEAR(B37),2) -> 1208 | B37: 39784 | C37: 3 | D37: 4 | E37: 5 | F37: 5 | G37: 2 | H37: 2 | I37: 3 | J37: 6 | K37: 4 | L37: 3 | N37: 2 | O37: 1 | P37: 2 | Q37: 3
A38: =MONTH(B38)&RIGHT(YEAR(B38),2) -> 1208 | B38: 39785 | C38: 3 | D38: 4 | E38: 5 | F38: 5 | G38: 2 | H38: 2 | I38: 3 | J38: 6 | K38: 4 | L38: 3 | N38: 2 | O38: 1 | P38: 2 | Q38: 1 | R38: 6
A39: =MONTH(B39)&RIGHT(YEAR(B39),2) -> 1208 | B39: 39786 | C39: 3 | D39: 4 | E39: 5 | F39: 5 | G39: 2 | H39: 2 | I39: 3 | J39: 6 | K39: 4 | L39: 2 | N39: 1 | O39: 1 | P39: 2 | Q39: 3
A40: =MONTH(B40)&RIGHT(YEAR(B40),2) -> 1208 | B40: 39787 | C40: 3 | D40: 4 | E40: 5 | F40: 5 | G40: 2 | H40: 2 | I40: 3 | J40: 5 | K40: 4 | L40: 2 | N40: 1 | O40: 1 | P40: 2 | Q40: 3 | R40: 1 | S40: 5
A41: =MONTH(B41)&RIGHT(YEAR(B41),2) -> 1208 | B41: 39788
A42: =MONTH(B42)&RIGHT(YEAR(B42),2) -> 1208 | B42: 39789
...

Sheet Отчет по номерам КР.УЗЛ 1221 
A1: Даты прохождения техники Беларус-1221
A2: № п/п | B2: Номер трактора | C2: Дата отгрузки | D2: Дата прихода | E2: Дата сдачи | F2: Дата отгрузки с ОАО "Сарэкс" | G2: Куда отправлен
C3: Сентябрь 2007г.
A4: 1 | B4: 12025204 | C4: 39354 | D4: 39363 | E4: 39370 | F4: 39374 | G4: ЕЛАЗ
A5: 2 | B5: 12025205 | C5: 39354 | D5: 39363 | E5: 39366 | F5: 39366 | G5: ЕЛАЗ
A6: 3 | B6: 12025206 | C6: 39354 | D6: 39363 | E6: 39366 | F6: 39366 | G6: ЕЛАЗ
A7: 4 | B7: 12025207 | C7: 39354 | D7: 39363 | E7: 39370 | F7: 39373 | G7: Тамбов
A8: 5 | B8: 12025208 | C8: 39354 | D8: 39363 | E8: 39370 | F8: 39373 | G8: Казань
A9: 6 | B9: 12025209 | C9: 39354 | D9: 39363 | E9: 39366 | F9: 39366
A10: 7 | B10: 12025210 | C10: 39354 | D10: 39363 | E10: 39370 | F10: 39378
A11: 8 | B11: 12025211 | C11: 39354 | D11: 39363 | E11: 39371 | F11: 39377 | G11: ЕЛАЗ
A12: 9 | B12: 12025212 | C12: 39354 | D12: 39363 | E12: 39366 | F12: 39366 | G12: ЕЛАЗ
A13: 10 | B13: 12025213 | C13: 39354 | D13: 39363 | E13: 39366 | F13: 39366 | G13: ЕЛАЗ
A14: 11 | B14: 12025214 | C14: 39354 | D14: 39363 | E14: 39370 | F14: 39377 | G14: ЕЛАЗ
A15: 12 | B15: 12025215 | C15: 39354 | D15: 39363 | E15: 39370 | F15: 39374 | G15: ЕЛАЗ
A16: 13 | B16: 12025216 | C16: 39354 | D16: 39363 | E16: 39366 | F16: 39366 | G16: ЕЛАЗ
A17: 14 | B17: 12025217 | C17: 39354 | D17: 39363 | E17: 39366 | F17: 39366 | G17: Елабуга
A18: 15 | B18: 12025218 | C18: 39354 | D18: 39363 | E18: 39366 | F18: 39366 | G18: Елабуга
A19: 16 | B19: 12025219 | C19: 39354 | D19: 39363 | E19: 39366 | F19: 39366 | G19: Елабуга
A20: 17 | B20: 12025220 | C20: 39354 | D20: 39363 | E20: 39366 | F20: 39366 | G20: Елабуга
A21: 18 | B21: 12025221 | C21: 39354 | D21: 39363 | E21: 39370 | F21: 39371 | G21: Казань
A22: 19 | B22: 12025222 | C22: 39354 | D22: 39363 | E22: 39366 | F22: 39366 | G22: ЕЛАЗ
... A26: 23 | B26: 12025226 | C26: 39354 | D26: 39363 | E26: 39370 | F26: 39374 | G26: ЕЛАЗ
A27: 24 | B27: 12025227 | C27: 39354 | D27: =$D$4 -> 39363 | E27: 39370 | F27: 39378
A28: 25 | B28: 12025228 | C28: 39354 | D28: =$D$4 -> 39363 | E28: 39366 | F28: 39366 | G28: ЕЛАЗ
A29: 26 | B29: 12025229 | C29: 39354 | D29: =$D$4 -> 39363 | E29: 39370 | F29: 39374 | G29: ЕЛАЗ
A30: 27 | B30: 12025230 | C30: 39354 | D30: =$D$4 -> 39363 | E30: 39370 | F30: 39377 | G30: ЕЛАЗ
A31: 28 | B31: 12025231 | C31: 39354 | D31: =$D$4 -> 39363 | E31: 39370 | F31: 39379 | G31: ЕЛАЗ
A32: 29 | B32: 12025232 | C32: 39354 | D32: =$D$4 -> 39363 | E32: 39370 | F32: 39370 | G32: Ставрополь
A33: 30 | B33: 12025233 | C33: 39354 | D33: =$D$4 -> 39363 | E33: 39366 | F33: 39366 | G33: ЕЛАЗ
A34: 31 | B34: 12025234 | C34: 39354 | D34: =$D$4 -> 39363 | E34: 39366 | F34: 39366 | G34: ЕЛАЗ
A35: 32 | B35: 12025235 | C35: 39354 | D35: =$D$4 -> 39363 | E35: 39370 | F35: 39370 | G35: Ставрополь
A36: 33 | B36: 12025236 | C36: 39354 | D36: =$D$4 -> 39363 | E36: 39366 | F36: 39366 | G36: ЕЛАЗ
A37: 34 | B37: 12025237 | C37: 39354 | D37: =$D$4 -> 39363 | E37: 39370 | F37: 39370 | G37: ЕЛАЗ
A38: 35 | B38: 12025238 | C38: 39354 | D38: =$D$4 -> 39363 | E38: 39370 | F38: 39379 | G38: ЕЛАЗ
A39: 36 | B39: 12025239 | C39: 39354 | D39: =$D$4 -> 39363 | E39: 39366 | F39: 39366 | G39: ЕЛАЗ
A40: 37 | B40: 12025240 | C40: 39354 | D40: =$D$4 -> 39363 | E40: 39370 | F40: 39377 | G40: Ростов
A41: 38 | B41: 12025241 | C41: 39354 | D41: =$D$4 -> 39363 | E41: 39370 | F41: 39374
A42: 39 | B42: 12025242 | C42: 39354 | D42: =$D$4 -> 39363 | E42: 39370 | F42: 39370 | G42: Казань
A43: 40 | B43: 12025243 | C43: 39354 | D43: =$D$4 -> 39363 | E43: 39370 | F43: 39377 | G43: ЕЛАЗ
...

Sheet Отчет по номерам 1221
A1: =Календарь!B1 -> 39888
A3: Даты прохождения техники Беларус-1221 | H3: Реализован | I3: Номера комплектующих
A4: № п.п. | B4: № изделия | C4: Сход с конвейера | D4: Доводка | E4: Товарный двор | F4: Окраска | G4: Сбыт | I4: Двигатель | J4: ТНВД | K4: Турбокомпрессор | L4: Трансмиссия | M4: Мост передний | N4: Кабина | O4: КПП | P4: Корпус гидросистемы | Q4: Рулевая колонка | R4: Гидроподъемник | S4: Радиатор | T4: Колеса
A5: 1 | B5: 1 | C5: 39332 | E5: 39335 | G5: 39358 | H5: ООО "ТД МТЗ-ЕлАз" | I5: 59191 | L5: 28194 | M5: 31785-05 | N5: 69345 | O5: 20609 | P5: 734594 | Q5: 728437 | S5: 2970079
A6: 2 | B6: 2 | C6: 39332 | E6: 39335 | G6: 39358 | H6: ООО "ТД МТЗ-ЕлАз" | I6: 58769 | L6: 28105 | M6: 31789-05 | N6: 60144 | O6: 10442 | P6: 734410 | Q6: 728476 | S6: 2970080
A7: 3 | B7: 3 | C7: 39332 | E7: 39337 | G7: 39357 | H7: ООО "ТД МТЗ-ЕлАз" | I7: 59212 | L7: 28198 | M7: 28777-05 | N7: 60143 | O7: 20628 | P7: 734407 | Q7: 128462 | S7: 2970070
A8: 4 | B8: 4 | C8: 39333 | E8: 39335 | G8: 39364 | H8: ООО "ТД МТЗ-ЕлАз" | I8: 59190 | L8: 28190 | M8: 31796-05 | N8: 59528 | O8: 20601 | P8: 734654 | Q8: 128461 | S8: 2970089
A9: 5 | B9: 5 | C9: 39333 | E9: 39335 | G9: 39363 | H9: ООО "ТД МТЗ-ЕлАз" | I9: 59218 | L9: 28107 | M9: 31787 | N9: 59346 | O9: 15696 | P9: 732120 | Q9: 728465 | S9: 2970083
A10: 6 | B10: 6 | C10: 39333 | E10: 39335 | G10: 39358 | H10: ООО "ТД МТЗ-ЕлАз" | I10: 59185 | L10: 28120 | M10: 31780-05 | N10: 59272 | P10: 735727 | Q10: 28454 | S10: 2970086
A11: 7 | B11: 7 | C11: 39333 | E11: 39337 | G11: 39357 | H11: ООО "ТД МТЗ-ЕлАз" | I11: 59189 | L11: 28125 | M11: 31793-05 | N11: 59350 | O11: 20475 | P11: 735563 | Q11: 728456 | S11: 2970091
A12: 8 | B12: 8 | C12: 39335 | E12: 39337 | G12: 39370 | H12: ООО "ТД МТЗ-ЕлАз"
A13: 9 | B13: 9 | C13: 39335 | E13: 39335 | G13: 39366 | H13: ООО "ТД МТЗ-Ставрополь" | I13: 59225 | L13: 28129 | M13: 34739 | N13: 59148 | O13: 20468 | P13: 732279 | Q13: 728478 | S13: 2970085
A14: 10 | B14: 10 | C14: 39335 | E14: 39335 | G14: 39335 | H14: ИП Глава КФХ Корнилова Н.А. | I14: 59220 | L14: 28152 | M14: 34734 | N14: 59405 | P14: 732280 | Q14: 728460 | S14: 2970088
A15: 11 | B15: 11 | C15: 39335 | E15: 39338 | G15: 39366 | H15: ООО "ТД МТЗ-Ставрополь" | I15: 59187 | L15: 28127 | M15: 2972 | N15: 59513 | P15: 732871 | Q15: 728457 | S15: 3070030
A16: 12 | B16: 12 | C16: 39335 | E16: 39371 | G16: 39373 | H16: ООО "ТД МТЗ-ЕлАз" | I16: 59223 | L16: 28113 | M16: 31795 | N16: 59266 | P16: 732870 | Q16: 728469
A17: 13 | B17: 13 | C17: 39336 | E17: 39349 | G17: 39363 | H17: ООО "ТД МТЗ-ЕлАз" | I17: 59222 | L17: 28118 | M17: 34713-05 | N17: 59351 | P17: 734408 | Q17: 728444 | S17: 3070027
A18: 14 | B18: 14 | C18: 39336 | E18: 39338 | G18: 39358 | H18: ООО "ТД МТЗ-ЕлАз" | I18: 59293 | L18: 28204 | M18: 33718-05 | N18: 59451 | P18: 734589 | Q18: 128463 | S18: 287016
A19: 15 | B19: 15 | C19: 39337 | E19: 39338 | G19: 39366 | H19: ООО "ТД МТЗ-Ставрополь" | I19: 59303 | L19: 28221 | M19: 37792-05 | N19: 59347 | O19: 20664 | P19: 734413 | Q19: 728464 | S19: 3070059
A20: 16 | B20: 16 | C20: 39337 | E20: 39339 | G20: 39363 | H20: ООО "ТД МТЗ-ЕлАз" | I20: 59188 | L20: 28117 | M20: 34718 | N20: 59512 | P20: 734790 | Q20: 728472 | S20: 2570179
A21: 17 | B21: 17 | C21: 39337 | E21: 39342 | G21: 39366 | H21: ООО "ТД МТЗ-Ставрополь" | I21: 59304 | N21: 61099 | P21: 736008 | Q21: 728468 | S21: 287017
A22: 18 | B22: 18 | C22: 39337 | E22: 39339 | G22: 39373 | H22: ОАО "Росагролизинг" | I22: 59221 | L22: 28207 | M22: 28773 | N22: 59618 | O22: 20634 | P22: 734994 | Q22: 728459
A23: 19 | B23: 19 | C23: 39338 | E23: 39342 | G23: 39363 | H23: ООО "ТД МТЗ-ЕлАз" | I23: 59302 | L23: 28205 | M23: 1004 | N23: 80139 | Q23: 728455 | S23: 287014
A24: 20 | B24: 20 | C24: 39338 | E24: 39342 | G24: 39363 | H24: ООО "ТД МТЗ-ЕлАз" | I24: 59215 | L24: 28217 | M24: 1605 | N24: 60152 | Q24: 728470 | S24: 287021
A25: 21 | B25: 21 | C25: 39338 | E25: 39345 | G25: 39366 | H25: ООО "ТД МТЗ-Ставрополь" | I25: 59064 | L25: 55276 | M25: 317102-05 | N25: 60149 | P25: 735565 | Q25: 728471 | S25: 2570107
A26: 22 | B26: 22 | C26: 39339 | E26: 39345 | G26: 39363 | H26: ООО "ТД МТЗ-ЕлАз" | I26: 59292 | L26: 55280 | M26: 34756-05 | P26: 735730 | Q26: 728473
A27: 23 | B27: 23 | C27: 39339 | E27: 39344 | G27: 39358 | H27: ООО "ТД МТЗ-ЕлАз" | I27: 59298 | L27: 28117 | M27: 3473605 | N27: 59514 | P27: 732528 | Q27: 928467 | S27: 287024
A28: 24 | B28: 24 | C28: 39339 | E28: 39351 | G28: 39353 | H28: ООО "ТД МТЗ-ЕлАз" | I28: 59184 | L28: 35102 | M28: 34151 | N28: 59689 | P28: 732867 | Q28: 728430 | S28: 2970093
A29: 25 | B29: 25 | C29: 39339 | E29: 39344 | G29: 39358 | H29: ООО "ТД МТЗ-ЕлАз" | I29: 58796 | L29: 28117 | M29: 28779 | N29: 60147 | P29: 732866 | Q29: 728429
A30: 26 | B30: 26 | C30: 39342 | E30: 39344 | G30: 39358 | H30: ООО "ТД МТЗ-ЕлАз" | I30: 59447 | L30: 55310 | M30: 34747-05 | N30: 60147 | O30: 20775 | P30: 732875 | Q30: 728452 | S30: 2570188
A31: 27 | B31: 27 | C31: 39343 | E31: 39346 | G31: 39358 | H31: ООО "ТД МТЗ-ЕлАз" | I31: 59343 | L31: 28213 | M31: 34735 | N31: 60146 | P31: 732869 | Q31: 728439 | S31: 287015
A32: 28 | B32: 28 | C32: 39343 | E32: 39349 | G32: 39353 | H32: ООО "ТД МТЗ-ЕлАз" | I32: 58551 | L32: 28216 | M32: 34710-05 | N32: 60150 | O32: 20632 | P32: 735564 | Q32: 728466 | S32: 2570193
A33: 29 | B33: 29 | C33: 39343 | E33: 39350 | G33: 39366 | H33: ООО "ТД МТЗ-Ставрополь" | I33: 58803 | L33: 28193 | M33: 34746 | N33: 59273 | P33: 732872 | Q33: 728440 | S33: 2570181
A34: 30 | B34: 30 | C34: 39344 | E34: 39345 | G34: 39364 | H34: ООО "ТД МТЗ-ЕлАз" | I34: 58755 | L34: 28199 | M34: 34749 | N34: 59271 | P34: 734071 | Q34: 728474 | S34: 3070194
A35: 31 | B35: 31 | C35: 39344 | E35: 39345 | G35: 39365 | H35: ООО "ТД МТЗ-Ставрополь" | I35: 58814 | L35: 28201 | M35: 34757 | N35: 60145 | P35: 734074 | Q35: 728433 | S35: 2570183
A36: 32 | B36: 32 | C36: 39344 | E36: 39367 | G36: 39370 | H36: ООО "ТД МТЗ-ЕлАз" | I36: 59182 | L36: 55315 | M36: 34716-05 | N36: 60058 | P36: 733181 | Q36: 728447 | S36: 2570190
A37: 33 | B37: 33 | C37: 39344 | E37: 39345 | G37: 39365 | H37: ООО "ТД МТЗ-Ставрополь" | I37: 58889 | L37: 28200 | M37: 1552 | N37: 60053 | P37: 735181 | Q37: 728442 | S37: 287048
A38: 34 | B38: 34 | C38: 39344 | E38: 39349 | G38: 39363 | H38: ИП Завражнов | I38: 58617 | L38: 28209 | M38: 562 | N38: 59274 | P38: 735389 | Q38: 728449 | S38: 2970009
A39: 35 | B39: 35 | C39: 39345 | E39: 39349 | G39: 39363 | H39: ООО "ТД МТЗ-ЕлАз" | I39: 58753 | L39: 28188 | M39: 642 | N39: 60148 | P39: 734993 | Q39: 728450 | S39: 3070155
A40: 36 | B40: 36 | C40: 39345 | E40: 39349 | G40: 39358 | H40: ООО "ТД МТЗ-ЕлАз" | I40: 58537 | M40: 31784-05 | N40: 59267 | O40: 20775 | P40: 334588 | Q40: 728451 | S40: 2970022
A41: 37 | B41: 37 | C41: 39345 | E41: 39349 | G41: 39353 | H41: ООО "ТД МТЗ-ЕлАз" | I41: 58681 | L41: 28337 | M41: 34720 | N41: 60056 | P41: 733186 | Q41: 728446 | S41: 3070197
...

Sheet Отчет по номерам 826
A1: =Календарь!B1 -> 39888
A3: Даты прохождения техники Беларус-826 | H3: Реализован | I3: Номера комплектующих
A4: № п.п. | B4: № изделия | C4: Сход с конвейера | D4: Доводка | E4: Товарный двор | F4: Окраска | G4: Сбыт | I4: Двигатель | J4: ТНВД | K4: Турбокомпрессор | L4: Трансмиссия | M4: Мост передний | N4: Кабина | O4: КПП | P4: Корпус гидросистемы | Q4: Рулевая колонка | R4: Гидроподъемник | S4: Радиатор | T4: Колеса
A5: 1 | B5: 1 | C5: 39883
A6: 2 | B6: =B5+1 -> 2 | C6: 39883
A7: 3 | B7: =B6+1 -> 3 | C7: 39883
A8: 4 | B8: =B7+1 -> 4 | C8: 39883
A9: 5 | B9: =B8+1 -> 5 | C9: 39883
A10: 6 | B10: =B9+1 -> 6 | C10: 39883
A11: 7 | B11: =B10+1 -> 7 | C11: 39883
A12: 8 | B12: =B11+1 -> 8 | C12: 39883 | E12: 39885
A13: 9 | B13: =B12+1 -> 9 | C13: 39883 | E13: 39888
A14: 10 | B14: =B13+1 -> 10 | C14: 39884 | E14: 39888
A15: 11 | B15: =B14+1 -> 11 | C15: 39884 | E15: 39885
A16: 12 | B16: =B15+1 -> 12 | C16: 39884 | E16: 39885
A17: 13 | B17: =B16+1 -> 13 | C17: 39884 | E17: 39885
A18: 14 | B18: =B17+1 -> 14 | C18: 39884 | E18: 39885
A19: 15 | B19: =B18+1 -> 15 | C19: 39884
A20: 16 | B20: =B19+1 -> 16 | C20: 39884
A21: 17 | B21: =B20+1 -> 17 | C21: 39884 | E21: 39885
A22: 18 | B22: =B21+1 -> 18 | C22: 39884
A23: 19 | B23: =B22+1 -> 19 | C23: 39884
A24: 20 | B24: =B23+1 -> 20 | C24: 39884 | E24: 39888
A25: 21 | B25: =B24+1 -> 21 | C25: 39884 | E25: 39888
A26: 22 | B26: =B25+1 -> 22 | C26: 39884 | E26: 39888
A27: 23 | B27: =B26+1 -> 23 | C27: 39884
A28: 24 | B28: =B27+1 -> 24 | C28: 39884 | E28: 39888
A29: 25 | B29: =B28+1 -> 25 | C29: 39885
A30: 26 | B30: =B29+1 -> 26 | C30: 39885 | E30: 39888
A31: 27 | B31: =B30+1 -> 27 | C31: 39885
A32: 28 | B32: =B31+1 -> 28 | C32: 39885
A33: 29 | B33: =B32+1 -> 29 | C33: 39885 | E33: 39888
A34: 30 | B34: =B33+1 -> 30 | C34: 39885 | E34: 39888
A35: 31 | B35: =B34+1 -> 31 | C35: 39885 | E35: 39888
A36: 32 | B36: =B35+1 -> 32 | C36: 39885 | E36: 39888
A37: 33 | B37: =B36+1 -> 33 | C37: 39885 | E37: 39888
A38: 34 | B38: =B37+1 -> 34 | C38: 39885 | E38: 39888
A39: 35 | B39: =B38+1 -> 35 | C39: 39885 | E39: 39888
A40: 36 | B40: =B39+1 -> 36 | C40: 39888 | E40: 39888
A41: 37 | B41: =B40+1 -> 37 | C41: 39888 | E41: 39888
...

Sheet Остатки_производство
C3: Дата | D3: 1221 | H3: 826
D4: План | E4: Приход | F4: Выдача | G4: Остаток | H4: План | I4: Приход | J4: Выдача | K4: Остаток
C5: Вх.остаток | G5: 317 | K5: 0
B6: =MONTH(C6)&RIGHT(YEAR(C6),2) -> 109 | C6: 39814 | G6: =G5+E6-F6 -> 317 | K6: =K5+I6-J6 -> 0
B7: =MONTH(C7)&RIGHT(YEAR(C7),2) -> 109 | C7: 39815 | G7: =G6+E7-F7 -> 317 | K7: =K6+I7-J7 -> 0
B8: =MONTH(C8)&RIGHT(YEAR(C8),2) -> 109 | C8: 39816 | G8: =G7+E8-F8 -> 317 | K8: =K7+I8-J8 -> 0
B9: =MONTH(C9)&RIGHT(YEAR(C9),2) -> 109 | C9: 39817 | G9: =G8+E9-F9 -> 317 | K9: =K8+I9-J9 -> 0
B10: =MONTH(C10)&RIGHT(YEAR(C10),2) -> 109 | C10: 39818 | G10: =G9+E10-F10 -> 317 | K10: =K9+I10-J10 -> 0
B11: =MONTH(C11)&RIGHT(YEAR(C11),2) -> 109 | C11: 39819 | G11: =G10+E11-F11 -> 317 | K11: =K10+I11-J11 -> 0
B12: =MONTH(C12)&RIGHT(YEAR(C12),2) -> 109 | C12: 39820 | G12: =G11+E12-F12 -> 317 | K12: =K11+I12-J12 -> 0
B13: =MONTH(C13)&RIGHT(YEAR(C13),2) -> 109 | C13: 39821 | G13: =G12+E13-F13 -> 317 | K13: =K12+I13-J13 -> 0
B14: =MONTH(C14)&RIGHT(YEAR(C14),2) -> 109 | C14: 39822 | G14: =G13+E14-F14 -> 317 | K14: =K13+I14-J14 -> 0
B15: =MONTH(C15)&RIGHT(YEAR(C15),2) -> 109 | C15: 39823 | G15: =G14+E15-F15 -> 317 | K15: =K14+I15-J15 -> 0
B16: =MONTH(C16)&RIGHT(YEAR(C16),2) -> 109 | C16: 39824 | G16: =G15+E16-F16 -> 317 | K16: =K15+I16-J16 -> 0
B17: =MONTH(C17)&RIGHT(YEAR(C17),2) -> 109 | C17: 39825 | G17: =G16+E17-F17 -> 317 | K17: =K16+I17-J17 -> 0
... B38: =MONTH(C38)&RIGHT(YEAR(C38),2) -> 209 | C38: 39846 | G38: =G37+E38-F38 -> 317 | K38: =K37+I38-J38 -> 0
B39: =MONTH(C39)&RIGHT(YEAR(C39),2) -> 209 | C39: 39847 | D39: 30 | G39: =G38+E39-F39 -> 317 | K39: =K38+I39-J39 -> 0
B40: =MONTH(C40)&RIGHT(YEAR(C40),2) -> 209 | C40: 39848 | G40: =G39+E40-F40 -> 317 | K40: =K39+I40-J40 -> 0
B41: =MONTH(C41)&RIGHT(YEAR(C41),2) -> 209 | C41: 39849 | G41: =G40+E41-F41 -> 317 | H41: 50 | K41: =K40+I41-J41 -> 0
B42: =MONTH(C42)&RIGHT(YEAR(C42),2) -> 209 | C42: 39850 | G42: =G41+E42-F42 -> 317 | I42: 50 | K42: =K41+I42-J42 -> 50
B43: =MONTH(C43)&RIGHT(YEAR(C43),2) -> 209 | C43: 39851 | G43: =G42+E43-F43 -> 317 | K43: =K42+I43-J43 -> 50
B44: =MONTH(C44)&RIGHT(YEAR(C44),2) -> 209 | C44: 39852 | D44: 30 | G44: =G43+E44-F44 -> 317 | K44: =K43+I44-J44 -> 50
B45: =MONTH(C45)&RIGHT(YEAR(C45),2) -> 209 | C45: 39853 | G45: =G44+E45-F45 -> 317 | K45: =K44+I45-J45 -> 50
B46: =MONTH(C46)&RIGHT(YEAR(C46),2) -> 209 | C46: 39854 | E46: 30 | G46: =G45+E46-F46 -> 347 | H46: 50 | K46: =K45+I46-J46 -> 50
B47: =MONTH(C47)&RIGHT(YEAR(C47),2) -> 209 | C47: 39855 | D47: 30 | G47: =G46+E47-F47 -> 347 | I47: 50 | K47: =K46+I47-J47 -> 100
B48: =MONTH(C48)&RIGHT(YEAR(C48),2) -> 209 | C48: 39856 | F48: 17 | G48: =G47+E48-F48 -> 330 | K48: =K47+I48-J48 -> 100
B49: =MONTH(C49)&RIGHT(YEAR(C49),2) -> 209 | C49: 39857 | F49: 18 | G49: =G48+E49-F49 -> 312 | K49: =K48+I49-J49 -> 100
B50: =MONTH(C50)&RIGHT(YEAR(C50),2) -> 209 | C50: 39858 | E50: 30 | G50: =G49+E50-F50 -> 342 | K50: =K49+I50-J50 -> 100
B51: =MONTH(C51)&RIGHT(YEAR(C51),2) -> 209 | C51: 39859 | G51: =G50+E51-F51 -> 342 | K51: =K50+I51-J51 -> 100
B52: =MONTH(C52)&RIGHT(YEAR(C52),2) -> 209 | C52: 39860 | D52: 30 | F52: 18 | G52: =G51+E52-F52 -> 324 | K52: =K51+I52-J52 -> 100
B53: =MONTH(C53)&RIGHT(YEAR(C53),2) -> 209 | C53: 39861 | E53: 30 | F53: 14 | G53: =G52+E53-F53 -> 340 | H53: 50 | K53: =K52+I53-J53 -> 100
B54: =MONTH(C54)&RIGHT(YEAR(C54),2) -> 209 | C54: 39862 | D54: 30 | F54: 15 | G54: =G53+E54-F54 -> 325 | K54: =K53+I54-J54 -> 100
B55: =MONTH(C55)&RIGHT(YEAR(C55),2) -> 209 | C55: 39863 | F55: 18 | G55: =G54+E55-F55 -> 307 | I55: 50 | K55: =K54+I55-J55 -> 150
B56: =MONTH(C56)&RIGHT(YEAR(C56),2) -> 209 | C56: 39864 | F56: 16 | G56: =G55+E56-F56 -> 291 | K56: =K55+I56-J56 -> 150
B57: =MONTH(C57)&RIGHT(YEAR(C57),2) -> 209 | C57: 39865 | E57: 30 | G57: =G56+E57-F57 -> 321 | K57: =K56+I57-J57 -> 150
B58: =MONTH(C58)&RIGHT(YEAR(C58),2) -> 209 | C58: 39866 | D58: 30 | G58: =G57+E58-F58 -> 321 | K58: =K57+I58-J58 -> 150
B59: =MONTH(C59)&RIGHT(YEAR(C59),2) -> 209 | C59: 39867 | G59: =G58+E59-F59 -> 321 | K59: =K58+I59-J59 -> 150
B60: =MONTH(C60)&RIGHT(YEAR(C60),2) -> 209 | C60: 39868 | F60: 20 | G60: =G59+E60-F60 -> 301 | H60: 50 | K60: =K59+I60-J60 -> 150
B61: =MONTH(C61)&RIGHT(YEAR(C61),2) -> 209 | C61: 39869 | D61: 30 | E61: 30 | F61: 20 | G61: =G60+E61-F61 -> 311 | K61: =K60+I61-J61 -> 150
B62: =MONTH(C62)&RIGHT(YEAR(C62),2) -> 209 | C62: 39870 | E62: 30 | F62: 20 | G62: =G61+E62-F62 -> 321 | K62: =K61+I62-J62 -> 150
...

Sheet Произв_План
T1: Прошло | AB1: Прошло | AI1: Прошло | AL1: Прошло | AO1: Прошло | AR1: Прошло | AT1: Всего за день | AX1: Прошло | BC1: Осталось | BO1: Отгружено на сбыт | BQ1: Отгружено для производства экскаваторов | BT1: Отгружено на сбыт | BV1: Отгружено для производства экскаваторов | BY1: Всего | CA1: Отгружено на сбыт | CC1: Отгружено для производства экскаваторов | CF1: Всего | CH1: ОТК остатки
C2: Подсборка | T2: Модель | V2: Грузы | AA2: Эстакада | AB2: Модель | AD2: Тормозной стенд | AE2: Маскировка | AF2: Окраска | AG2: Сушка | AH2: Демаскировка | AI2: Модель | AK2: Юбочные изделия | AL2: Модель | AN2: Доводка | AO2: Модель | AQ2: ОТК | AR2: Модель | AT2: Прошло | AV2: Остаток на конвейере | AX2: 1221 | AY2: 1221 | AZ2: 826 | BA2: 826 | BB2: 826 | BC2: 1221 | BD2: 1221 | BE2: 826 | BF2: 826 | BG2: 826 | BH2: Установка передних спаренных колес | BI2: Установка задних спаренных колес | BJ2: Установка устройства облегчающего запуск | BK2: Установка капотных кондиционеров | BL2: Установка накрышных кондиционеров | BM2: Сборка колес | BN2: Ремонт колес | BO2: 1221 | BP2: 826 | BQ2: 1221 | BR2: 826 | BS2: 826 | BT2: 1221 | BU2: 826 | BV2: 1221 | BW2: 826 | BX2: 826 | BY2: 1221 | BZ2: 826 | CA2: 1221 | CB2: 826 | CC2: 1221 | CD2: 826 | CE2: 826 | CF2: 1221 | CG2: 826 | CH2: Модель
B3: Дата | C3: Пост1 | D3: Пост2 | E3: Пост3 | F3: Пост4 | G3: Пост5 | H3: Пост6 | I3: Пост7 | J3: Пост8 | K3: Пост9 | L3: Пост10 | M3: Сборка кабин | N3: Сборка капотов | O3: Пост1 | P3: Пост2 | Q3: Пост3 | R3: Пост4 | S3: Пост5 | T3: 1221 | U3: 826 | V3: T1 | W3: Пост6 | X3: Пост7 | Y3: Пост8 | Z3: Пост9 | AA3: Пост10 | AB3: 1221 | AC3: 826 | AD3: T2 | AE3: Пост11 | AF3: Пост12 | AG3: Пост13 | AH3: Пост14 | AI3: 1221 | AJ3: 826 | AK3: Пост15 | AL3: 1221 | AM3: 826 | AN3: Пост16 | AO3: 1221 | AP3: 826 | AQ3: Пост17 | AR3: 1221 | AS3: 826 | AT3: 1221 | AU3: 826 | AV3: 1221 | AW3: 826 | AX3: трактор | AY3: погрузчик | AZ3: трактор | BA3: погрузчик | BB3: экскаватор погрузчик | BC3: трактор | BD3: погрузчик | BE3: трактор | BF3: погрузчик | BG3: экскаватор погрузчик | BQ3: погрузчик | BR3: погрузчик | BS3: экскаватор погрузчик | BV3: погрузчик | BW3: погрузчик | BX3: экскаватор погрузчик | CC3: погрузчик | CD3: погрузчик | CE3: экскаватор погрузчик | CH3: 1221 | CI3: 826
A4: =MONTH(B4)&RIGHT(YEAR(B4),2) -> 109 | B4: 39814 | AT4: =AX4+AY4 -> 0 | AU4: =AZ4+BA4+BB4 -> 0 | AV4: =BC4+BD4 -> 0 | AW4: =BE4+BF4+BG4 -> 0 | BY4: =BT4+BV4 -> 0 | BZ4: =BU4+BW4+BX4 -> 0 | CA4: 716 | CF4: =CA4+CC4 -> 716 | CG4: =CB4+CD4+CE4 -> 0
A5: =MONTH(B5)&RIGHT(YEAR(B5),2) -> 109 | B5: 39815 | AT5: =AX5+AY5 -> 0 | AU5: =AZ5+BA5+BB5 -> 0 | AV5: =BC5+BD5 -> 0 | AW5: =BE5+BF5+BG5 -> 0 | BY5: =BT5+BV5 -> 0 | BZ5: =BU5+BW5+BX5 -> 0 | CA5: =CA4+BO5-BT5 -> 716 | CB5: =CB4+BP5-BU5 -> 0 | CC5: =CC4+BQ5-BV5 -> 0 | CD5: =CD4+BR5-BW5 -> 0 | CE5: =CE4+BS5-BX5 -> 0 | CF5: =CA5+CC5 -> 716 | CG5: =CB5+CD5+CE5 -> 0 | CH5: =CH4+AR5 -> 0 | CI5: =CI4+AS5 -> 0
A6: =MONTH(B6)&RIGHT(YEAR(B6),2) -> 109 | B6: 39816 | AT6: =AX6+AY6 -> 0 | AU6: =AZ6+BA6+BB6 -> 0 | AV6: =BC6+BD6 -> 0 | AW6: =BE6+BF6+BG6 -> 0 | BY6: =BT6+BV6 -> 0 | BZ6: =BU6+BW6+BX6 -> 0 | CA6: =CA5+BO6-BT6 -> 716 | CB6: =CB5+BP6-BU6 -> 0 | CC6: =CC5+BQ6-BV6 -> 0 | CD6: =CD5+BR6-BW6 -> 0 | CE6: =CE5+BS6-BX6 -> 0 | CF6: =CA6+CC6 -> 716 | CG6: =CB6+CD6+CE6 -> 0 | CH6: =CH5+AR6 -> 0 | CI6: =CI5+AS6 -> 0
A7: =MONTH(B7)&RIGHT(YEAR(B7),2) -> 109 | B7: 39817 | AT7: =AX7+AY7 -> 0 | AU7: =AZ7+BA7+BB7 -> 0 | AV7: =BC7+BD7 -> 0 | AW7: =BE7+BF7+BG7 -> 0 | BY7: =BT7+BV7 -> 0 | BZ7: =BU7+BW7+BX7 -> 0 | CA7: =CA6+BO7-BT7 -> 716 | CB7: =CB6+BP7-BU7 -> 0 | CC7: =CC6+BQ7-BV7 -> 0 | CD7: =CD6+BR7-BW7 -> 0 | CE7: =CE6+BS7-BX7 -> 0 | CF7: =CA7+CC7 -> 716 | CG7: =CB7+CD7+CE7 -> 0 | CH7: =CH6+AR7 -> 0 | CI7: =CI6+AS7 -> 0
A8: =MONTH(B8)&RIGHT(YEAR(B8),2) -> 109 | B8: 39818 | AT8: =AX8+AY8 -> 0 | AU8: =AZ8+BA8+BB8 -> 0 | AV8: =BC8+BD8 -> 0 | AW8: =BE8+BF8+BG8 -> 0 | BY8: =BT8+BV8 -> 0 | BZ8: =BU8+BW8+BX8 -> 0 | CA8: =CA7+BO8-BT8 -> 716 | CB8: =CB7+BP8-BU8 -> 0 | CC8: =CC7+BQ8-BV8 -> 0 | CD8: =CD7+BR8-BW8 -> 0 | CE8: =CE7+BS8-BX8 -> 0 | CF8: =CA8+CC8 -> 716 | CG8: =CB8+CD8+CE8 -> 0 | CH8: =CH7+AR8 -> 0 | CI8: =CI7+AS8 -> 0
A9: =MONTH(B9)&RIGHT(YEAR(B9),2) -> 109 | B9: 39819 | AT9: =AX9+AY9 -> 0 | AU9: =AZ9+BA9+BB9 -> 0 | AV9: =BC9+BD9 -> 0 | AW9: =BE9+BF9+BG9 -> 0 | BY9: =BT9+BV9 -> 0 | BZ9: =BU9+BW9+BX9 -> 0 | CA9: =CA8+BO9-BT9 -> 716 | CB9: =CB8+BP9-BU9 -> 0 | CC9: =CC8+BQ9-BV9 -> 0 | CD9: =CD8+BR9-BW9 -> 0 | CE9: =CE8+BS9-BX9 -> 0 | CF9: =CA9+CC9 -> 716 | CG9: =CB9+CD9+CE9 -> 0 | CH9: =CH8+AR9 -> 0 | CI9: =CI8+AS9 -> 0
A10: =MONTH(B10)&RIGHT(YEAR(B10),2) -> 109 | B10: 39820 | AT10: =AX10+AY10 -> 0 | AU10: =AZ10+BA10+BB10 -> 0 | AV10: =BC10+BD10 -> 0 | AW10: =BE10+BF10+BG10 -> 0 | BY10: =BT10+BV10 -> 0 | BZ10: =BU10+BW10+BX10 -> 0 | CA10: =CA9+BO10-BT10 -> 716 | CB10: =CB9+BP10-BU10 -> 0 | CC10: =CC9+BQ10-BV10 -> 0 | CD10: =CD9+BR10-BW10 -> 0 | CE10: =CE9+BS10-BX10 -> 0 | CF10: =CA10+CC10 -> 716 | CG10: =CB10+CD10+CE10 -> 0 | CH10: =CH9+AR10 -> 0 | CI10: =CI9+AS10 -> 0
A11: =MONTH(B11)&RIGHT(YEAR(B11),2) -> 109 | B11: 39821 | AT11: =AX11+AY11 -> 0 | AU11: =AZ11+BA11+BB11 -> 0 | AV11: =BC11+BD11 -> 0 | AW11: =BE11+BF11+BG11 -> 0 | BY11: =BT11+BV11 -> 0 | BZ11: =BU11+BW11+BX11 -> 0 | CA11: =CA10+BO11-BT11 -> 716 | CB11: =CB10+BP11-BU11 -> 0 | CC11: =CC10+BQ11-BV11 -> 0 | CD11: =CD10+BR11-BW11 -> 0 | CE11: =CE10+BS11-BX11 -> 0 | CF11: =CA11+CC11 -> 716 | CG11: =CB11+CD11+CE11 -> 0 | CH11: =CH10+AR11 -> 0 | CI11: =CI10+AS11 -> 0
A12: =MONTH(B12)&RIGHT(YEAR(B12),2) -> 109 | B12: 39822 | AT12: =AX12+AY12 -> 0 | AU12: =AZ12+BA12+BB12 -> 0 | AV12: =BC12+BD12 -> 0 | AW12: =BE12+BF12+BG12 -> 0 | BY12: =BT12+BV12 -> 0 | BZ12: =BU12+BW12+BX12 -> 0 | CA12: =CA11+BO12-BT12 -> 716 | CB12: =CB11+BP12-BU12 -> 0 | CC12: =CC11+BQ12-BV12 -> 0 | CD12: =CD11+BR12-BW12 -> 0 | CE12: =CE11+BS12-BX12 -> 0 | CF12: =CA12+CC12 -> 716 | CG12: =CB12+CD12+CE12 -> 0 | CH12: =CH11+AR12 -> 0 | CI12: =CI11+AS12 -> 0
A13: =MONTH(B13)&RIGHT(YEAR(B13),2) -> 109 | B13: 39823 | AT13: =AX13+AY13 -> 0 | AU13: =AZ13+BA13+BB13 -> 0 | AV13: =BC13+BD13 -> 0 | AW13: =BE13+BF13+BG13 -> 0 | BY13: =BT13+BV13 -> 0 | BZ13: =BU13+BW13+BX13 -> 0 | CA13: =CA12+BO13-BT13 -> 716 | CB13: =CB12+BP13-BU13 -> 0 | CC13: =CC12+BQ13-BV13 -> 0 | CD13: =CD12+BR13-BW13 -> 0 | CE13: =CE12+BS13-BX13 -> 0 | CF13: =CA13+CC13 -> 716 | CG13: =CB13+CD13+CE13 -> 0 | CH13: =CH12+AR13 -> 0 | CI13: =CI12+AS13 -> 0
A14: =MONTH(B14)&RIGHT(YEAR(B14),2) -> 109 | B14: 39824 | AT14: =AX14+AY14 -> 0 | AU14: =AZ14+BA14+BB14 -> 0 | AV14: =BC14+BD14 -> 0 | AW14: =BE14+BF14+BG14 -> 0 | BY14: =BT14+BV14 -> 0 | BZ14: =BU14+BW14+BX14 -> 0 | CA14: =CA13+BO14-BT14 -> 716 | CB14: =CB13+BP14-BU14 -> 0 | CC14: =CC13+BQ14-BV14 -> 0 | CD14: =CD13+BR14-BW14 -> 0 | CE14: =CE13+BS14-BX14 -> 0 | CF14: =CA14+CC14 -> 716 | CG14: =CB14+CD14+CE14 -> 0 | CH14: =CH13+AR14 -> 0 | CI14: =CI13+AS14 -> 0
A15: =MONTH(B15)&RIGHT(YEAR(B15),2) -> 109 | B15: 39825 | AT15: =AX15+AY15 -> 0 | AU15: =AZ15+BA15+BB15 -> 0 | AV15: =BC15+BD15 -> 0 | AW15: =BE15+BF15+BG15 -> 0 | BY15: =BT15+BV15 -> 0 | BZ15: =BU15+BW15+BX15 -> 0 | CA15: =CA14+BO15-BT15 -> 716 | CB15: =CB14+BP15-BU15 -> 0 | CC15: =CC14+BQ15-BV15 -> 0 | CD15: =CD14+BR15-BW15 -> 0 | CE15: =CE14+BS15-BX15 -> 0 | CF15: =CA15+CC15 -> 716 | CG15: =CB15+CD15+CE15 -> 0 | CH15: =CH14+AR15 -> 0 | CI15: =CI14+AS15 -> 0
A16: =MONTH(B16)&RIGHT(YEAR(B16),2) -> 109 | B16: 39826 | AT16: =AX16+AY16 -> 0 | AU16: =AZ16+BA16+BB16 -> 0 | AV16: =BC16+BD16 -> 0 | AW16: =BE16+BF16+BG16 -> 0 | BY16: =BT16+BV16 -> 0 | BZ16: =BU16+BW16+BX16 -> 0 | CA16: =CA15+BO16-BT16 -> 716 | CB16: =CB15+BP16-BU16 -> 0 | CC16: =CC15+BQ16-BV16 -> 0 | CD16: =CD15+BR16-BW16 -> 0 | CE16: =CE15+BS16-BX16 -> 0 | CF16: =CA16+CC16 -> 716 | CG16: =CB16+CD16+CE16 -> 0 | CH16: =CH15+AR16 -> 0 | CI16: =CI15+AS16 -> 0
... A45: =MONTH(B45)&RIGHT(YEAR(B45),2) -> 209 | B45: 39855 | AT45: =AX45+AY45 -> 0 | AU45: =AZ45+BA45+BB45 -> 0 | AV45: =BC45+BD45 -> 0 | AW45: =BE45+BF45+BG45 -> 0 | BY45: =BT45+BV45 -> 0 | BZ45: =BU45+BW45+BX45 -> 0 | CA45: =CA44+BO45-BT45 -> 716 | CB45: =CB44+BP45-BU45 -> 0 | CC45: =CC44+BQ45-BV45 -> 0 | CD45: =CD44+BR45-BW45 -> 0 | CE45: =CE44+BS45-BX45 -> 0 | CF45: =CA45+CC45 -> 716 | CG45: =CB45+CD45+CE45 -> 0 | CH45: =CH44+AR45 -> 0 | CI45: =CI44+AS45 -> 0
A46: =MONTH(B46)&RIGHT(YEAR(B46),2) -> 209 | B46: 39856 | D46: 17 | E46: 17 | F46: 17 | H46: 17 | I46: 17 | M46: 17 | N46: 17 | O46: 17 | P46: 17 | Q46: 17 | R46: 17 | S46: 17 | T46: 17 | V46: 17 | W46: 17 | X46: 17 | Y46: 17 | Z46: 17 | AA46: 17 | AB46: 17 | AD46: 17 | AE46: 17 | AF46: 17 | AG46: 17 | AH46: 17 | AI46: 17 | AK46: 17 | AL46: 17 | AO46: 17 | AQ46: 17 | AR46: 17 | AT46: =AX46+AY46 -> 17 | AU46: =AZ46+BA46+BB46 -> 0 | AV46: =BC46+BD46 -> 0 | AW46: =BE46+BF46+BG46 -> 0 | AX46: 17 | BK46: 5 | BL46: 4 | BO46: 17 | BY46: =BT46+BV46 -> 0 | BZ46: =BU46+BW46+BX46 -> 0 | CA46: =CA45+BO46-BT46 -> 733 | CB46: =CB45+BP46-BU46 -> 0 | CC46: =CC45+BQ46-BV46 -> 0 | CD46: =CD45+BR46-BW46 -> 0 | CE46: =CE45+BS46-BX46 -> 0 | CF46: =CA46+CC46 -> 733 | CG46: =CB46+CD46+CE46 -> 0 | CH46: =CH45+AR46 -> 17 | CI46: =CI45+AS46 -> 0
A47: =MONTH(B47)&RIGHT(YEAR(B47),2) -> 209 | B47: 39857 | D47: 18 | E47: 18 | F47: 18 | H47: 18 | I47: 18 | M47: 18 | N47: 18 | O47: 18 | P47: 18 | Q47: 18 | R47: 18 | S47: 18 | T47: 18 | V47: 18 | W47: 18 | X47: 18 | Y47: 18 | Z47: 18 | AA47: 18 | AB47: 18 | AD47: 18 | AE47: 18 | AF47: 18 | AG47: 18 | AH47: 18 | AI47: 18 | AK47: 18 | AL47: 18 | AO47: 18 | AQ47: 18 | AR47: 18 | AT47: =AX47+AY47 -> 18 | AU47: =AZ47+BA47+BB47 -> 0 | AV47: =BC47+BD47 -> 0 | AW47: =BE47+BF47+BG47 -> 0 | AX47: 18 | BK47: 4 | BL47: 5 | BO47: 17 | BY47: =BT47+BV47 -> 0 | BZ47: =BU47+BW47+BX47 -> 0 | CA47: =CA46+BO47-BT47 -> 750 | CB47: =CB46+BP47-BU47 -> 0 | CC47: =CC46+BQ47-BV47 -> 0 | CD47: =CD46+BR47-BW47 -> 0 | CE47: =CE46+BS47-BX47 -> 0 | CF47: =CA47+CC47 -> 750 | CG47: =CB47+CD47+CE47 -> 0 | CH47: =CH46+AR47 -> 35 | CI47: =CI46+AS47 -> 0
A48: =MONTH(B48)&RIGHT(YEAR(B48),2) -> 209 | B48: 39858 | AT48: =AX48+AY48 -> 0 | AU48: =AZ48+BA48+BB48 -> 0 | AV48: =BC48+BD48 -> 0 | AW48: =BE48+BF48+BG48 -> 0 | BY48: =BT48+BV48 -> 0 | BZ48: =BU48+BW48+BX48 -> 0 | CA48: =CA47+BO48-BT48 -> 750 | CB48: =CB47+BP48-BU48 -> 0 | CC48: =CC47+BQ48-BV48 -> 0 | CD48: =CD47+BR48-BW48 -> 0 | CE48: =CE47+BS48-BX48 -> 0 | CF48: =CA48+CC48 -> 750 | CG48: =CB48+CD48+CE48 -> 0 | CH48: =CH47+AR48 -> 35 | CI48: =CI47+AS48 -> 0
A49: =MONTH(B49)&RIGHT(YEAR(B49),2) -> 209 | B49: 39859 | AT49: =AX49+AY49 -> 0 | AU49: =AZ49+BA49+BB49 -> 0 | AV49: =BC49+BD49 -> 0 | AW49: =BE49+BF49+BG49 -> 0 | BY49: =BT49+BV49 -> 0 | BZ49: =BU49+BW49+BX49 -> 0 | CA49: =CA48+BO49-BT49 -> 750 | CB49: =CB48+BP49-BU49 -> 0 | CC49: =CC48+BQ49-BV49 -> 0 | CD49: =CD48+BR49-BW49 -> 0 | CE49: =CE48+BS49-BX49 -> 0 | CF49: =CA49+CC49 -> 750 | CG49: =CB49+CD49+CE49 -> 0 | CH49: =CH48+AR49 -> 35 | CI49: =CI48+AS49 -> 0
A50: =MONTH(B50)&RIGHT(YEAR(B50),2) -> 209 | B50: 39860 | D50: 19 | E50: 19 | F50: 19 | H50: 19 | I50: 19 | M50: 19 | N50: 19 | O50: 19 | P50: 19 | Q50: 19 | R50: 19 | S50: 19 | T50: 19 | V50: 19 | W50: 19 | X50: 19 | Y50: 19 | Z50: 19 | AA50: 19 | AB50: 19 | AD50: 19 | AE50: 19 | AF50: 19 | AG50: 19 | AH50: 19 | AI50: 19 | AK50: 19 | AL50: 19 | AO50: 19 | AQ50: 19 | AR50: 19 | AT50: =AX50+AY50 -> 19 | AU50: =AZ50+BA50+BB50 -> 0 | AV50: =BC50+BD50 -> 0 | AW50: =BE50+BF50+BG50 -> 0 | AX50: 19 | BK50: 5 | BL50: 4 | BO50: 18 | BY50: =BT50+BV50 -> 0 | BZ50: =BU50+BW50+BX50 -> 0 | CA50: =CA49+BO50-BT50 -> 768 | CB50: =CB49+BP50-BU50 -> 0 | CC50: =CC49+BQ50-BV50 -> 0 | CD50: =CD49+BR50-BW50 -> 0 | CE50: =CE49+BS50-BX50 -> 0 | CF50: =CA50+CC50 -> 768 | CG50: =CB50+CD50+CE50 -> 0 | CH50: =CH49+AR50 -> 54 | CI50: =CI49+AS50 -> 0
A51: =MONTH(B51)&RIGHT(YEAR(B51),2) -> 209 | B51: 39861 | D51: 20 | E51: 20 | F51: 20 | H51: 20 | I51: 20 | M51: 20 | N51: 20 | O51: 20 | P51: 20 | Q51: 20 | R51: 20 | S51: 20 | T51: 20 | V51: 20 | W51: 20 | X51: 20 | Y51: 20 | Z51: 20 | AA51: 20 | AB51: 20 | AD51: 20 | AE51: 20 | AF51: 20 | AG51: 20 | AH51: 20 | AI51: 20 | AK51: 20 | AL51: 20 | AO51: 20 | AQ51: 20 | AR51: 20 | AT51: =AX51+AY51 -> 20 | AU51: =AZ51+BA51+BB51 -> 0 | AV51: =BC51+BD51 -> 0 | AW51: =BE51+BF51+BG51 -> 0 | AX51: 20 | BK51: 5 | BL51: 5 | BO51: 19 | BY51: =BT51+BV51 -> 0 | BZ51: =BU51+BW51+BX51 -> 0 | CA51: =CA50+BO51-BT51 -> 787 | CB51: =CB50+BP51-BU51 -> 0 | CC51: =CC50+BQ51-BV51 -> 0 | CD51: =CD50+BR51-BW51 -> 0 | CE51: =CE50+BS51-BX51 -> 0 | CF51: =CA51+CC51 -> 787 | CG51: =CB51+CD51+CE51 -> 0 | CH51: =CH50+AR51 -> 74 | CI51: =CI50+AS51 -> 0
A52: =MONTH(B52)&RIGHT(YEAR(B52),2) -> 209 | B52: 39862 | D52: 20 | E52: 20 | F52: 20 | H52: 20 | I52: 20 | M52: 20 | N52: 20 | O52: 20 | P52: 20 | Q52: 20 | R52: 20 | S52: 20 | T52: 20 | V52: 20 | W52: 20 | X52: 20 | Y52: 20 | Z52: 20 | AA52: 20 | AB52: 20 | AD52: 20 | AE52: 20 | AF52: 20 | AG52: 20 | AH52: 20 | AI52: 20 | AK52: 20 | AL52: 20 | AO52: 20 | AQ52: 20 | AR52: 20 | AT52: =AX52+AY52 -> 20 | AU52: =AZ52+BA52+BB52 -> 0 | AV52: =BC52+BD52 -> 0 | AW52: =BE52+BF52+BG52 -> 0 | AX52: 20 | BK52: 5 | BL52: 5 | BO52: 20 | BY52: =BT52+BV52 -> 0 | BZ52: =BU52+BW52+BX52 -> 0 | CA52: =CA51+BO52-BT52 -> 807 | CB52: =CB51+BP52-BU52 -> 0 | CC52: =CC51+BQ52-BV52 -> 0 | CD52: =CD51+BR52-BW52 -> 0 | CE52: =CE51+BS52-BX52 -> 0 | CF52: =CA52+CC52 -> 807 | CG52: =CB52+CD52+CE52 -> 0 | CH52: =CH51+AR52 -> 94 | CI52: =CI51+AS52 -> 0
A53: =MONTH(B53)&RIGHT(YEAR(B53),2) -> 209 | B53: 39863 | D53: 20 | E53: 20 | F53: 20 | H53: 20 | I53: 20 | M53: 20 | N53: 20 | O53: 20 | P53: 20 | Q53: 20 | R53: 20 | S53: 20 | T53: 20 | V53: 20 | W53: 20 | X53: 20 | Y53: 20 | Z53: 20 | AA53: 20 | AB53: 20 | AD53: 20 | AE53: 20 | AF53: 20 | AG53: 20 | AH53: 20 | AI53: 20 | AK53: 20 | AL53: 20 | AO53: 20 | AQ53: 20 | AR53: 20 | AT53: =AX53+AY53 -> 20 | AU53: =AZ53+BA53+BB53 -> 0 | AV53: =BC53+BD53 -> 0 | AW53: =BE53+BF53+BG53 -> 0 | AX53: 20 | BK53: 5 | BL53: 5 | BO53: 20 | BY53: =BT53+BV53 -> 0 | BZ53: =BU53+BW53+BX53 -> 0 | CA53: =CA52+BO53-BT53 -> 827 | CB53: =CB52+BP53-BU53 -> 0 | CC53: =CC52+BQ53-BV53 -> 0 | CD53: =CD52+BR53-BW53 -> 0 | CE53: =CE52+BS53-BX53 -> 0 | CF53: =CA53+CC53 -> 827 | CG53: =CB53+CD53+CE53 -> 0 | CH53: =CH52+AR53 -> 114 | CI53: =CI52+AS53 -> 0
A54: =MONTH(B54)&RIGHT(YEAR(B54),2) -> 209 | B54: 39864 | D54: 20 | E54: 20 | F54: 20 | H54: 20 | I54: 20 | M54: 20 | N54: 20 | O54: 20 | P54: 20 | Q54: 20 | R54: 20 | S54: 20 | T54: 20 | V54: 20 | W54: 20 | X54: 20 | Y54: 20 | Z54: 20 | AA54: 20 | AB54: 20 | AD54: 20 | AE54: 20 | AF54: 20 | AG54: 20 | AH54: 20 | AI54: 20 | AK54: 20 | AL54: 20 | AO54: 20 | AQ54: 20 | AR54: 20 | AT54: =AX54+AY54 -> 20 | AU54: =AZ54+BA54+BB54 -> 0 | AV54: =BC54+BD54 -> 0 | AW54: =BE54+BF54+BG54 -> 0 | AX54: 20 | BK54: 5 | BL54: 5 | BO54: 20 | BY54: =BT54+BV54 -> 0 | BZ54: =BU54+BW54+BX54 -> 0 | CA54: =CA53+BO54-BT54 -> 847 | CB54: =CB53+BP54-BU54 -> 0 | CC54: =CC53+BQ54-BV54 -> 0 | CD54: =CD53+BR54-BW54 -> 0 | CE54: =CE53+BS54-BX54 -> 0 | CF54: =CA54+CC54 -> 847 | CG54: =CB54+CD54+CE54 -> 0 | CH54: =CH53+AR54 -> 134 | CI54: =CI53+AS54 -> 0
A55: =MONTH(B55)&RIGHT(YEAR(B55),2) -> 209 | B55: 39865 | AT55: =AX55+AY55 -> 0 | AU55: =AZ55+BA55+BB55 -> 0 | AV55: =BC55+BD55 -> 0 | AW55: =BE55+BF55+BG55 -> 0 | BY55: =BT55+BV55 -> 0 | BZ55: =BU55+BW55+BX55 -> 0 | CA55: =CA54+BO55-BT55 -> 847 | CB55: =CB54+BP55-BU55 -> 0 | CC55: =CC54+BQ55-BV55 -> 0 | CD55: =CD54+BR55-BW55 -> 0 | CE55: =CE54+BS55-BX55 -> 0 | CF55: =CA55+CC55 -> 847 | CG55: =CB55+CD55+CE55 -> 0 | CH55: =CH54+AR55 -> 134 | CI55: =CI54+AS55 -> 0
A56: =MONTH(B56)&RIGHT(YEAR(B56),2) -> 209 | B56: 39866 | AT56: =AX56+AY56 -> 0 | AU56: =AZ56+BA56+BB56 -> 0 | AV56: =BC56+BD56 -> 0 | AW56: =BE56+BF56+BG56 -> 0 | BY56: =BT56+BV56 -> 0 | BZ56: =BU56+BW56+BX56 -> 0 | CA56: =CA55+BO56-BT56 -> 847 | CB56: =CB55+BP56-BU56 -> 0 | CC56: =CC55+BQ56-BV56 -> 0 | CD56: =CD55+BR56-BW56 -> 0 | CE56: =CE55+BS56-BX56 -> 0 | CF56: =CA56+CC56 -> 847 | CG56: =CB56+CD56+CE56 -> 0 | CH56: =CH55+AR56 -> 134 | CI56: =CI55+AS56 -> 0
A57: =MONTH(B57)&RIGHT(YEAR(B57),2) -> 209 | B57: 39867 | AT57: =AX57+AY57 -> 0 | AU57: =AZ57+BA57+BB57 -> 0 | AV57: =BC57+BD57 -> 0 | AW57: =BE57+BF57+BG57 -> 0 | BY57: =BT57+BV57 -> 0 | BZ57: =BU57+BW57+BX57 -> 0 | CA57: =CA56+BO57-BT57 -> 847 | CB57: =CB56+BP57-BU57 -> 0 | CC57: =CC56+BQ57-BV57 -> 0 | CD57: =CD56+BR57-BW57 -> 0 | CE57: =CE56+BS57-BX57 -> 0 | CF57: =CA57+CC57 -> 847 | CG57: =CB57+CD57+CE57 -> 0 | CH57: =CH56+AR57 -> 134 | CI57: =CI56+AS57 -> 0
A58: =MONTH(B58)&RIGHT(YEAR(B58),2) -> 209 | B58: 39868 | D58: 20 | E58: 20 | F58: 20 | H58: 20 | I58: 20 | M58: 20 | N58: 20 | O58: 20 | P58: 20 | Q58: 20 | R58: 20 | S58: 20 | T58: 20 | V58: 20 | W58: 20 | X58: 20 | Y58: 20 | Z58: 20 | AA58: 20 | AB58: 20 | AD58: 20 | AE58: 20 | AF58: 20 | AG58: 20 | AH58: 20 | AI58: 20 | AK58: 20 | AL58: 20 | AO58: 20 | AQ58: 20 | AR58: 20 | AT58: =AX58+AY58 -> 20 | AU58: =AZ58+BA58+BB58 -> 0 | AV58: =BC58+BD58 -> 0 | AW58: =BE58+BF58+BG58 -> 0 | AX58: 20 | BK58: 5 | BL58: 5 | BO58: 20 | BY58: =BT58+BV58 -> 0 | BZ58: =BU58+BW58+BX58 -> 0 | CA58: =CA57+BO58-BT58 -> 867 | CB58: =CB57+BP58-BU58 -> 0 | CC58: =CC57+BQ58-BV58 -> 0 | CD58: =CD57+BR58-BW58 -> 0 | CE58: =CE57+BS58-BX58 -> 0 | CF58: =CA58+CC58 -> 867 | CG58: =CB58+CD58+CE58 -> 0 | CH58: =CH57+AR58 -> 154 | CI58: =CI57+AS58 -> 0
A59: =MONTH(B59)&RIGHT(YEAR(B59),2) -> 209 | B59: 39869 | D59: 20 | E59: 20 | F59: 20 | H59: 20 | I59: 20 | M59: 20 | N59: 20 | O59: 20 | P59: 20 | Q59: 20 | R59: 20 | S59: 20 | T59: 20 | V59: 20 | W59: 20 | X59: 20 | Y59: 20 | Z59: 20 | AA59: 20 | AB59: 20 | AD59: 20 | AE59: 20 | AF59: 20 | AG59: 20 | AH59: 20 | AI59: 20 | AK59: 20 | AL59: 20 | AO59: 20 | AQ59: 20 | AR59: 20 | AT59: =AX59+AY59 -> 20 | AU59: =AZ59+BA59+BB59 -> 0 | AV59: =BC59+BD59 -> 0 | AW59: =BE59+BF59+BG59 -> 0 | AX59: 20 | BK59: 5 | BL59: 5 | BO59: 20 | BY59: =BT59+BV59 -> 0 | BZ59: =BU59+BW59+BX59 -> 0 | CA59: =CA58+BO59-BT59 -> 887 | CB59: =CB58+BP59-BU59 -> 0 | CC59: =CC58+BQ59-BV59 -> 0 | CD59: =CD58+BR59-BW59 -> 0 | CE59: =CE58+BS59-BX59 -> 0 | CF59: =CA59+CC59 -> 887 | CG59: =CB59+CD59+CE59 -> 0 | CH59: =CH58+AR59 -> 174 | CI59: =CI58+AS59 -> 0
A60: =MONTH(B60)&RIGHT(YEAR(B60),2) -> 209 | B60: 39870 | D60: 20 | E60: 20 | F60: 20 | H60: 20 | I60: 20 | M60: 20 | N60: 20 | O60: 20 | P60: 20 | Q60: 20 | R60: 20 | S60: 20 | T60: 20 | V60: 20 | W60: 20 | X60: 20 | Y60: 20 | Z60: 20 | AA60: 20 | AB60: 20 | AD60: 20 | AE60: 20 | AF60: 20 | AG60: 20 | AH60: 20 | AI60: 20 | AK60: 20 | AL60: 20 | AO60: 20 | AQ60: 20 | AR60: 20 | AT60: =AX60+AY60 -> 20 | AU60: =AZ60+BA60+BB60 -> 0 | AV60: =BC60+BD60 -> 0 | AW60: =BE60+BF60+BG60 -> 0 | AX60: 20 | BK60: 5 | BL60: 5 | BO60: 20 | BY60: =BT60+BV60 -> 0 | BZ60: =BU60+BW60+BX60 -> 0 | CA60: =CA59+BO60-BT60 -> 907 | CB60: =CB59+BP60-BU60 -> 0 | CC60: =CC59+BQ60-BV60 -> 0 | CD60: =CD59+BR60-BW60 -> 0 | CE60: =CE59+BS60-BX60 -> 0 | CF60: =CA60+CC60 -> 907 | CG60: =CB60+CD60+CE60 -> 0 | CH60: =CH59+AR60 -> 194 | CI60: =CI59+AS60 -> 0
A61: =MONTH(B61)&RIGHT(YEAR(B61),2) -> 209 | B61: 39871 | D61: 20 | E61: 20 | F61: 20 | H61: 20 | I61: 20 | M61: 20 | N61: 20 | O61: 20 | P61: 20 | Q61: 20 | R61: 20 | S61: 20 | T61: 20 | V61: 20 | W61: 20 | X61: 20 | Y61: 20 | Z61: 20 | AA61: 20 | AB61: 20 | AD61: 20 | AE61: 20 | AF61: 20 | AG61: 20 | AH61: 20 | AI61: 20 | AK61: 20 | AL61: 20 | AO61: 20 | AQ61: 20 | AR61: 20 | AT61: =AX61+AY61 -> 20 | AU61: =AZ61+BA61+BB61 -> 0 | AV61: =BC61+BD61 -> 0 | AW61: =BE61+BF61+BG61 -> 0 | AX61: 20 | BK61: 5 | BL61: 5 | BO61: 20 | BY61: =BT61+BV61 -> 0 | BZ61: =BU61+BW61+BX61 -> 0 | CA61: =CA60+BO61-BT61 -> 927 | CB61: =CB60+BP61-BU61 -> 0 | CC61: =CC60+BQ61-BV61 -> 0 | CD61: =CD60+BR61-BW61 -> 0 | CE61: =CE60+BS61-BX61 -> 0 | CF61: =CA61+CC61 -> 927 | CG61: =CB61+CD61+CE61 -> 0 | CH61: =CH60+AR61 -> 214 | CI61: =CI60+AS61 -> 0
A62: =MONTH(B62)&RIGHT(YEAR(B62),2) -> 209 | B62: 39872 | AT62: =AX62+AY62 -> 0 | AU62: =AZ62+BA62+BB62 -> 0 | AV62: =BC62+BD62 -> 0 | AW62: =BE62+BF62+BG62 -> 0 | BY62: =BT62+BV62 -> 0 | BZ62: =BU62+BW62+BX62 -> 0 | CA62: =CA61+BO62-BT62 -> 927 | CB62: =CB61+BP62-BU62 -> 0 | CC62: =CC61+BQ62-BV62 -> 0 | CD62: =CD61+BR62-BW62 -> 0 | CE62: =CE61+BS62-BX62 -> 0 | CF62: =CA62+CC62 -> 927 | CG62: =CB62+CD62+CE62 -> 0 | CH62: =CH61+AR62 -> 214 | CI62: =CI61+AS62 -> 0
A63: =MONTH(B63)&RIGHT(YEAR(B63),2) -> 309 | B63: 39873 | AT63: =AX63+AY63 -> 0 | AU63: =AZ63+BA63+BB63 -> 0 | AV63: =BC63+BD63 -> 0 | AW63: =BE63+BF63+BG63 -> 0 | BY63: =BT63+BV63 -> 0 | BZ63: =BU63+BW63+BX63 -> 0 | CA63: =CA62+BO63-BT63 -> 927 | CB63: =CB62+BP63-BU63 -> 0 | CC63: =CC62+BQ63-BV63 -> 0 | CD63: =CD62+BR63-BW63 -> 0 | CE63: =CE62+BS63-BX63 -> 0 | CF63: =CA63+CC63 -> 927 | CG63: =CB63+CD63+CE63 -> 0 | CH63: =CH62+AR63 -> 214 | CI63: =CI62+AS63 -> 0
A64: =MONTH(B64)&RIGHT(YEAR(B64),2) -> 309 | B64: 39874 | D64: 20 | E64: 20 | F64: 20 | H64: 20 | I64: 20 | M64: 20 | N64: 20 | O64: 20 | P64: 20 | Q64: 20 | R64: 20 | S64: 20 | T64: 20 | V64: 20 | W64: 20 | X64: 20 | Y64: 20 | Z64: 20 | AA64: 20 | AB64: 20 | AD64: 20 | AE64: 20 | AF64: 20 | AG64: 20 | AH64: 20 | AI64: 20 | AK64: 20 | AL64: 20 | AN64: 20 | AO64: 20 | AQ64: 20 | AR64: 20 | AT64: =AX64+AY64 -> 20 | AU64: =AZ64+BA64+BB64 -> 0 | AV64: =BC64+BD64 -> 0 | AW64: =BE64+BF64+BG64 -> 0 | AX64: 20 | BK64: 5 | BL64: 5 | BO64: 20 | BY64: =BT64+BV64 -> 0 | BZ64: =BU64+BW64+BX64 -> 0 | CA64: =CA63+BO64-BT64 -> 947 | CB64: =CB63+BP64-BU64 -> 0 | CC64: =CC63+BQ64-BV64 -> 0 | CD64: =CD63+BR64-BW64 -> 0 | CE64: =CE63+BS64-BX64 -> 0 | CF64: =CA64+CC64 -> 947 | CG64: =CB64+CD64+CE64 -> 0 | CH64: =CH63+AR64 -> 234 | CI64: =CI63+AS64 -> 0
A65: =MONTH(B65)&RIGHT(YEAR(B65),2) -> 309 | B65: 39875 | D65: 20 | E65: 20 | F65: 20 | H65: 20 | I65: 20 | M65: 20 | N65: 20 | O65: 20 | P65: 20 | Q65: 20 | R65: 20 | S65: 20 | T65: 20 | V65: 20 | W65: 20 | X65: 20 | Y65: 20 | Z65: 20 | AA65: 20 | AB65: 20 | AD65: 20 | AE65: 20 | AF65: 20 | AG65: 20 | AH65: 20 | AI65: 20 | AK65: 20 | AL65: 20 | AN65: 20 | AO65: 20 | AQ65: 20 | AR65: 20 | AT65: =AX65+AY65 -> 20 | AU65: =AZ65+BA65+BB65 -> 0 | AV65: =BC65+BD65 -> 0 | AW65: =BE65+BF65+BG65 -> 0 | AX65: 20 | BK65: 5 | BL65: 5 | BO65: 20 | BY65: =BT65+BV65 -> 0 | BZ65: =BU65+BW65+BX65 -> 0 | CA65: =CA64+BO65-BT65 -> 967 | CB65: =CB64+BP65-BU65 -> 0 | CC65: =CC64+BQ65-BV65 -> 0 | CD65: =CD64+BR65-BW65 -> 0 | CE65: =CE64+BS65-BX65 -> 0 | CF65: =CA65+CC65 -> 967 | CG65: =CB65+CD65+CE65 -> 0 | CH65: =CH64+AR65 -> 254 | CI65: =CI64+AS65 -> 0
A66: =MONTH(B66)&RIGHT(YEAR(B66),2) -> 309 | B66: 39876 | D66: 20 | E66: 20 | F66: 20 | H66: 20 | I66: 20 | M66: 20 | N66: 20 | O66: 20 | P66: 20 | Q66: 20 | R66: 20 | S66: 20 | T66: 20 | V66: 20 | W66: 20 | X66: 20 | Y66: 20 | Z66: 20 | AA66: 20 | AB66: 20 | AD66: 20 | AE66: 20 | AF66: 20 | AG66: 20 | AH66: 20 | AI66: 20 | AK66: 20 | AL66: 20 | AN66: 20 | AO66: 20 | AQ66: 20 | AR66: 20 | AT66: =AX66+AY66 -> 20 | AU66: =AZ66+BA66+BB66 -> 0 | AV66: =BC66+BD66 -> 0 | AW66: =BE66+BF66+BG66 -> 0 | AX66: 20 | BK66: 5 | BL66: 5 | BO66: 20 | BY66: =BT66+BV66 -> 0 | BZ66: =BU66+BW66+BX66 -> 0 | CA66: =CA65+BO66-BT66 -> 987 | CB66: =CB65+BP66-BU66 -> 0 | CC66: =CC65+BQ66-BV66 -> 0 | CD66: =CD65+BR66-BW66 -> 0 | CE66: =CE65+BS66-BX66 -> 0 | CF66: =CA66+CC66 -> 987 | CG66: =CB66+CD66+CE66 -> 0 | CH66: =CH65+AR66 -> 274 | CI66: =CI65+AS66 -> 0
A67: =MONTH(B67)&RIGHT(YEAR(B67),2) -> 309 | B67: 39877 | D67: 20 | E67: 20 | F67: 20 | H67: 20 | I67: 20 | M67: 20 | N67: 20 | O67: 20 | P67: 20 | Q67: 20 | R67: 20 | S67: 20 | T67: 20 | V67: 20 | W67: 20 | X67: 20 | Y67: 20 | Z67: 20 | AA67: 20 | AB67: 20 | AD67: 20 | AE67: 20 | AF67: 20 | AG67: 20 | AH67: 20 | AI67: 20 | AK67: 20 | AL67: 20 | AN67: 20 | AO67: 20 | AQ67: 20 | AR67: 20 | AT67: =AX67+AY67 -> 20 | AU67: =AZ67+BA67+BB67 -> 0 | AV67: =BC67+BD67 -> 0 | AW67: =BE67+BF67+BG67 -> 0 | AX67: 20 | BK67: 5 | BL67: 5 | BO67: 20 | BY67: =BT67+BV67 -> 0 | BZ67: =BU67+BW67+BX67 -> 0 | CA67: =CA66+BO67-BT67 -> 1007 | CB67: =CB66+BP67-BU67 -> 0 | CC67: =CC66+BQ67-BV67 -> 0 | CD67: =CD66+BR67-BW67 -> 0 | CE67: =CE66+BS67-BX67 -> 0 | CF67: =CA67+CC67 -> 1007 | CG67: =CB67+CD67+CE67 -> 0 | CH67: =CH66+AR67 -> 294 | CI67: =CI66+AS67 -> 0
A68: =MONTH(B68)&RIGHT(YEAR(B68),2) -> 309 | B68: 39878 | D68: 20 | E68: 20 | F68: 20 | H68: 20 | I68: 20 | M68: 20 | N68: 20 | O68: 20 | P68: 20 | Q68: 20 | R68: 20 | S68: 20 | T68: 20 | V68: 20 | W68: 20 | X68: 20 | Y68: 20 | Z68: 20 | AA68: 20 | AB68: 20 | AD68: 20 | AE68: 20 | AF68: 20 | AG68: 20 | AH68: 20 | AI68: 20 | AK68: 20 | AL68: 20 | AN68: 20 | AO68: 20 | AQ68: 20 | AR68: 20 | AT68: =AX68+AY68 -> 20 | AU68: =AZ68+BA68+BB68 -> 0 | AV68: =BC68+BD68 -> 0 | AW68: =BE68+BF68+BG68 -> 0 | AX68: 20 | BK68: 5 | BL68: 5 | BO68: 20 | BY68: =BT68+BV68 -> 0 | BZ68: =BU68+BW68+BX68 -> 0 | CA68: =CA67+BO68-BT68 -> 1027 | CB68: =CB67+BP68-BU68 -> 0 | CC68: =CC67+BQ68-BV68 -> 0 | CD68: =CD67+BR68-BW68 -> 0 | CE68: =CE67+BS68-BX68 -> 0 | CF68: =CA68+CC68 -> 1027 | CG68: =CB68+CD68+CE68 -> 0 | CH68: =CH67+AR68 -> 314 | CI68: =CI67+AS68 -> 0
...

Sheet Произв_Факт
T1: Прошло | AB1: Прошло | AI1: Прошло | AL1: Прошло | AO1: Прошло | AR1: Прошло | AT1: Всего за день | AX1: Прошло | BC1: Осталось | BO1: Отгружено на сбыт | BQ1: Отгружено для производства экскаваторов | BT1: Реализовано | BY1: Всего | CA1: Остатки | CF1: Всего | CH1: ОТК остатки
C2: Подсборка | T2: Модель | V2: Грузы | AA2: Эстакада | AB2: Модель | AD2: Тормозной стенд | AE2: Маскировка | AF2: Окраска | AG2: Сушка | AH2: Демаскировка | AI2: Модель | AK2: Юбочные изделия | AL2: Модель | AN2: Доводка | AO2: Модель | AQ2: ОТК | AR2: Модель | AT2: Прошло | AV2: Остаток на конвейере | AX2: 1221 | AY2: 1221 | AZ2: 826 | BA2: 826 | BB2: 826 | BC2: 1221 | BD2: 1221 | BE2: 826 | BF2: 826 | BG2: 826 | BH2: Установка передних спаренных колес | BI2: Установка задних спаренных колес | BJ2: Установка устройства облегчающего запуск | BK2: Установка капотных кондиционеров | BL2: Установка накрышных кондиционеров | BM2: Сборка колес | BN2: Ремонт колес | BO2: 1221 | BP2: 826 | BQ2: 1221 | BR2: 826 | BS2: 826 | BT2: 1221 | BU2: 826 | BV2: 1221 | BW2: 826 | BX2: 826 | BY2: 1221 | BZ2: 826 | CA2: 1221 | CB2: 826 | CC2: 1221 | CD2: 826 | CE2: 826 | CF2: 1221 | CG2: 826 | CH2: Модель
B3: Дата | C3: Пост1 | D3: Пост2 | E3: Пост3 | F3: Пост4 | G3: Пост5 | H3: Пост6 | I3: Пост7 | J3: Пост8 | K3: Пост9 | L3: Пост10 | M3: Сборка кабин | N3: Сборка капотов | O3: Пост1 | P3: Пост2 | Q3: Пост3 | R3: Пост4 | S3: Пост5 | T3: 1221 | U3: 826 | V3: T1 | W3: Пост6 | X3: Пост7 | Y3: Пост8 | Z3: Пост9 | AA3: Пост10 | AB3: 1221 | AC3: 826 | AD3: T2 | AE3: Пост11 | AF3: Пост12 | AG3: Пост13 | AH3: Пост14 | AI3: 1221 | AJ3: 826 | AK3: Пост15 | AL3: 1221 | AM3: 826 | AN3: Пост16 | AO3: 1221 | AP3: 826 | AQ3: Пост17 | AR3: 1221 | AS3: 826 | AT3: 1221 | AU3: 826 | AV3: 1221 | AW3: 826 | AX3: трактор | AY3: погрузчик | AZ3: трактор | BA3: погрузчик | BB3: экскаватор погрузчик | BC3: трактор | BD3: погрузчик | BE3: трактор | BF3: погрузчик | BG3: экскаватор погрузчик | BQ3: погрузчик | BR3: погрузчик | BS3: экскаватор погрузчик | BV3: погрузчик | BW3: погрузчик | BX3: экскаватор погрузчик | CC3: погрузчик | CD3: погрузчик | CE3: экскаватор погрузчик | CH3: 1221 | CI3: 826
A4: =MONTH(B4)&RIGHT(YEAR(B4),2) -> 109 | B4: 39814 | AT4: =AX4+AY4 -> 0 | AU4: =AZ4+BA4+BB4 -> 0 | AV4: =BC4+BD4 -> 0 | AW4: =BE4+BF4+BG4 -> 0 | BY4: =BT4+BV4 -> 0 | BZ4: =BU4+BW4+BX4 -> 0 | CA4: 716 | CF4: =CA4+CC4 -> 716 | CG4: =CB4+CD4+CE4 -> 0
A5: =MONTH(B5)&RIGHT(YEAR(B5),2) -> 109 | B5: 39815 | AT5: =AX5+AY5 -> 0 | AU5: =AZ5+BA5+BB5 -> 0 | AV5: =BC5+BD5 -> 0 | AW5: =BE5+BF5+BG5 -> 0 | BY5: =BT5+BV5 -> 0 | BZ5: =BU5+BW5+BX5 -> 0 | CA5: =CA4+BO5-BT5 -> 716 | CB5: =CB4+BP5-BU5 -> 0 | CC5: =CC4+BQ5-BV5 -> 0 | CD5: =CD4+BR5-BW5 -> 0 | CE5: =CE4+BS5-BX5 -> 0 | CF5: =CA5+CC5 -> 716 | CG5: =CB5+CD5+CE5 -> 0 | CH5: =CH4+AR5 -> 0 | CI5: =CI4+AS5 -> 0
A6: =MONTH(B6)&RIGHT(YEAR(B6),2) -> 109 | B6: 39816 | AT6: =AX6+AY6 -> 0 | AU6: =AZ6+BA6+BB6 -> 0 | AV6: =BC6+BD6 -> 0 | AW6: =BE6+BF6+BG6 -> 0 | BY6: =BT6+BV6 -> 0 | BZ6: =BU6+BW6+BX6 -> 0 | CA6: =CA5+BO6-BT6 -> 716 | CB6: =CB5+BP6-BU6 -> 0 | CC6: =CC5+BQ6-BV6 -> 0 | CD6: =CD5+BR6-BW6 -> 0 | CE6: =CE5+BS6-BX6 -> 0 | CF6: =CA6+CC6 -> 716 | CG6: =CB6+CD6+CE6 -> 0 | CH6: =CH5+AR6 -> 0 | CI6: =CI5+AS6 -> 0
A7: =MONTH(B7)&RIGHT(YEAR(B7),2) -> 109 | B7: 39817 | AT7: =AX7+AY7 -> 0 | AU7: =AZ7+BA7+BB7 -> 0 | AV7: =BC7+BD7 -> 0 | AW7: =BE7+BF7+BG7 -> 0 | BY7: =BT7+BV7 -> 0 | BZ7: =BU7+BW7+BX7 -> 0 | CA7: =CA6+BO7-BT7 -> 716 | CB7: =CB6+BP7-BU7 -> 0 | CC7: =CC6+BQ7-BV7 -> 0 | CD7: =CD6+BR7-BW7 -> 0 | CE7: =CE6+BS7-BX7 -> 0 | CF7: =CA7+CC7 -> 716 | CG7: =CB7+CD7+CE7 -> 0 | CH7: =CH6+AR7 -> 0 | CI7: =CI6+AS7 -> 0
A8: =MONTH(B8)&RIGHT(YEAR(B8),2) -> 109 | B8: 39818 | AT8: =AX8+AY8 -> 0 | AU8: =AZ8+BA8+BB8 -> 0 | AV8: =BC8+BD8 -> 0 | AW8: =BE8+BF8+BG8 -> 0 | BY8: =BT8+BV8 -> 0 | BZ8: =BU8+BW8+BX8 -> 0 | CA8: =CA7+BO8-BT8 -> 716 | CB8: =CB7+BP8-BU8 -> 0 | CC8: =CC7+BQ8-BV8 -> 0 | CD8: =CD7+BR8-BW8 -> 0 | CE8: =CE7+BS8-BX8 -> 0 | CF8: =CA8+CC8 -> 716 | CG8: =CB8+CD8+CE8 -> 0 | CH8: =CH7+AR8 -> 0 | CI8: =CI7+AS8 -> 0
A9: =MONTH(B9)&RIGHT(YEAR(B9),2) -> 109 | B9: 39819 | AT9: =AX9+AY9 -> 0 | AU9: =AZ9+BA9+BB9 -> 0 | AV9: =BC9+BD9 -> 0 | AW9: =BE9+BF9+BG9 -> 0 | BY9: =BT9+BV9 -> 0 | BZ9: =BU9+BW9+BX9 -> 0 | CA9: =CA8+BO9-BT9 -> 716 | CB9: =CB8+BP9-BU9 -> 0 | CC9: =CC8+BQ9-BV9 -> 0 | CD9: =CD8+BR9-BW9 -> 0 | CE9: =CE8+BS9-BX9 -> 0 | CF9: =CA9+CC9 -> 716 | CG9: =CB9+CD9+CE9 -> 0 | CH9: =CH8+AR9 -> 0 | CI9: =CI8+AS9 -> 0
A10: =MONTH(B10)&RIGHT(YEAR(B10),2) -> 109 | B10: 39820 | AT10: =AX10+AY10 -> 0 | AU10: =AZ10+BA10+BB10 -> 0 | AV10: =BC10+BD10 -> 0 | AW10: =BE10+BF10+BG10 -> 0 | BY10: =BT10+BV10 -> 0 | BZ10: =BU10+BW10+BX10 -> 0 | CA10: =CA9+BO10-BT10 -> 716 | CB10: =CB9+BP10-BU10 -> 0 | CC10: =CC9+BQ10-BV10 -> 0 | CD10: =CD9+BR10-BW10 -> 0 | CE10: =CE9+BS10-BX10 -> 0 | CF10: =CA10+CC10 -> 716 | CG10: =CB10+CD10+CE10 -> 0 | CH10: =CH9+AR10 -> 0 | CI10: =CI9+AS10 -> 0
A11: =MONTH(B11)&RIGHT(YEAR(B11),2) -> 109 | B11: 39821 | AT11: =AX11+AY11 -> 0 | AU11: =AZ11+BA11+BB11 -> 0 | AV11: =BC11+BD11 -> 0 | AW11: =BE11+BF11+BG11 -> 0 | BY11: =BT11+BV11 -> 0 | BZ11: =BU11+BW11+BX11 -> 0 | CA11: =CA10+BO11-BT11 -> 716 | CB11: =CB10+BP11-BU11 -> 0 | CC11: =CC10+BQ11-BV11 -> 0 | CD11: =CD10+BR11-BW11 -> 0 | CE11: =CE10+BS11-BX11 -> 0 | CF11: =CA11+CC11 -> 716 | CG11: =CB11+CD11+CE11 -> 0 | CH11: =CH10+AR11 -> 0 | CI11: =CI10+AS11 -> 0
A12: =MONTH(B12)&RIGHT(YEAR(B12),2) -> 109 | B12: 39822 | AT12: =AX12+AY12 -> 0 | AU12: =AZ12+BA12+BB12 -> 0 | AV12: =BC12+BD12 -> 0 | AW12: =BE12+BF12+BG12 -> 0 | BY12: =BT12+BV12 -> 0 | BZ12: =BU12+BW12+BX12 -> 0 | CA12: =CA11+BO12-BT12 -> 716 | CB12: =CB11+BP12-BU12 -> 0 | CC12: =CC11+BQ12-BV12 -> 0 | CD12: =CD11+BR12-BW12 -> 0 | CE12: =CE11+BS12-BX12 -> 0 | CF12: =CA12+CC12 -> 716 | CG12: =CB12+CD12+CE12 -> 0 | CH12: =CH11+AR12 -> 0 | CI12: =CI11+AS12 -> 0
A13: =MONTH(B13)&RIGHT(YEAR(B13),2) -> 109 | B13: 39823 | AT13: =AX13+AY13 -> 0 | AU13: =AZ13+BA13+BB13 -> 0 | AV13: =BC13+BD13 -> 0 | AW13: =BE13+BF13+BG13 -> 0 | BY13: =BT13+BV13 -> 0 | BZ13: =BU13+BW13+BX13 -> 0 | CA13: =CA12+BO13-BT13 -> 716 | CB13: =CB12+BP13-BU13 -> 0 | CC13: =CC12+BQ13-BV13 -> 0 | CD13: =CD12+BR13-BW13 -> 0 | CE13: =CE12+BS13-BX13 -> 0 | CF13: =CA13+CC13 -> 716 | CG13: =CB13+CD13+CE13 -> 0 | CH13: =CH12+AR13 -> 0 | CI13: =CI12+AS13 -> 0
A14: =MONTH(B14)&RIGHT(YEAR(B14),2) -> 109 | B14: 39824 | AT14: =AX14+AY14 -> 0 | AU14: =AZ14+BA14+BB14 -> 0 | AV14: =BC14+BD14 -> 0 | AW14: =BE14+BF14+BG14 -> 0 | BY14: =BT14+BV14 -> 0 | BZ14: =BU14+BW14+BX14 -> 0 | CA14: =CA13+BO14-BT14 -> 716 | CB14: =CB13+BP14-BU14 -> 0 | CC14: =CC13+BQ14-BV14 -> 0 | CD14: =CD13+BR14-BW14 -> 0 | CE14: =CE13+BS14-BX14 -> 0 | CF14: =CA14+CC14 -> 716 | CG14: =CB14+CD14+CE14 -> 0 | CH14: =CH13+AR14 -> 0 | CI14: =CI13+AS14 -> 0
A15: =MONTH(B15)&RIGHT(YEAR(B15),2) -> 109 | B15: 39825 | AT15: =AX15+AY15 -> 0 | AU15: =AZ15+BA15+BB15 -> 0 | AV15: =BC15+BD15 -> 0 | AW15: =BE15+BF15+BG15 -> 0 | BY15: =BT15+BV15 -> 0 | BZ15: =BU15+BW15+BX15 -> 0 | CA15: =CA14+BO15-BT15 -> 716 | CB15: =CB14+BP15-BU15 -> 0 | CC15: =CC14+BQ15-BV15 -> 0 | CD15: =CD14+BR15-BW15 -> 0 | CE15: =CE14+BS15-BX15 -> 0 | CF15: =CA15+CC15 -> 716 | CG15: =CB15+CD15+CE15 -> 0 | CH15: =CH14+AR15 -> 0 | CI15: =CI14+AS15 -> 0
A16: =MONTH(B16)&RIGHT(YEAR(B16),2) -> 109 | B16: 39826 | AT16: =AX16+AY16 -> 0 | AU16: =AZ16+BA16+BB16 -> 0 | AV16: =BC16+BD16 -> 0 | AW16: =BE16+BF16+BG16 -> 0 | BY16: =BT16+BV16 -> 0 | BZ16: =BU16+BW16+BX16 -> 0 | CA16: =CA15+BO16-BT16 -> 716 | CB16: =CB15+BP16-BU16 -> 0 | CC16: =CC15+BQ16-BV16 -> 0 | CD16: =CD15+BR16-BW16 -> 0 | CE16: =CE15+BS16-BX16 -> 0 | CF16: =CA16+CC16 -> 716 | CG16: =CB16+CD16+CE16 -> 0 | CH16: =CH15+AR16 -> 0 | CI16: =CI15+AS16 -> 0
... A35: =MONTH(B35)&RIGHT(YEAR(B35),2) -> 209 | B35: 39845 | AT35: =AX35+AY35 -> 0 | AU35: =AZ35+BA35+BB35 -> 0 | AV35: =BC35+BD35 -> 0 | AW35: =BE35+BF35+BG35 -> 0 | BY35: =BT35+BV35 -> 0 | BZ35: =BU35+BW35+BX35 -> 0 | CA35: =CA34+BO35-BT35 -> 716 | CB35: =CB34+BP35-BU35 -> 0 | CC35: =CC34+BQ35-BV35 -> 0 | CD35: =CD34+BR35-BW35 -> 0 | CE35: =CE34+BS35-BX35 -> 0 | CF35: =CA35+CC35 -> 716 | CG35: =CB35+CD35+CE35 -> 0 | CH35: =CH34+AR35 -> 0 | CI35: =CI34+AS35 -> 0
A36: =MONTH(B36)&RIGHT(YEAR(B36),2) -> 209 | B36: 39846 | AT36: =AX36+AY36 -> 0 | AU36: =AZ36+BA36+BB36 -> 0 | AV36: =BC36+BD36 -> 0 | AW36: =BE36+BF36+BG36 -> 0 | BT36: 11 | BY36: =BT36+BV36 -> 11 | BZ36: =BU36+BW36+BX36 -> 0 | CA36: =CA35+BO36-BT36 -> 705 | CB36: =CB35+BP36-BU36 -> 0 | CC36: =CC35+BQ36-BV36 -> 0 | CD36: =CD35+BR36-BW36 -> 0 | CE36: =CE35+BS36-BX36 -> 0 | CF36: =CA36+CC36 -> 705 | CG36: =CB36+CD36+CE36 -> 0 | CH36: =CH35+AR36 -> 0 | CI36: =CI35+AS36 -> 0
A37: =MONTH(B37)&RIGHT(YEAR(B37),2) -> 209 | B37: 39847 | AT37: =AX37+AY37 -> 0 | AU37: =AZ37+BA37+BB37 -> 0 | AV37: =BC37+BD37 -> 0 | AW37: =BE37+BF37+BG37 -> 0 | BT37: 16 | BY37: =BT37+BV37 -> 16 | BZ37: =BU37+BW37+BX37 -> 0 | CA37: =CA36+BO37-BT37 -> 689 | CB37: =CB36+BP37-BU37 -> 0 | CC37: =CC36+BQ37-BV37 -> 0 | CD37: =CD36+BR37-BW37 -> 0 | CE37: =CE36+BS37-BX37 -> 0 | CF37: =CA37+CC37 -> 689 | CG37: =CB37+CD37+CE37 -> 0 | CH37: =CH36+AR37 -> 0 | CI37: =CI36+AS37 -> 0
A38: =MONTH(B38)&RIGHT(YEAR(B38),2) -> 209 | B38: 39848 | AT38: =AX38+AY38 -> 0 | AU38: =AZ38+BA38+BB38 -> 0 | AV38: =BC38+BD38 -> 0 | AW38: =BE38+BF38+BG38 -> 0 | BT38: 3 | BY38: =BT38+BV38 -> 3 | BZ38: =BU38+BW38+BX38 -> 0 | CA38: =CA37+BO38-BT38 -> 686 | CB38: =CB37+BP38-BU38 -> 0 | CC38: =CC37+BQ38-BV38 -> 0 | CD38: =CD37+BR38-BW38 -> 0 | CE38: =CE37+BS38-BX38 -> 0 | CF38: =CA38+CC38 -> 686 | CG38: =CB38+CD38+CE38 -> 0 | CH38: =CH37+AR38 -> 0 | CI38: =CI37+AS38 -> 0
A39: =MONTH(B39)&RIGHT(YEAR(B39),2) -> 209 | B39: 39849 | AT39: =AX39+AY39 -> 0 | AU39: =AZ39+BA39+BB39 -> 0 | AV39: =BC39+BD39 -> 0 | AW39: =BE39+BF39+BG39 -> 0 | BY39: =BT39+BV39 -> 0 | BZ39: =BU39+BW39+BX39 -> 0 | CA39: =CA38+BO39-BT39 -> 686 | CB39: =CB38+BP39-BU39 -> 0 | CC39: =CC38+BQ39-BV39 -> 0 | CD39: =CD38+BR39-BW39 -> 0 | CE39: =CE38+BS39-BX39 -> 0 | CF39: =CA39+CC39 -> 686 | CG39: =CB39+CD39+CE39 -> 0 | CH39: =CH38+AR39 -> 0 | CI39: =CI38+AS39 -> 0
A40: =MONTH(B40)&RIGHT(YEAR(B40),2) -> 209 | B40: 39850 | AT40: =AX40+AY40 -> 0 | AU40: =AZ40+BA40+BB40 -> 0 | AV40: =BC40+BD40 -> 0 | AW40: =BE40+BF40+BG40 -> 0 | BT40: 1 | BY40: =BT40+BV40 -> 1 | BZ40: =BU40+BW40+BX40 -> 0 | CA40: =CA39+BO40-BT40 -> 685 | CB40: =CB39+BP40-BU40 -> 0 | CC40: =CC39+BQ40-BV40 -> 0 | CD40: =CD39+BR40-BW40 -> 0 | CE40: =CE39+BS40-BX40 -> 0 | CF40: =CA40+CC40 -> 685 | CG40: =CB40+CD40+CE40 -> 0 | CH40: =CH39+AR40 -> 0 | CI40: =CI39+AS40 -> 0
A41: =MONTH(B41)&RIGHT(YEAR(B41),2) -> 209 | B41: 39851 | AT41: =AX41+AY41 -> 0 | AU41: =AZ41+BA41+BB41 -> 0 | AV41: =BC41+BD41 -> 0 | AW41: =BE41+BF41+BG41 -> 0 | BY41: =BT41+BV41 -> 0 | BZ41: =BU41+BW41+BX41 -> 0 | CA41: =CA40+BO41-BT41 -> 685 | CB41: =CB40+BP41-BU41 -> 0 | CC41: =CC40+BQ41-BV41 -> 0 | CD41: =CD40+BR41-BW41 -> 0 | CE41: =CE40+BS41-BX41 -> 0 | CF41: =CA41+CC41 -> 685 | CG41: =CB41+CD41+CE41 -> 0 | CH41: =CH40+AR41 -> 0 | CI41: =CI40+AS41 -> 0
A42: =MONTH(B42)&RIGHT(YEAR(B42),2) -> 209 | B42: 39852 | AT42: =AX42+AY42 -> 0 | AU42: =AZ42+BA42+BB42 -> 0 | AV42: =BC42+BD42 -> 0 | AW42: =BE42+BF42+BG42 -> 0 | BY42: =BT42+BV42 -> 0 | BZ42: =BU42+BW42+BX42 -> 0 | CA42: =CA41+BO42-BT42 -> 685 | CB42: =CB41+BP42-BU42 -> 0 | CC42: =CC41+BQ42-BV42 -> 0 | CD42: =CD41+BR42-BW42 -> 0 | CE42: =CE41+BS42-BX42 -> 0 | CF42: =CA42+CC42 -> 685 | CG42: =CB42+CD42+CE42 -> 0 | CH42: =CH41+AR42 -> 0 | CI42: =CI41+AS42 -> 0
